BEGIN:VCALENDAR
PRODID:-//WikiCFP//AnkitaJNU 1.0//EN
VERSION:2.0
CALSCALE:GREGORIAN
BEGIN:VEVENT
DTSTAMP:20260421T082940Z
DTSTART;VALUE=DATE:20151114
DTEND;VALUE=DATE:20151118
SUMMARY:ICDM 2015
DESCRIPTION:International Conference on Data Mining
URL:http://www.wikicfp.com/cfp/servlet/event.showcfp?eventid=42705&copyow
 nerid=76595
UID:cfp525139-E@wikicfp.com
END:VEVENT
BEGIN:VEVENT
DTSTAMP:20260421T082940Z
DTSTART;VALUE=DATE:20150603
SUMMARY:ICDM 2015 Deadline
DESCRIPTION:International Conference on Data Mining
URL:http://www.wikicfp.com/cfp/servlet/event.showcfp?eventid=42705&copyow
 nerid=76595
UID:cfp525139-D@wikicfp.com
END:VEVENT
BEGIN:VEVENT
DTSTAMP:20260421T082940Z
DTSTART;VALUE=DATE:20151221
DTEND;VALUE=DATE:20151223
SUMMARY:ITACT 2015
DESCRIPTION:IEEE International Conference on Trends in Automation\, Commu
 nication and Computing Technologies
URL:http://www.wikicfp.com/cfp/servlet/event.showcfp?eventid=45660&copyow
 nerid=76595
UID:cfp525137-E@wikicfp.com
END:VEVENT
BEGIN:VEVENT
DTSTAMP:20260421T082940Z
DTSTART;VALUE=DATE:20150606
SUMMARY:ITACT 2015 Abstract Due
DESCRIPTION:IEEE International Conference on Trends in Automation\, Commu
 nication and Computing Technologies
URL:http://www.wikicfp.com/cfp/servlet/event.showcfp?eventid=45660&copyow
 nerid=76595
UID:cfp525137-A@wikicfp.com
END:VEVENT
BEGIN:VEVENT
DTSTAMP:20260421T082940Z
DTSTART;VALUE=DATE:20150715
SUMMARY:ITACT 2015 Deadline
DESCRIPTION:IEEE International Conference on Trends in Automation\, Commu
 nication and Computing Technologies
URL:http://www.wikicfp.com/cfp/servlet/event.showcfp?eventid=45660&copyow
 nerid=76595
UID:cfp525137-D@wikicfp.com
END:VEVENT
BEGIN:VEVENT
DTSTAMP:20260421T082940Z
DTSTART;VALUE=DATE:20150709
SUMMARY:ITACT 2015 Notification Due
DESCRIPTION:IEEE International Conference on Trends in Automation\, Commu
 nication and Computing Technologies
URL:http://www.wikicfp.com/cfp/servlet/event.showcfp?eventid=45660&copyow
 nerid=76595
UID:cfp525137-N@wikicfp.com
END:VEVENT
BEGIN:VEVENT
DTSTAMP:20260421T082940Z
DTSTART;VALUE=DATE:20150728
SUMMARY:ITACT 2015 Final Version Due
DESCRIPTION:IEEE International Conference on Trends in Automation\, Commu
 nication and Computing Technologies
URL:http://www.wikicfp.com/cfp/servlet/event.showcfp?eventid=45660&copyow
 nerid=76595
UID:cfp525137-N@wikicfp.com
END:VEVENT
BEGIN:VEVENT
DTSTAMP:20260421T082940Z
DTSTART;VALUE=DATE:20150918
DTEND;VALUE=DATE:20150921
SUMMARY:ICDMMIPA 2015
DESCRIPTION:International Conference on Data Mining\, Multimedia\, Image 
 Processing and their Applications (ICDMMIPA2015)
URL:http://www.wikicfp.com/cfp/servlet/event.showcfp?eventid=39409&copyow
 nerid=76595
UID:cfp525144-E@wikicfp.com
END:VEVENT
BEGIN:VEVENT
DTSTAMP:20260421T082940Z
DTSTART;VALUE=DATE:20150818
SUMMARY:ICDMMIPA 2015 Deadline
DESCRIPTION:International Conference on Data Mining\, Multimedia\, Image 
 Processing and their Applications (ICDMMIPA2015)
URL:http://www.wikicfp.com/cfp/servlet/event.showcfp?eventid=39409&copyow
 nerid=76595
UID:cfp525144-D@wikicfp.com
END:VEVENT
BEGIN:VEVENT
DTSTAMP:20260421T082940Z
DTSTART;VALUE=DATE:20150905
SUMMARY:ICDMMIPA 2015 Final Version Due
DESCRIPTION:International Conference on Data Mining\, Multimedia\, Image 
 Processing and their Applications (ICDMMIPA2015)
URL:http://www.wikicfp.com/cfp/servlet/event.showcfp?eventid=39409&copyow
 nerid=76595
UID:cfp525144-N@wikicfp.com
END:VEVENT
END:VCALENDAR
