BEGIN:VCALENDAR
PRODID:-//WikiCFP//janhaase 1.0//EN
VERSION:2.0
CALSCALE:GREGORIAN
BEGIN:VEVENT
DTSTAMP:20260421T234315Z
DTSTART;VALUE=DATE:20150309
DTEND;VALUE=DATE:20150314
SUMMARY:DATE 2015
DESCRIPTION:Design\, Automation\, and Test in Europe
URL:http://www.wikicfp.com/cfp/servlet/event.showcfp?eventid=37485&copyow
 nerid=76348
UID:cfp531562-E@wikicfp.com
END:VEVENT
BEGIN:VEVENT
DTSTAMP:20260421T234315Z
DTSTART;VALUE=DATE:20140914
SUMMARY:DATE 2015 Deadline
DESCRIPTION:Design\, Automation\, and Test in Europe
URL:http://www.wikicfp.com/cfp/servlet/event.showcfp?eventid=37485&copyow
 nerid=76348
UID:cfp531562-D@wikicfp.com
END:VEVENT
BEGIN:VEVENT
DTSTAMP:20260421T234315Z
DTSTART;VALUE=DATE:20150222
DTEND;VALUE=DATE:20150225
SUMMARY:FPGA 2015
DESCRIPTION:Field Programmable Gate Arrays
URL:http://www.wikicfp.com/cfp/servlet/event.showcfp?eventid=40314&copyow
 nerid=76348
UID:cfp531556-E@wikicfp.com
END:VEVENT
BEGIN:VEVENT
DTSTAMP:20260421T234315Z
DTSTART;VALUE=DATE:20140922
SUMMARY:FPGA 2015 Deadline
DESCRIPTION:Field Programmable Gate Arrays
URL:http://www.wikicfp.com/cfp/servlet/event.showcfp?eventid=40314&copyow
 nerid=76348
UID:cfp531556-D@wikicfp.com
END:VEVENT
BEGIN:VEVENT
DTSTAMP:20260421T234315Z
DTSTART;VALUE=DATE:20150108
DTEND;VALUE=DATE:20150111
SUMMARY:VLSI-SATA 2015
DESCRIPTION:International Conference on VLSI Systems\, Architecture\, Tec
 hnology and Applications
URL:http://www.wikicfp.com/cfp/servlet/event.showcfp?eventid=38648&copyow
 nerid=76348
UID:cfp531559-E@wikicfp.com
END:VEVENT
BEGIN:VEVENT
DTSTAMP:20260421T234315Z
DTSTART;VALUE=DATE:20140929
SUMMARY:VLSI-SATA 2015 Deadline
DESCRIPTION:International Conference on VLSI Systems\, Architecture\, Tec
 hnology and Applications
URL:http://www.wikicfp.com/cfp/servlet/event.showcfp?eventid=38648&copyow
 nerid=76348
UID:cfp531559-D@wikicfp.com
END:VEVENT
BEGIN:VEVENT
DTSTAMP:20260421T234315Z
DTSTART;VALUE=DATE:20141025
SUMMARY:VLSI-SATA 2015 Notification Due
DESCRIPTION:International Conference on VLSI Systems\, Architecture\, Tec
 hnology and Applications
URL:http://www.wikicfp.com/cfp/servlet/event.showcfp?eventid=38648&copyow
 nerid=76348
UID:cfp531559-N@wikicfp.com
END:VEVENT
BEGIN:VEVENT
DTSTAMP:20260421T234315Z
DTSTART;VALUE=DATE:20141109
SUMMARY:VLSI-SATA 2015 Final Version Due
DESCRIPTION:International Conference on VLSI Systems\, Architecture\, Tec
 hnology and Applications
URL:http://www.wikicfp.com/cfp/servlet/event.showcfp?eventid=38648&copyow
 nerid=76348
UID:cfp531559-N@wikicfp.com
END:VEVENT
BEGIN:VEVENT
DTSTAMP:20260421T234315Z
DTSTART;VALUE=DATE:20150324
DTEND;VALUE=DATE:20150328
SUMMARY:ARCS 2015
DESCRIPTION: 28th International Conference on Architecture of Computing S
 ystems 
URL:http://www.wikicfp.com/cfp/servlet/event.showcfp?eventid=39570&copyow
 nerid=76348
UID:cfp531560-E@wikicfp.com
END:VEVENT
BEGIN:VEVENT
DTSTAMP:20260421T234315Z
DTSTART;VALUE=DATE:20141006
SUMMARY:ARCS 2015 Deadline
DESCRIPTION: 28th International Conference on Architecture of Computing S
 ystems 
URL:http://www.wikicfp.com/cfp/servlet/event.showcfp?eventid=39570&copyow
 nerid=76348
UID:cfp531560-D@wikicfp.com
END:VEVENT
BEGIN:VEVENT
DTSTAMP:20260421T234315Z
DTSTART;VALUE=DATE:20141201
SUMMARY:ARCS 2015 Notification Due
DESCRIPTION: 28th International Conference on Architecture of Computing S
 ystems 
URL:http://www.wikicfp.com/cfp/servlet/event.showcfp?eventid=39570&copyow
 nerid=76348
UID:cfp531560-N@wikicfp.com
END:VEVENT
BEGIN:VEVENT
DTSTAMP:20260421T234315Z
DTSTART;VALUE=DATE:20141215
SUMMARY:ARCS 2015 Final Version Due
DESCRIPTION: 28th International Conference on Architecture of Computing S
 ystems 
URL:http://www.wikicfp.com/cfp/servlet/event.showcfp?eventid=39570&copyow
 nerid=76348
UID:cfp531560-N@wikicfp.com
END:VEVENT
BEGIN:VEVENT
DTSTAMP:20260421T234315Z
DTSTART;VALUE=DATE:20150414
DTEND;VALUE=DATE:20150418
SUMMARY:ARC 2015
DESCRIPTION:11th International Symposium on Applied Reconfigurable Comput
 ing
URL:http://www.wikicfp.com/cfp/servlet/event.showcfp?eventid=39766&copyow
 nerid=76348
UID:cfp531553-E@wikicfp.com
END:VEVENT
BEGIN:VEVENT
DTSTAMP:20260421T234315Z
DTSTART;VALUE=DATE:20141025
SUMMARY:ARC 2015 Deadline
DESCRIPTION:11th International Symposium on Applied Reconfigurable Comput
 ing
URL:http://www.wikicfp.com/cfp/servlet/event.showcfp?eventid=39766&copyow
 nerid=76348
UID:cfp531553-D@wikicfp.com
END:VEVENT
BEGIN:VEVENT
DTSTAMP:20260421T234315Z
DTSTART;VALUE=DATE:20141206
SUMMARY:ARC 2015 Notification Due
DESCRIPTION:11th International Symposium on Applied Reconfigurable Comput
 ing
URL:http://www.wikicfp.com/cfp/servlet/event.showcfp?eventid=39766&copyow
 nerid=76348
UID:cfp531553-N@wikicfp.com
END:VEVENT
BEGIN:VEVENT
DTSTAMP:20260421T234315Z
DTSTART;VALUE=DATE:20150103
SUMMARY:ARC 2015 Final Version Due
DESCRIPTION:11th International Symposium on Applied Reconfigurable Comput
 ing
URL:http://www.wikicfp.com/cfp/servlet/event.showcfp?eventid=39766&copyow
 nerid=76348
UID:cfp531553-N@wikicfp.com
END:VEVENT
BEGIN:VEVENT
DTSTAMP:20260421T234315Z
DTSTART;VALUE=DATE:20150327
DTEND;VALUE=DATE:20150328
SUMMARY:DAPHNE 2015
DESCRIPTION:International Workshop on Data (Co-)Processing on Heterogeneo
 us Hardware 
URL:http://www.wikicfp.com/cfp/servlet/event.showcfp?eventid=41137&copyow
 nerid=76348
UID:cfp531558-E@wikicfp.com
END:VEVENT
BEGIN:VEVENT
DTSTAMP:20260421T234315Z
DTSTART;VALUE=DATE:20141222
SUMMARY:DAPHNE 2015 Deadline
DESCRIPTION:International Workshop on Data (Co-)Processing on Heterogeneo
 us Hardware 
URL:http://www.wikicfp.com/cfp/servlet/event.showcfp?eventid=41137&copyow
 nerid=76348
UID:cfp531558-D@wikicfp.com
END:VEVENT
BEGIN:VEVENT
DTSTAMP:20260421T234315Z
DTSTART;VALUE=DATE:20150122
SUMMARY:DAPHNE 2015 Notification Due
DESCRIPTION:International Workshop on Data (Co-)Processing on Heterogeneo
 us Hardware 
URL:http://www.wikicfp.com/cfp/servlet/event.showcfp?eventid=41137&copyow
 nerid=76348
UID:cfp531558-N@wikicfp.com
END:VEVENT
BEGIN:VEVENT
DTSTAMP:20260421T234315Z
DTSTART;VALUE=DATE:20150129
SUMMARY:DAPHNE 2015 Final Version Due
DESCRIPTION:International Workshop on Data (Co-)Processing on Heterogeneo
 us Hardware 
URL:http://www.wikicfp.com/cfp/servlet/event.showcfp?eventid=41137&copyow
 nerid=76348
UID:cfp531558-N@wikicfp.com
END:VEVENT
BEGIN:VEVENT
DTSTAMP:20260421T234315Z
DTSTART;VALUE=DATE:20150601
DTEND;VALUE=DATE:20150603
SUMMARY:HEART 2015
DESCRIPTION:International Symposium on Highly Efficient Accelerators and 
 Reconfigurable Technologies
URL:http://www.wikicfp.com/cfp/servlet/event.showcfp?eventid=41925&copyow
 nerid=76348
UID:cfp531552-E@wikicfp.com
END:VEVENT
BEGIN:VEVENT
DTSTAMP:20260421T234315Z
DTSTART;VALUE=DATE:20150306
SUMMARY:HEART 2015 Deadline
DESCRIPTION:International Symposium on Highly Efficient Accelerators and 
 Reconfigurable Technologies
URL:http://www.wikicfp.com/cfp/servlet/event.showcfp?eventid=41925&copyow
 nerid=76348
UID:cfp531552-D@wikicfp.com
END:VEVENT
BEGIN:VEVENT
DTSTAMP:20260421T234315Z
DTSTART;VALUE=DATE:20150401
SUMMARY:HEART 2015 Notification Due
DESCRIPTION:International Symposium on Highly Efficient Accelerators and 
 Reconfigurable Technologies
URL:http://www.wikicfp.com/cfp/servlet/event.showcfp?eventid=41925&copyow
 nerid=76348
UID:cfp531552-N@wikicfp.com
END:VEVENT
BEGIN:VEVENT
DTSTAMP:20260421T234315Z
DTSTART;VALUE=DATE:20150415
SUMMARY:HEART 2015 Final Version Due
DESCRIPTION:International Symposium on Highly Efficient Accelerators and 
 Reconfigurable Technologies
URL:http://www.wikicfp.com/cfp/servlet/event.showcfp?eventid=41925&copyow
 nerid=76348
UID:cfp531552-N@wikicfp.com
END:VEVENT
BEGIN:VEVENT
DTSTAMP:20260421T234315Z
DTSTART;VALUE=DATE:20150902
DTEND;VALUE=DATE:20150905
SUMMARY:FPL 2015
DESCRIPTION:International Conference on Field-programmable Logic and Appl
 ications
URL:http://www.wikicfp.com/cfp/servlet/event.showcfp?eventid=43906&copyow
 nerid=76348
UID:cfp531551-E@wikicfp.com
END:VEVENT
BEGIN:VEVENT
DTSTAMP:20260421T234315Z
DTSTART;VALUE=DATE:20150327
SUMMARY:FPL 2015 Abstract Due
DESCRIPTION:International Conference on Field-programmable Logic and Appl
 ications
URL:http://www.wikicfp.com/cfp/servlet/event.showcfp?eventid=43906&copyow
 nerid=76348
UID:cfp531551-A@wikicfp.com
END:VEVENT
BEGIN:VEVENT
DTSTAMP:20260421T234315Z
DTSTART;VALUE=DATE:20150403
SUMMARY:FPL 2015 Deadline
DESCRIPTION:International Conference on Field-programmable Logic and Appl
 ications
URL:http://www.wikicfp.com/cfp/servlet/event.showcfp?eventid=43906&copyow
 nerid=76348
UID:cfp531551-D@wikicfp.com
END:VEVENT
BEGIN:VEVENT
DTSTAMP:20260421T234315Z
DTSTART;VALUE=DATE:20150605
SUMMARY:FPL 2015 Notification Due
DESCRIPTION:International Conference on Field-programmable Logic and Appl
 ications
URL:http://www.wikicfp.com/cfp/servlet/event.showcfp?eventid=43906&copyow
 nerid=76348
UID:cfp531551-N@wikicfp.com
END:VEVENT
BEGIN:VEVENT
DTSTAMP:20260421T234315Z
DTSTART;VALUE=DATE:20150626
SUMMARY:FPL 2015 Final Version Due
DESCRIPTION:International Conference on Field-programmable Logic and Appl
 ications
URL:http://www.wikicfp.com/cfp/servlet/event.showcfp?eventid=43906&copyow
 nerid=76348
UID:cfp531551-N@wikicfp.com
END:VEVENT
BEGIN:VEVENT
DTSTAMP:20260421T234315Z
DTSTART;VALUE=DATE:20151109
DTEND;VALUE=DATE:20151113
SUMMARY:IECON 2015
DESCRIPTION:41st Annual Conference of the IEEE Industrial Electronics Soc
 iety
URL:http://www.wikicfp.com/cfp/servlet/event.showcfp?eventid=38201&copyow
 nerid=76348
UID:cfp531561-E@wikicfp.com
END:VEVENT
BEGIN:VEVENT
DTSTAMP:20260421T234315Z
DTSTART;VALUE=DATE:20150415
SUMMARY:IECON 2015 Deadline
DESCRIPTION:41st Annual Conference of the IEEE Industrial Electronics Soc
 iety
URL:http://www.wikicfp.com/cfp/servlet/event.showcfp?eventid=38201&copyow
 nerid=76348
UID:cfp531561-D@wikicfp.com
END:VEVENT
BEGIN:VEVENT
DTSTAMP:20260421T234315Z
DTSTART;VALUE=DATE:20150615
SUMMARY:IECON 2015 Notification Due
DESCRIPTION:41st Annual Conference of the IEEE Industrial Electronics Soc
 iety
URL:http://www.wikicfp.com/cfp/servlet/event.showcfp?eventid=38201&copyow
 nerid=76348
UID:cfp531561-N@wikicfp.com
END:VEVENT
BEGIN:VEVENT
DTSTAMP:20260421T234315Z
DTSTART;VALUE=DATE:20150815
SUMMARY:IECON 2015 Final Version Due
DESCRIPTION:41st Annual Conference of the IEEE Industrial Electronics Soc
 iety
URL:http://www.wikicfp.com/cfp/servlet/event.showcfp?eventid=38201&copyow
 nerid=76348
UID:cfp531561-N@wikicfp.com
END:VEVENT
BEGIN:VEVENT
DTSTAMP:20260421T234315Z
DTSTART;VALUE=DATE:20151109
DTEND;VALUE=DATE:20151113
SUMMARY:IECON SS Building Automation 2015
DESCRIPTION:IECON 2015 - special session on Building Automation â Solvi
 ng the Complexity Challenges
URL:http://www.wikicfp.com/cfp/servlet/event.showcfp?eventid=44896&copyow
 nerid=76348
UID:cfp516477-E@wikicfp.com
END:VEVENT
BEGIN:VEVENT
DTSTAMP:20260421T234315Z
DTSTART;VALUE=DATE:20150524
SUMMARY:IECON SS Building Automation 2015 Deadline
DESCRIPTION:IECON 2015 - special session on Building Automation â Solvi
 ng the Complexity Challenges
URL:http://www.wikicfp.com/cfp/servlet/event.showcfp?eventid=44896&copyow
 nerid=76348
UID:cfp516477-D@wikicfp.com
END:VEVENT
BEGIN:VEVENT
DTSTAMP:20260421T234315Z
DTSTART;VALUE=DATE:20150731
SUMMARY:IECON SS Building Automation 2015 Notification Due
DESCRIPTION:IECON 2015 - special session on Building Automation â Solvi
 ng the Complexity Challenges
URL:http://www.wikicfp.com/cfp/servlet/event.showcfp?eventid=44896&copyow
 nerid=76348
UID:cfp516477-N@wikicfp.com
END:VEVENT
BEGIN:VEVENT
DTSTAMP:20260421T234315Z
DTSTART;VALUE=DATE:20150831
SUMMARY:IECON SS Building Automation 2015 Final Version Due
DESCRIPTION:IECON 2015 - special session on Building Automation â Solvi
 ng the Complexity Challenges
URL:http://www.wikicfp.com/cfp/servlet/event.showcfp?eventid=44896&copyow
 nerid=76348
UID:cfp516477-N@wikicfp.com
END:VEVENT
BEGIN:VEVENT
DTSTAMP:20260421T234315Z
DTSTART;VALUE=DATE:20150903
DTEND;VALUE=DATE:20150905
SUMMARY:FPGA4GPC 2015
DESCRIPTION:FPGA Reconfiguration for General-Purpose Computing
URL:http://www.wikicfp.com/cfp/servlet/event.showcfp?eventid=44462&copyow
 nerid=76348
UID:cfp516476-E@wikicfp.com
END:VEVENT
BEGIN:VEVENT
DTSTAMP:20260421T234315Z
DTSTART;VALUE=DATE:20150531
SUMMARY:FPGA4GPC 2015 Deadline
DESCRIPTION:FPGA Reconfiguration for General-Purpose Computing
URL:http://www.wikicfp.com/cfp/servlet/event.showcfp?eventid=44462&copyow
 nerid=76348
UID:cfp516476-D@wikicfp.com
END:VEVENT
BEGIN:VEVENT
DTSTAMP:20260421T234315Z
DTSTART;VALUE=DATE:20150630
SUMMARY:FPGA4GPC 2015 Notification Due
DESCRIPTION:FPGA Reconfiguration for General-Purpose Computing
URL:http://www.wikicfp.com/cfp/servlet/event.showcfp?eventid=44462&copyow
 nerid=76348
UID:cfp516476-N@wikicfp.com
END:VEVENT
BEGIN:VEVENT
DTSTAMP:20260421T234315Z
DTSTART;VALUE=DATE:20150715
SUMMARY:FPGA4GPC 2015 Final Version Due
DESCRIPTION:FPGA Reconfiguration for General-Purpose Computing
URL:http://www.wikicfp.com/cfp/servlet/event.showcfp?eventid=44462&copyow
 nerid=76348
UID:cfp516476-N@wikicfp.com
END:VEVENT
BEGIN:VEVENT
DTSTAMP:20260421T234315Z
DTSTART;VALUE=DATE:20150901
DTEND;VALUE=DATE:20150905
SUMMARY:ParaFPGA 2015
DESCRIPTION:Parallel Computing with FPGAs
URL:http://www.wikicfp.com/cfp/servlet/event.showcfp?eventid=44425&copyow
 nerid=76348
UID:cfp531554-E@wikicfp.com
END:VEVENT
BEGIN:VEVENT
DTSTAMP:20260421T234315Z
DTSTART;VALUE=DATE:20150601
SUMMARY:ParaFPGA 2015 Deadline
DESCRIPTION:Parallel Computing with FPGAs
URL:http://www.wikicfp.com/cfp/servlet/event.showcfp?eventid=44425&copyow
 nerid=76348
UID:cfp531554-D@wikicfp.com
END:VEVENT
BEGIN:VEVENT
DTSTAMP:20260421T234315Z
DTSTART;VALUE=DATE:20150715
SUMMARY:ParaFPGA 2015 Notification Due
DESCRIPTION:Parallel Computing with FPGAs
URL:http://www.wikicfp.com/cfp/servlet/event.showcfp?eventid=44425&copyow
 nerid=76348
UID:cfp531554-N@wikicfp.com
END:VEVENT
BEGIN:VEVENT
DTSTAMP:20260421T234315Z
DTSTART;VALUE=DATE:20150815
SUMMARY:ParaFPGA 2015 Final Version Due
DESCRIPTION:Parallel Computing with FPGAs
URL:http://www.wikicfp.com/cfp/servlet/event.showcfp?eventid=44425&copyow
 nerid=76348
UID:cfp531554-N@wikicfp.com
END:VEVENT
BEGIN:VEVENT
DTSTAMP:20260421T234315Z
DTSTART;VALUE=DATE:20151207
DTEND;VALUE=DATE:20151210
SUMMARY:FPT 2015
DESCRIPTION:2015 International Conference on Field Programmable Technolog
 y 
URL:http://www.wikicfp.com/cfp/servlet/event.showcfp?eventid=45991&copyow
 nerid=76348
UID:cfp531555-E@wikicfp.com
END:VEVENT
BEGIN:VEVENT
DTSTAMP:20260421T234315Z
DTSTART;VALUE=DATE:20150705
SUMMARY:FPT 2015 Deadline
DESCRIPTION:2015 International Conference on Field Programmable Technolog
 y 
URL:http://www.wikicfp.com/cfp/servlet/event.showcfp?eventid=45991&copyow
 nerid=76348
UID:cfp531555-D@wikicfp.com
END:VEVENT
BEGIN:VEVENT
DTSTAMP:20260421T234315Z
DTSTART;VALUE=DATE:20150907
SUMMARY:FPT 2015 Notification Due
DESCRIPTION:2015 International Conference on Field Programmable Technolog
 y 
URL:http://www.wikicfp.com/cfp/servlet/event.showcfp?eventid=45991&copyow
 nerid=76348
UID:cfp531555-N@wikicfp.com
END:VEVENT
BEGIN:VEVENT
DTSTAMP:20260421T234315Z
DTSTART;VALUE=DATE:20151026
SUMMARY:FPT 2015 Final Version Due
DESCRIPTION:2015 International Conference on Field Programmable Technolog
 y 
URL:http://www.wikicfp.com/cfp/servlet/event.showcfp?eventid=45991&copyow
 nerid=76348
UID:cfp531555-N@wikicfp.com
END:VEVENT
BEGIN:VEVENT
DTSTAMP:20260421T234315Z
DTSTART;VALUE=DATE:20170612
DTEND;VALUE=DATE:20170614
SUMMARY:WISES 2017
DESCRIPTION:Workshop on Intelligent Solutions in Embedded Systems
URL:http://www.wikicfp.com/cfp/servlet/event.showcfp?eventid=63454&copyow
 nerid=76348
UID:cfp662582-E@wikicfp.com
END:VEVENT
BEGIN:VEVENT
DTSTAMP:20260421T234315Z
DTSTART;VALUE=DATE:20170425
SUMMARY:WISES 2017 Deadline
DESCRIPTION:Workshop on Intelligent Solutions in Embedded Systems
URL:http://www.wikicfp.com/cfp/servlet/event.showcfp?eventid=63454&copyow
 nerid=76348
UID:cfp662582-D@wikicfp.com
END:VEVENT
BEGIN:VEVENT
DTSTAMP:20260421T234315Z
DTSTART;VALUE=DATE:20180626
DTEND;VALUE=DATE:20180628
SUMMARY:FPGA4GPC 2018
DESCRIPTION:INTERNATIONAL CONFERENCE ON FPGA RECONFIGURATION FOR GENERAL-
 PURPOSE COMPUTING 2018
URL:http://www.wikicfp.com/cfp/servlet/event.showcfp?eventid=73705&copyow
 nerid=76348
UID:cfp714804-E@wikicfp.com
END:VEVENT
BEGIN:VEVENT
DTSTAMP:20260421T234315Z
DTSTART;VALUE=DATE:20180328
SUMMARY:FPGA4GPC 2018 Deadline
DESCRIPTION:INTERNATIONAL CONFERENCE ON FPGA RECONFIGURATION FOR GENERAL-
 PURPOSE COMPUTING 2018
URL:http://www.wikicfp.com/cfp/servlet/event.showcfp?eventid=73705&copyow
 nerid=76348
UID:cfp714804-D@wikicfp.com
END:VEVENT
BEGIN:VEVENT
DTSTAMP:20260421T234315Z
DTSTART;VALUE=DATE:20180428
SUMMARY:FPGA4GPC 2018 Notification Due
DESCRIPTION:INTERNATIONAL CONFERENCE ON FPGA RECONFIGURATION FOR GENERAL-
 PURPOSE COMPUTING 2018
URL:http://www.wikicfp.com/cfp/servlet/event.showcfp?eventid=73705&copyow
 nerid=76348
UID:cfp714804-N@wikicfp.com
END:VEVENT
BEGIN:VEVENT
DTSTAMP:20260421T234315Z
DTSTART;VALUE=DATE:20180528
SUMMARY:FPGA4GPC 2018 Final Version Due
DESCRIPTION:INTERNATIONAL CONFERENCE ON FPGA RECONFIGURATION FOR GENERAL-
 PURPOSE COMPUTING 2018
URL:http://www.wikicfp.com/cfp/servlet/event.showcfp?eventid=73705&copyow
 nerid=76348
UID:cfp714804-N@wikicfp.com
END:VEVENT
END:VCALENDAR
