BEGIN:VCALENDAR
PRODID:-//WikiCFP//thkdragon 1.0//EN
VERSION:2.0
CALSCALE:GREGORIAN
BEGIN:VEVENT
DTSTAMP:20260421T064432Z
DTSTART;VALUE=DATE:20100719
DTEND;VALUE=DATE:20100724
SUMMARY:ICME 2010
DESCRIPTION:2010 IEEE International Conference Multimedia & Expo
URL:http://www.wikicfp.com/cfp/servlet/event.showcfp?eventid=7015&copyown
 erid=7590
UID:cfp56407-E@wikicfp.com
END:VEVENT
BEGIN:VEVENT
DTSTAMP:20260421T064432Z
DTSTART;VALUE=DATE:20091218
SUMMARY:ICME 2010 Abstract Due
DESCRIPTION:2010 IEEE International Conference Multimedia & Expo
URL:http://www.wikicfp.com/cfp/servlet/event.showcfp?eventid=7015&copyown
 erid=7590
UID:cfp56407-A@wikicfp.com
END:VEVENT
BEGIN:VEVENT
DTSTAMP:20260421T064432Z
DTSTART;VALUE=DATE:20091231
SUMMARY:ICME 2010 Deadline
DESCRIPTION:2010 IEEE International Conference Multimedia & Expo
URL:http://www.wikicfp.com/cfp/servlet/event.showcfp?eventid=7015&copyown
 erid=7590
UID:cfp56407-D@wikicfp.com
END:VEVENT
BEGIN:VEVENT
DTSTAMP:20260421T064432Z
DTSTART;VALUE=DATE:20100331
SUMMARY:ICME 2010 Notification Due
DESCRIPTION:2010 IEEE International Conference Multimedia & Expo
URL:http://www.wikicfp.com/cfp/servlet/event.showcfp?eventid=7015&copyown
 erid=7590
UID:cfp56407-N@wikicfp.com
END:VEVENT
BEGIN:VEVENT
DTSTAMP:20260421T064432Z
DTSTART;VALUE=DATE:20100430
SUMMARY:ICME 2010 Final Version Due
DESCRIPTION:2010 IEEE International Conference Multimedia & Expo
URL:http://www.wikicfp.com/cfp/servlet/event.showcfp?eventid=7015&copyown
 erid=7590
UID:cfp56407-N@wikicfp.com
END:VEVENT
BEGIN:VEVENT
DTSTAMP:20260421T064432Z
DTSTART;VALUE=DATE:20100823
DTEND;VALUE=DATE:20100827
SUMMARY:ICPR 2010
DESCRIPTION:20th IAPR International Conference on Pattern Recognition
URL:http://www.wikicfp.com/cfp/servlet/event.showcfp?eventid=4312&copyown
 erid=7590
UID:cfp56406-E@wikicfp.com
END:VEVENT
BEGIN:VEVENT
DTSTAMP:20260421T064432Z
DTSTART;VALUE=DATE:20100115
SUMMARY:ICPR 2010 Deadline
DESCRIPTION:20th IAPR International Conference on Pattern Recognition
URL:http://www.wikicfp.com/cfp/servlet/event.showcfp?eventid=4312&copyown
 erid=7590
UID:cfp56406-D@wikicfp.com
END:VEVENT
BEGIN:VEVENT
DTSTAMP:20260421T064432Z
DTSTART;VALUE=DATE:20100330
SUMMARY:ICPR 2010 Notification Due
DESCRIPTION:20th IAPR International Conference on Pattern Recognition
URL:http://www.wikicfp.com/cfp/servlet/event.showcfp?eventid=4312&copyown
 erid=7590
UID:cfp56406-N@wikicfp.com
END:VEVENT
BEGIN:VEVENT
DTSTAMP:20260421T064432Z
DTSTART;VALUE=DATE:20100430
SUMMARY:ICPR 2010 Final Version Due
DESCRIPTION:20th IAPR International Conference on Pattern Recognition
URL:http://www.wikicfp.com/cfp/servlet/event.showcfp?eventid=4312&copyown
 erid=7590
UID:cfp56406-N@wikicfp.com
END:VEVENT
BEGIN:VEVENT
DTSTAMP:20260421T064432Z
DTSTART;VALUE=DATE:20100912
DTEND;VALUE=DATE:20100916
SUMMARY:ICIP 2010
DESCRIPTION:IEEE International Conference on Image Processing
URL:http://www.wikicfp.com/cfp/servlet/event.showcfp?eventid=1086&copyown
 erid=7590
UID:cfp56405-E@wikicfp.com
END:VEVENT
BEGIN:VEVENT
DTSTAMP:20260421T064432Z
DTSTART;VALUE=DATE:20100125
SUMMARY:ICIP 2010 Deadline
DESCRIPTION:IEEE International Conference on Image Processing
URL:http://www.wikicfp.com/cfp/servlet/event.showcfp?eventid=1086&copyown
 erid=7590
UID:cfp56405-D@wikicfp.com
END:VEVENT
BEGIN:VEVENT
DTSTAMP:20260421T064432Z
DTSTART;VALUE=DATE:20100426
SUMMARY:ICIP 2010 Notification Due
DESCRIPTION:IEEE International Conference on Image Processing
URL:http://www.wikicfp.com/cfp/servlet/event.showcfp?eventid=1086&copyown
 erid=7590
UID:cfp56405-N@wikicfp.com
END:VEVENT
BEGIN:VEVENT
DTSTAMP:20260421T064432Z
DTSTART;VALUE=DATE:20100524
SUMMARY:ICIP 2010 Final Version Due
DESCRIPTION:IEEE International Conference on Image Processing
URL:http://www.wikicfp.com/cfp/servlet/event.showcfp?eventid=1086&copyown
 erid=7590
UID:cfp56405-N@wikicfp.com
END:VEVENT
BEGIN:VEVENT
DTSTAMP:20260421T064432Z
DTSTART;VALUE=DATE:20100621
DTEND;VALUE=DATE:20100625
SUMMARY:ICML 2010
DESCRIPTION:The 27th International Conference on Machine Learning
URL:http://www.wikicfp.com/cfp/servlet/event.showcfp?eventid=6668&copyown
 erid=7590
UID:cfp56402-E@wikicfp.com
END:VEVENT
BEGIN:VEVENT
DTSTAMP:20260421T064432Z
DTSTART;VALUE=DATE:20100201
SUMMARY:ICML 2010 Deadline
DESCRIPTION:The 27th International Conference on Machine Learning
URL:http://www.wikicfp.com/cfp/servlet/event.showcfp?eventid=6668&copyown
 erid=7590
UID:cfp56402-D@wikicfp.com
END:VEVENT
BEGIN:VEVENT
DTSTAMP:20260421T064432Z
DTSTART;VALUE=DATE:20100416
SUMMARY:ICML 2010 Notification Due
DESCRIPTION:The 27th International Conference on Machine Learning
URL:http://www.wikicfp.com/cfp/servlet/event.showcfp?eventid=6668&copyown
 erid=7590
UID:cfp56402-N@wikicfp.com
END:VEVENT
BEGIN:VEVENT
DTSTAMP:20260421T064432Z
DTSTART;VALUE=DATE:20100627
DTEND;VALUE=DATE:20100630
SUMMARY:COLT 2010
DESCRIPTION:The 23rd International Conference on Learning Theory
URL:http://www.wikicfp.com/cfp/servlet/event.showcfp?eventid=6669&copyown
 erid=7590
UID:cfp56404-E@wikicfp.com
END:VEVENT
BEGIN:VEVENT
DTSTAMP:20260421T064432Z
DTSTART;VALUE=DATE:20100219
SUMMARY:COLT 2010 Deadline
DESCRIPTION:The 23rd International Conference on Learning Theory
URL:http://www.wikicfp.com/cfp/servlet/event.showcfp?eventid=6669&copyown
 erid=7590
UID:cfp56404-D@wikicfp.com
END:VEVENT
BEGIN:VEVENT
DTSTAMP:20260421T064432Z
DTSTART;VALUE=DATE:20100507
SUMMARY:COLT 2010 Notification Due
DESCRIPTION:The 23rd International Conference on Learning Theory
URL:http://www.wikicfp.com/cfp/servlet/event.showcfp?eventid=6669&copyown
 erid=7590
UID:cfp56404-N@wikicfp.com
END:VEVENT
BEGIN:VEVENT
DTSTAMP:20260421T064432Z
DTSTART;VALUE=DATE:20100521
SUMMARY:COLT 2010 Final Version Due
DESCRIPTION:The 23rd International Conference on Learning Theory
URL:http://www.wikicfp.com/cfp/servlet/event.showcfp?eventid=6669&copyown
 erid=7590
UID:cfp56404-N@wikicfp.com
END:VEVENT
END:VCALENDAR
