BEGIN:VCALENDAR
PRODID:-//WikiCFP//milanemac 1.0//EN
VERSION:2.0
CALSCALE:GREGORIAN
BEGIN:VEVENT
DTSTAMP:20260420T094032Z
DTSTART;VALUE=DATE:20150321
DTEND;VALUE=DATE:20150323
SUMMARY:AIApp 2015
DESCRIPTION:Second International Conference on Artificial Intelligence an
 d Applications
URL:http://www.wikicfp.com/cfp/servlet/event.showcfp?eventid=43252&copyow
 nerid=75342
UID:cfp509848-E@wikicfp.com
END:VEVENT
BEGIN:VEVENT
DTSTAMP:20260420T094032Z
DTSTART;VALUE=DATE:20150228
SUMMARY:AIApp 2015 Deadline
DESCRIPTION:Second International Conference on Artificial Intelligence an
 d Applications
URL:http://www.wikicfp.com/cfp/servlet/event.showcfp?eventid=43252&copyow
 nerid=75342
UID:cfp509848-D@wikicfp.com
END:VEVENT
BEGIN:VEVENT
DTSTAMP:20260420T094032Z
DTSTART;VALUE=DATE:20150310
SUMMARY:AIApp 2015 Notification Due
DESCRIPTION:Second International Conference on Artificial Intelligence an
 d Applications
URL:http://www.wikicfp.com/cfp/servlet/event.showcfp?eventid=43252&copyow
 nerid=75342
UID:cfp509848-N@wikicfp.com
END:VEVENT
BEGIN:VEVENT
DTSTAMP:20260420T094032Z
DTSTART;VALUE=DATE:20150313
SUMMARY:AIApp 2015 Final Version Due
DESCRIPTION:Second International Conference on Artificial Intelligence an
 d Applications
URL:http://www.wikicfp.com/cfp/servlet/event.showcfp?eventid=43252&copyow
 nerid=75342
UID:cfp509848-N@wikicfp.com
END:VEVENT
BEGIN:VEVENT
DTSTAMP:20260420T094032Z
DTSTART;VALUE=DATE:20150617
DTEND;VALUE=DATE:20150621
SUMMARY:WISA 2015
DESCRIPTION:7th Workshop on Intelligent Systems and Applications
URL:http://www.wikicfp.com/cfp/servlet/event.showcfp?eventid=43335&copyow
 nerid=75342
UID:cfp509842-E@wikicfp.com
END:VEVENT
BEGIN:VEVENT
DTSTAMP:20260420T094032Z
DTSTART;VALUE=DATE:20150228
SUMMARY:WISA 2015 Deadline
DESCRIPTION:7th Workshop on Intelligent Systems and Applications
URL:http://www.wikicfp.com/cfp/servlet/event.showcfp?eventid=43335&copyow
 nerid=75342
UID:cfp509842-D@wikicfp.com
END:VEVENT
BEGIN:VEVENT
DTSTAMP:20260420T094032Z
DTSTART;VALUE=DATE:20150328
SUMMARY:WISA 2015 Notification Due
DESCRIPTION:7th Workshop on Intelligent Systems and Applications
URL:http://www.wikicfp.com/cfp/servlet/event.showcfp?eventid=43335&copyow
 nerid=75342
UID:cfp509842-N@wikicfp.com
END:VEVENT
BEGIN:VEVENT
DTSTAMP:20260420T094032Z
DTSTART;VALUE=DATE:20150411
SUMMARY:WISA 2015 Final Version Due
DESCRIPTION:7th Workshop on Intelligent Systems and Applications
URL:http://www.wikicfp.com/cfp/servlet/event.showcfp?eventid=43335&copyow
 nerid=75342
UID:cfp509842-N@wikicfp.com
END:VEVENT
BEGIN:VEVENT
DTSTAMP:20260420T094032Z
DTSTART;VALUE=DATE:20150624
DTEND;VALUE=DATE:20150627
SUMMARY:CYBCONF 2015
DESCRIPTION:2nd IEEE International Conference on Cybernetics
URL:http://www.wikicfp.com/cfp/servlet/event.showcfp?eventid=41917&copyow
 nerid=75342
UID:cfp509844-E@wikicfp.com
END:VEVENT
BEGIN:VEVENT
DTSTAMP:20260420T094032Z
DTSTART;VALUE=DATE:20150301
SUMMARY:CYBCONF 2015 Deadline
DESCRIPTION:2nd IEEE International Conference on Cybernetics
URL:http://www.wikicfp.com/cfp/servlet/event.showcfp?eventid=41917&copyow
 nerid=75342
UID:cfp509844-D@wikicfp.com
END:VEVENT
BEGIN:VEVENT
DTSTAMP:20260420T094032Z
DTSTART;VALUE=DATE:20150415
SUMMARY:CYBCONF 2015 Notification Due
DESCRIPTION:2nd IEEE International Conference on Cybernetics
URL:http://www.wikicfp.com/cfp/servlet/event.showcfp?eventid=41917&copyow
 nerid=75342
UID:cfp509844-N@wikicfp.com
END:VEVENT
BEGIN:VEVENT
DTSTAMP:20260420T094032Z
DTSTART;VALUE=DATE:20150430
SUMMARY:CYBCONF 2015 Final Version Due
DESCRIPTION:2nd IEEE International Conference on Cybernetics
URL:http://www.wikicfp.com/cfp/servlet/event.showcfp?eventid=41917&copyow
 nerid=75342
UID:cfp509844-N@wikicfp.com
END:VEVENT
BEGIN:VEVENT
DTSTAMP:20260420T094032Z
DTSTART;VALUE=DATE:20150908
DTEND;VALUE=DATE:20150912
SUMMARY:AIM@EPIA 2015
DESCRIPTION:Artificial Intelligence in Medicine
URL:http://www.wikicfp.com/cfp/servlet/event.showcfp?eventid=43999&copyow
 nerid=75342
UID:cfp509843-E@wikicfp.com
END:VEVENT
BEGIN:VEVENT
DTSTAMP:20260420T094032Z
DTSTART;VALUE=DATE:20150309
SUMMARY:AIM@EPIA 2015 Deadline
DESCRIPTION:Artificial Intelligence in Medicine
URL:http://www.wikicfp.com/cfp/servlet/event.showcfp?eventid=43999&copyow
 nerid=75342
UID:cfp509843-D@wikicfp.com
END:VEVENT
BEGIN:VEVENT
DTSTAMP:20260420T094032Z
DTSTART;VALUE=DATE:20150427
SUMMARY:AIM@EPIA 2015 Notification Due
DESCRIPTION:Artificial Intelligence in Medicine
URL:http://www.wikicfp.com/cfp/servlet/event.showcfp?eventid=43999&copyow
 nerid=75342
UID:cfp509843-N@wikicfp.com
END:VEVENT
BEGIN:VEVENT
DTSTAMP:20260420T094032Z
DTSTART;VALUE=DATE:20150601
SUMMARY:AIM@EPIA 2015 Final Version Due
DESCRIPTION:Artificial Intelligence in Medicine
URL:http://www.wikicfp.com/cfp/servlet/event.showcfp?eventid=43999&copyow
 nerid=75342
UID:cfp509843-N@wikicfp.com
END:VEVENT
BEGIN:VEVENT
DTSTAMP:20260420T094032Z
DTSTART;VALUE=DATE:20150331
SUMMARY:gtCISC  2015 Deadline
DESCRIPTION:Journal - Gate to Computational Intelligence and Soft Computi
 ng 
URL:http://www.wikicfp.com/cfp/servlet/event.showcfp?eventid=39102&copyow
 nerid=75342
UID:cfp509841-D@wikicfp.com
END:VEVENT
BEGIN:VEVENT
DTSTAMP:20260420T094032Z
DTSTART;VALUE=DATE:20150405
SUMMARY:C3GI-Journal 2015 Deadline
DESCRIPTION:Computational Creativity\, Concept Invention\, and General In
 telligence
URL:http://www.wikicfp.com/cfp/servlet/event.showcfp?eventid=42157&copyow
 nerid=75342
UID:cfp509839-D@wikicfp.com
END:VEVENT
BEGIN:VEVENT
DTSTAMP:20260420T094032Z
DTSTART;VALUE=DATE:20150531
SUMMARY:C3GI-Journal 2015 Notification Due
DESCRIPTION:Computational Creativity\, Concept Invention\, and General In
 telligence
URL:http://www.wikicfp.com/cfp/servlet/event.showcfp?eventid=42157&copyow
 nerid=75342
UID:cfp509839-N@wikicfp.com
END:VEVENT
BEGIN:VEVENT
DTSTAMP:20260420T094032Z
DTSTART;VALUE=DATE:20150712
SUMMARY:C3GI-Journal 2015 Final Version Due
DESCRIPTION:Computational Creativity\, Concept Invention\, and General In
 telligence
URL:http://www.wikicfp.com/cfp/servlet/event.showcfp?eventid=42157&copyow
 nerid=75342
UID:cfp509839-N@wikicfp.com
END:VEVENT
BEGIN:VEVENT
DTSTAMP:20260420T094032Z
DTSTART;VALUE=DATE:20150811
DTEND;VALUE=DATE:20150813
SUMMARY:ICOCI 2015
DESCRIPTION:Fifth International Conference on Computing and Informatics 2
 015
URL:http://www.wikicfp.com/cfp/servlet/event.showcfp?eventid=42567&copyow
 nerid=75342
UID:cfp509840-E@wikicfp.com
END:VEVENT
BEGIN:VEVENT
DTSTAMP:20260420T094032Z
DTSTART;VALUE=DATE:20150415
SUMMARY:ICOCI 2015 Deadline
DESCRIPTION:Fifth International Conference on Computing and Informatics 2
 015
URL:http://www.wikicfp.com/cfp/servlet/event.showcfp?eventid=42567&copyow
 nerid=75342
UID:cfp509840-D@wikicfp.com
END:VEVENT
BEGIN:VEVENT
DTSTAMP:20260420T094032Z
DTSTART;VALUE=DATE:20150515
SUMMARY:ICOCI 2015 Notification Due
DESCRIPTION:Fifth International Conference on Computing and Informatics 2
 015
URL:http://www.wikicfp.com/cfp/servlet/event.showcfp?eventid=42567&copyow
 nerid=75342
UID:cfp509840-N@wikicfp.com
END:VEVENT
BEGIN:VEVENT
DTSTAMP:20260420T094032Z
DTSTART;VALUE=DATE:20150531
SUMMARY:ICOCI 2015 Final Version Due
DESCRIPTION:Fifth International Conference on Computing and Informatics 2
 015
URL:http://www.wikicfp.com/cfp/servlet/event.showcfp?eventid=42567&copyow
 nerid=75342
UID:cfp509840-N@wikicfp.com
END:VEVENT
BEGIN:VEVENT
DTSTAMP:20260420T094032Z
DTSTART;VALUE=DATE:20150913
DTEND;VALUE=DATE:20150917
SUMMARY:AAIA 2015
DESCRIPTION:10th International Symposium Advances in Artificial Intellige
 nce and Applications
URL:http://www.wikicfp.com/cfp/servlet/event.showcfp?eventid=43193&copyow
 nerid=75342
UID:cfp509845-E@wikicfp.com
END:VEVENT
BEGIN:VEVENT
DTSTAMP:20260420T094032Z
DTSTART;VALUE=DATE:20150424
SUMMARY:AAIA 2015 Deadline
DESCRIPTION:10th International Symposium Advances in Artificial Intellige
 nce and Applications
URL:http://www.wikicfp.com/cfp/servlet/event.showcfp?eventid=43193&copyow
 nerid=75342
UID:cfp509845-D@wikicfp.com
END:VEVENT
BEGIN:VEVENT
DTSTAMP:20260420T094032Z
DTSTART;VALUE=DATE:20150615
SUMMARY:AAIA 2015 Notification Due
DESCRIPTION:10th International Symposium Advances in Artificial Intellige
 nce and Applications
URL:http://www.wikicfp.com/cfp/servlet/event.showcfp?eventid=43193&copyow
 nerid=75342
UID:cfp509845-N@wikicfp.com
END:VEVENT
BEGIN:VEVENT
DTSTAMP:20260420T094032Z
DTSTART;VALUE=DATE:20150701
SUMMARY:AAIA 2015 Final Version Due
DESCRIPTION:10th International Symposium Advances in Artificial Intellige
 nce and Applications
URL:http://www.wikicfp.com/cfp/servlet/event.showcfp?eventid=43193&copyow
 nerid=75342
UID:cfp509845-N@wikicfp.com
END:VEVENT
BEGIN:VEVENT
DTSTAMP:20260420T094032Z
DTSTART;VALUE=DATE:20151116
DTEND;VALUE=DATE:20151119
SUMMARY:FICTA 2015
DESCRIPTION:4th  International Conference on Frontiers in  Intelligent Co
 mputing: Theory and Applications
URL:http://www.wikicfp.com/cfp/servlet/event.showcfp?eventid=41808&copyow
 nerid=75342
UID:cfp509846-E@wikicfp.com
END:VEVENT
BEGIN:VEVENT
DTSTAMP:20260420T094032Z
DTSTART;VALUE=DATE:20150515
SUMMARY:FICTA 2015 Deadline
DESCRIPTION:4th  International Conference on Frontiers in  Intelligent Co
 mputing: Theory and Applications
URL:http://www.wikicfp.com/cfp/servlet/event.showcfp?eventid=41808&copyow
 nerid=75342
UID:cfp509846-D@wikicfp.com
END:VEVENT
BEGIN:VEVENT
DTSTAMP:20260420T094032Z
DTSTART;VALUE=DATE:20150715
SUMMARY:FICTA 2015 Notification Due
DESCRIPTION:4th  International Conference on Frontiers in  Intelligent Co
 mputing: Theory and Applications
URL:http://www.wikicfp.com/cfp/servlet/event.showcfp?eventid=41808&copyow
 nerid=75342
UID:cfp509846-N@wikicfp.com
END:VEVENT
BEGIN:VEVENT
DTSTAMP:20260420T094032Z
DTSTART;VALUE=DATE:20150731
SUMMARY:FICTA 2015 Final Version Due
DESCRIPTION:4th  International Conference on Frontiers in  Intelligent Co
 mputing: Theory and Applications
URL:http://www.wikicfp.com/cfp/servlet/event.showcfp?eventid=41808&copyow
 nerid=75342
UID:cfp509846-N@wikicfp.com
END:VEVENT
BEGIN:VEVENT
DTSTAMP:20260420T094032Z
DTSTART;VALUE=DATE:20160119
DTEND;VALUE=DATE:20160123
SUMMARY:SWQD 2016
DESCRIPTION:Software Quality Days 2016
URL:http://www.wikicfp.com/cfp/servlet/event.showcfp?eventid=42528&copyow
 nerid=75342
UID:cfp509847-E@wikicfp.com
END:VEVENT
BEGIN:VEVENT
DTSTAMP:20260420T094032Z
DTSTART;VALUE=DATE:20150504
SUMMARY:SWQD 2016 Abstract Due
DESCRIPTION:Software Quality Days 2016
URL:http://www.wikicfp.com/cfp/servlet/event.showcfp?eventid=42528&copyow
 nerid=75342
UID:cfp509847-A@wikicfp.com
END:VEVENT
BEGIN:VEVENT
DTSTAMP:20260420T094032Z
DTSTART;VALUE=DATE:20150518
SUMMARY:SWQD 2016 Deadline
DESCRIPTION:Software Quality Days 2016
URL:http://www.wikicfp.com/cfp/servlet/event.showcfp?eventid=42528&copyow
 nerid=75342
UID:cfp509847-D@wikicfp.com
END:VEVENT
BEGIN:VEVENT
DTSTAMP:20260420T094032Z
DTSTART;VALUE=DATE:20150727
SUMMARY:SWQD 2016 Notification Due
DESCRIPTION:Software Quality Days 2016
URL:http://www.wikicfp.com/cfp/servlet/event.showcfp?eventid=42528&copyow
 nerid=75342
UID:cfp509847-N@wikicfp.com
END:VEVENT
BEGIN:VEVENT
DTSTAMP:20260420T094032Z
DTSTART;VALUE=DATE:20150831
SUMMARY:SWQD 2016 Final Version Due
DESCRIPTION:Software Quality Days 2016
URL:http://www.wikicfp.com/cfp/servlet/event.showcfp?eventid=42528&copyow
 nerid=75342
UID:cfp509847-N@wikicfp.com
END:VEVENT
BEGIN:VEVENT
DTSTAMP:20260420T094032Z
DTSTART;VALUE=DATE:20160201
SUMMARY:CEIJ 2016 Deadline
DESCRIPTION:Chemical Engineering: An International Journal
URL:http://www.wikicfp.com/cfp/servlet/event.showcfp?eventid=43730&copyow
 nerid=75342
UID:cfp509849-D@wikicfp.com
END:VEVENT
BEGIN:VEVENT
DTSTAMP:20260420T094032Z
DTSTART;VALUE=DATE:20160301
SUMMARY:CEIJ 2016 Notification Due
DESCRIPTION:Chemical Engineering: An International Journal
URL:http://www.wikicfp.com/cfp/servlet/event.showcfp?eventid=43730&copyow
 nerid=75342
UID:cfp509849-N@wikicfp.com
END:VEVENT
BEGIN:VEVENT
DTSTAMP:20260420T094032Z
DTSTART;VALUE=DATE:20160309
SUMMARY:CEIJ 2016 Final Version Due
DESCRIPTION:Chemical Engineering: An International Journal
URL:http://www.wikicfp.com/cfp/servlet/event.showcfp?eventid=43730&copyow
 nerid=75342
UID:cfp509849-N@wikicfp.com
END:VEVENT
END:VCALENDAR
