BEGIN:VCALENDAR
PRODID:-//WikiCFP//vanessen 1.0//EN
VERSION:2.0
CALSCALE:GREGORIAN
BEGIN:VEVENT
DTSTAMP:20260424T211507Z
DTSTART;VALUE=DATE:20151115
DTEND;VALUE=DATE:20151116
SUMMARY:MLHPC 2015
DESCRIPTION:Machine Learning in High Performance Computing Environments W
 orkshop
URL:http://www.wikicfp.com/cfp/servlet/event.showcfp?eventid=46948&copyow
 nerid=75236
UID:cfp537065-E@wikicfp.com
END:VEVENT
BEGIN:VEVENT
DTSTAMP:20260424T211507Z
DTSTART;VALUE=DATE:20150815
SUMMARY:MLHPC 2015 Deadline
DESCRIPTION:Machine Learning in High Performance Computing Environments W
 orkshop
URL:http://www.wikicfp.com/cfp/servlet/event.showcfp?eventid=46948&copyow
 nerid=75236
UID:cfp537065-D@wikicfp.com
END:VEVENT
BEGIN:VEVENT
DTSTAMP:20260424T211507Z
DTSTART;VALUE=DATE:20150915
SUMMARY:MLHPC 2015 Notification Due
DESCRIPTION:Machine Learning in High Performance Computing Environments W
 orkshop
URL:http://www.wikicfp.com/cfp/servlet/event.showcfp?eventid=46948&copyow
 nerid=75236
UID:cfp537065-N@wikicfp.com
END:VEVENT
BEGIN:VEVENT
DTSTAMP:20260424T211507Z
DTSTART;VALUE=DATE:20151001
SUMMARY:MLHPC 2015 Final Version Due
DESCRIPTION:Machine Learning in High Performance Computing Environments W
 orkshop
URL:http://www.wikicfp.com/cfp/servlet/event.showcfp?eventid=46948&copyow
 nerid=75236
UID:cfp537065-N@wikicfp.com
END:VEVENT
END:VCALENDAR
