BEGIN:VCALENDAR
PRODID:-//WikiCFP//sankarvema 1.0//EN
VERSION:2.0
CALSCALE:GREGORIAN
BEGIN:VEVENT
DTSTAMP:20260422T043659Z
DTSTART;VALUE=DATE:20150525
DTEND;VALUE=DATE:20150528
SUMMARY:DSBD 2015
DESCRIPTION:Data Stream Classification and Big Data Analytics
URL:http://www.wikicfp.com/cfp/servlet/event.showcfp?eventid=41145&copyow
 nerid=75171
UID:cfp508963-E@wikicfp.com
END:VEVENT
BEGIN:VEVENT
DTSTAMP:20260422T043659Z
DTSTART;VALUE=DATE:20150301
SUMMARY:DSBD 2015 Deadline
DESCRIPTION:Data Stream Classification and Big Data Analytics
URL:http://www.wikicfp.com/cfp/servlet/event.showcfp?eventid=41145&copyow
 nerid=75171
UID:cfp508963-D@wikicfp.com
END:VEVENT
BEGIN:VEVENT
DTSTAMP:20260422T043659Z
DTSTART;VALUE=DATE:20150415
SUMMARY:DSBD 2015 Notification Due
DESCRIPTION:Data Stream Classification and Big Data Analytics
URL:http://www.wikicfp.com/cfp/servlet/event.showcfp?eventid=41145&copyow
 nerid=75171
UID:cfp508963-N@wikicfp.com
END:VEVENT
BEGIN:VEVENT
DTSTAMP:20260422T043659Z
DTSTART;VALUE=DATE:20150501
SUMMARY:DSBD 2015 Final Version Due
DESCRIPTION:Data Stream Classification and Big Data Analytics
URL:http://www.wikicfp.com/cfp/servlet/event.showcfp?eventid=41145&copyow
 nerid=75171
UID:cfp508963-N@wikicfp.com
END:VEVENT
BEGIN:VEVENT
DTSTAMP:20260422T043659Z
DTSTART;VALUE=DATE:20150820
DTEND;VALUE=DATE:20150824
SUMMARY:ICIC 2015
DESCRIPTION:International Conference on Intelligent Computing
URL:http://www.wikicfp.com/cfp/servlet/event.showcfp?eventid=42219&copyow
 nerid=75171
UID:cfp508964-E@wikicfp.com
END:VEVENT
BEGIN:VEVENT
DTSTAMP:20260422T043659Z
DTSTART;VALUE=DATE:20150301
SUMMARY:ICIC 2015 Deadline
DESCRIPTION:International Conference on Intelligent Computing
URL:http://www.wikicfp.com/cfp/servlet/event.showcfp?eventid=42219&copyow
 nerid=75171
UID:cfp508964-D@wikicfp.com
END:VEVENT
BEGIN:VEVENT
DTSTAMP:20260422T043659Z
DTSTART;VALUE=DATE:20150425
SUMMARY:ICIC 2015 Notification Due
DESCRIPTION:International Conference on Intelligent Computing
URL:http://www.wikicfp.com/cfp/servlet/event.showcfp?eventid=42219&copyow
 nerid=75171
UID:cfp508964-N@wikicfp.com
END:VEVENT
BEGIN:VEVENT
DTSTAMP:20260422T043659Z
DTSTART;VALUE=DATE:20150505
SUMMARY:ICIC 2015 Final Version Due
DESCRIPTION:International Conference on Intelligent Computing
URL:http://www.wikicfp.com/cfp/servlet/event.showcfp?eventid=42219&copyow
 nerid=75171
UID:cfp508964-N@wikicfp.com
END:VEVENT
BEGIN:VEVENT
DTSTAMP:20260422T043659Z
DTSTART;VALUE=DATE:20150712
DTEND;VALUE=DATE:20150717
SUMMARY:UAI 2015
DESCRIPTION:31st Conference on Uncertainty in Artificial Intelligence
URL:http://www.wikicfp.com/cfp/servlet/event.showcfp?eventid=41983&copyow
 nerid=75171
UID:cfp508966-E@wikicfp.com
END:VEVENT
BEGIN:VEVENT
DTSTAMP:20260422T043659Z
DTSTART;VALUE=DATE:20150303
SUMMARY:UAI 2015 Deadline
DESCRIPTION:31st Conference on Uncertainty in Artificial Intelligence
URL:http://www.wikicfp.com/cfp/servlet/event.showcfp?eventid=41983&copyow
 nerid=75171
UID:cfp508966-D@wikicfp.com
END:VEVENT
BEGIN:VEVENT
DTSTAMP:20260422T043659Z
DTSTART;VALUE=DATE:20150505
SUMMARY:UAI 2015 Notification Due
DESCRIPTION:31st Conference on Uncertainty in Artificial Intelligence
URL:http://www.wikicfp.com/cfp/servlet/event.showcfp?eventid=41983&copyow
 nerid=75171
UID:cfp508966-N@wikicfp.com
END:VEVENT
BEGIN:VEVENT
DTSTAMP:20260422T043659Z
DTSTART;VALUE=DATE:20150722
DTEND;VALUE=DATE:20150726
SUMMARY:AGI 2015
DESCRIPTION:Artificial General Intelligence
URL:http://www.wikicfp.com/cfp/servlet/event.showcfp?eventid=43097&copyow
 nerid=75171
UID:cfp508967-E@wikicfp.com
END:VEVENT
BEGIN:VEVENT
DTSTAMP:20260422T043659Z
DTSTART;VALUE=DATE:20150315
SUMMARY:AGI 2015 Deadline
DESCRIPTION:Artificial General Intelligence
URL:http://www.wikicfp.com/cfp/servlet/event.showcfp?eventid=43097&copyow
 nerid=75171
UID:cfp508967-D@wikicfp.com
END:VEVENT
BEGIN:VEVENT
DTSTAMP:20260422T043659Z
DTSTART;VALUE=DATE:20150430
SUMMARY:AGI 2015 Notification Due
DESCRIPTION:Artificial General Intelligence
URL:http://www.wikicfp.com/cfp/servlet/event.showcfp?eventid=43097&copyow
 nerid=75171
UID:cfp508967-N@wikicfp.com
END:VEVENT
BEGIN:VEVENT
DTSTAMP:20260422T043659Z
DTSTART;VALUE=DATE:20150515
SUMMARY:AGI 2015 Final Version Due
DESCRIPTION:Artificial General Intelligence
URL:http://www.wikicfp.com/cfp/servlet/event.showcfp?eventid=43097&copyow
 nerid=75171
UID:cfp508967-N@wikicfp.com
END:VEVENT
BEGIN:VEVENT
DTSTAMP:20260422T043659Z
DTSTART;VALUE=DATE:20150907
DTEND;VALUE=DATE:20150912
SUMMARY:ECML-PKDD 2015
DESCRIPTION:European Conference on Machine Learning and Principles and Pr
 actice of Knowledge Discovery in Databases
URL:http://www.wikicfp.com/cfp/servlet/event.showcfp?eventid=40580&copyow
 nerid=75171
UID:cfp508965-E@wikicfp.com
END:VEVENT
BEGIN:VEVENT
DTSTAMP:20260422T043659Z
DTSTART;VALUE=DATE:20150326
SUMMARY:ECML-PKDD 2015 Abstract Due
DESCRIPTION:European Conference on Machine Learning and Principles and Pr
 actice of Knowledge Discovery in Databases
URL:http://www.wikicfp.com/cfp/servlet/event.showcfp?eventid=40580&copyow
 nerid=75171
UID:cfp508965-A@wikicfp.com
END:VEVENT
BEGIN:VEVENT
DTSTAMP:20260422T043659Z
DTSTART;VALUE=DATE:20150402
SUMMARY:ECML-PKDD 2015 Deadline
DESCRIPTION:European Conference on Machine Learning and Principles and Pr
 actice of Knowledge Discovery in Databases
URL:http://www.wikicfp.com/cfp/servlet/event.showcfp?eventid=40580&copyow
 nerid=75171
UID:cfp508965-D@wikicfp.com
END:VEVENT
BEGIN:VEVENT
DTSTAMP:20260422T043659Z
DTSTART;VALUE=DATE:20150601
SUMMARY:ECML-PKDD 2015 Notification Due
DESCRIPTION:European Conference on Machine Learning and Principles and Pr
 actice of Knowledge Discovery in Databases
URL:http://www.wikicfp.com/cfp/servlet/event.showcfp?eventid=40580&copyow
 nerid=75171
UID:cfp508965-N@wikicfp.com
END:VEVENT
BEGIN:VEVENT
DTSTAMP:20260422T043659Z
DTSTART;VALUE=DATE:20150615
SUMMARY:ECML-PKDD 2015 Final Version Due
DESCRIPTION:European Conference on Machine Learning and Principles and Pr
 actice of Knowledge Discovery in Databases
URL:http://www.wikicfp.com/cfp/servlet/event.showcfp?eventid=40580&copyow
 nerid=75171
UID:cfp508965-N@wikicfp.com
END:VEVENT
BEGIN:VEVENT
DTSTAMP:20260422T043659Z
DTSTART;VALUE=DATE:20151016
DTEND;VALUE=DATE:20151017
SUMMARY:AISec 2015
DESCRIPTION:8th ACM Workshop on Artificial Intelligence and Security
URL:http://www.wikicfp.com/cfp/servlet/event.showcfp?eventid=45463&copyow
 nerid=75171
UID:cfp529459-E@wikicfp.com
END:VEVENT
BEGIN:VEVENT
DTSTAMP:20260422T043659Z
DTSTART;VALUE=DATE:20150608
SUMMARY:AISec 2015 Deadline
DESCRIPTION:8th ACM Workshop on Artificial Intelligence and Security
URL:http://www.wikicfp.com/cfp/servlet/event.showcfp?eventid=45463&copyow
 nerid=75171
UID:cfp529459-D@wikicfp.com
END:VEVENT
BEGIN:VEVENT
DTSTAMP:20260422T043659Z
DTSTART;VALUE=DATE:20150712
SUMMARY:AISec 2015 Notification Due
DESCRIPTION:8th ACM Workshop on Artificial Intelligence and Security
URL:http://www.wikicfp.com/cfp/servlet/event.showcfp?eventid=45463&copyow
 nerid=75171
UID:cfp529459-N@wikicfp.com
END:VEVENT
BEGIN:VEVENT
DTSTAMP:20260422T043659Z
DTSTART;VALUE=DATE:21050729
SUMMARY:AISec 2015 Final Version Due
DESCRIPTION:8th ACM Workshop on Artificial Intelligence and Security
URL:http://www.wikicfp.com/cfp/servlet/event.showcfp?eventid=45463&copyow
 nerid=75171
UID:cfp529459-N@wikicfp.com
END:VEVENT
BEGIN:VEVENT
DTSTAMP:20260422T043659Z
DTSTART;VALUE=DATE:20151010
DTEND;VALUE=DATE:20151012
SUMMARY:ICACSIS 2015
DESCRIPTION:7th International Conference of Advanced Computer Science and
  Information Systems
URL:http://www.wikicfp.com/cfp/servlet/event.showcfp?eventid=45687&copyow
 nerid=75171
UID:cfp529460-E@wikicfp.com
END:VEVENT
BEGIN:VEVENT
DTSTAMP:20260422T043659Z
DTSTART;VALUE=DATE:20150610
SUMMARY:ICACSIS 2015 Deadline
DESCRIPTION:7th International Conference of Advanced Computer Science and
  Information Systems
URL:http://www.wikicfp.com/cfp/servlet/event.showcfp?eventid=45687&copyow
 nerid=75171
UID:cfp529460-D@wikicfp.com
END:VEVENT
BEGIN:VEVENT
DTSTAMP:20260422T043659Z
DTSTART;VALUE=DATE:20150810
SUMMARY:ICACSIS 2015 Notification Due
DESCRIPTION:7th International Conference of Advanced Computer Science and
  Information Systems
URL:http://www.wikicfp.com/cfp/servlet/event.showcfp?eventid=45687&copyow
 nerid=75171
UID:cfp529460-N@wikicfp.com
END:VEVENT
BEGIN:VEVENT
DTSTAMP:20260422T043659Z
DTSTART;VALUE=DATE:20150910
SUMMARY:ICACSIS 2015 Final Version Due
DESCRIPTION:7th International Conference of Advanced Computer Science and
  Information Systems
URL:http://www.wikicfp.com/cfp/servlet/event.showcfp?eventid=45687&copyow
 nerid=75171
UID:cfp529460-N@wikicfp.com
END:VEVENT
BEGIN:VEVENT
DTSTAMP:20260422T043659Z
DTSTART;VALUE=DATE:20151207
DTEND;VALUE=DATE:20151213
SUMMARY:CIDM 2015
DESCRIPTION:IEEE Symposium on Computational Intelligence and Data Mining
URL:http://www.wikicfp.com/cfp/servlet/event.showcfp?eventid=44868&copyow
 nerid=75171
UID:cfp529458-E@wikicfp.com
END:VEVENT
BEGIN:VEVENT
DTSTAMP:20260422T043659Z
DTSTART;VALUE=DATE:20150614
SUMMARY:CIDM 2015 Deadline
DESCRIPTION:IEEE Symposium on Computational Intelligence and Data Mining
URL:http://www.wikicfp.com/cfp/servlet/event.showcfp?eventid=44868&copyow
 nerid=75171
UID:cfp529458-D@wikicfp.com
END:VEVENT
BEGIN:VEVENT
DTSTAMP:20260422T043659Z
DTSTART;VALUE=DATE:20150904
SUMMARY:CIDM 2015 Notification Due
DESCRIPTION:IEEE Symposium on Computational Intelligence and Data Mining
URL:http://www.wikicfp.com/cfp/servlet/event.showcfp?eventid=44868&copyow
 nerid=75171
UID:cfp529458-N@wikicfp.com
END:VEVENT
BEGIN:VEVENT
DTSTAMP:20260422T043659Z
DTSTART;VALUE=DATE:20151004
SUMMARY:CIDM 2015 Final Version Due
DESCRIPTION:IEEE Symposium on Computational Intelligence and Data Mining
URL:http://www.wikicfp.com/cfp/servlet/event.showcfp?eventid=44868&copyow
 nerid=75171
UID:cfp529458-N@wikicfp.com
END:VEVENT
BEGIN:VEVENT
DTSTAMP:20260422T043659Z
DTSTART;VALUE=DATE:20150917
DTEND;VALUE=DATE:20150920
SUMMARY:Big Data 2015
DESCRIPTION:The 3rd International Workshop on Big Data
URL:http://www.wikicfp.com/cfp/servlet/event.showcfp?eventid=46160&copyow
 nerid=75171
UID:cfp529461-E@wikicfp.com
END:VEVENT
BEGIN:VEVENT
DTSTAMP:20260422T043659Z
DTSTART;VALUE=DATE:20150620
SUMMARY:Big Data 2015 Deadline
DESCRIPTION:The 3rd International Workshop on Big Data
URL:http://www.wikicfp.com/cfp/servlet/event.showcfp?eventid=46160&copyow
 nerid=75171
UID:cfp529461-D@wikicfp.com
END:VEVENT
BEGIN:VEVENT
DTSTAMP:20260422T043659Z
DTSTART;VALUE=DATE:20150715
SUMMARY:Big Data 2015 Notification Due
DESCRIPTION:The 3rd International Workshop on Big Data
URL:http://www.wikicfp.com/cfp/servlet/event.showcfp?eventid=46160&copyow
 nerid=75171
UID:cfp529461-N@wikicfp.com
END:VEVENT
BEGIN:VEVENT
DTSTAMP:20260422T043659Z
DTSTART;VALUE=DATE:20150810
SUMMARY:Big Data 2015 Final Version Due
DESCRIPTION:The 3rd International Workshop on Big Data
URL:http://www.wikicfp.com/cfp/servlet/event.showcfp?eventid=46160&copyow
 nerid=75171
UID:cfp529461-N@wikicfp.com
END:VEVENT
BEGIN:VEVENT
DTSTAMP:20260422T043659Z
DTSTART;VALUE=DATE:20150730
SUMMARY:JoMI 2015 Deadline
DESCRIPTION:Journal of Machine Intelligence (JoMI)
URL:http://www.wikicfp.com/cfp/servlet/event.showcfp?eventid=45025&copyow
 nerid=75171
UID:cfp529450-D@wikicfp.com
END:VEVENT
BEGIN:VEVENT
DTSTAMP:20260422T043659Z
DTSTART;VALUE=DATE:20150820
SUMMARY:JoMI 2015 Notification Due
DESCRIPTION:Journal of Machine Intelligence (JoMI)
URL:http://www.wikicfp.com/cfp/servlet/event.showcfp?eventid=45025&copyow
 nerid=75171
UID:cfp529450-N@wikicfp.com
END:VEVENT
BEGIN:VEVENT
DTSTAMP:20260422T043659Z
DTSTART;VALUE=DATE:20150830
SUMMARY:JoMI 2015 Final Version Due
DESCRIPTION:Journal of Machine Intelligence (JoMI)
URL:http://www.wikicfp.com/cfp/servlet/event.showcfp?eventid=45025&copyow
 nerid=75171
UID:cfp529450-N@wikicfp.com
END:VEVENT
END:VCALENDAR
