BEGIN:VCALENDAR
PRODID:-//WikiCFP//ch0psticks 1.0//EN
VERSION:2.0
CALSCALE:GREGORIAN
BEGIN:VEVENT
DTSTAMP:20260423T210527Z
DTSTART;VALUE=DATE:20150208
DTEND;VALUE=DATE:20150209
SUMMARY:USEC 2015
DESCRIPTION:NDSS Workshop on Usable Security 2015
URL:http://www.wikicfp.com/cfp/servlet/event.showcfp?eventid=41202&copyow
 nerid=75149
UID:cfp508806-E@wikicfp.com
END:VEVENT
BEGIN:VEVENT
DTSTAMP:20260423T210527Z
DTSTART;VALUE=DATE:20141124
SUMMARY:USEC 2015 Deadline
DESCRIPTION:NDSS Workshop on Usable Security 2015
URL:http://www.wikicfp.com/cfp/servlet/event.showcfp?eventid=41202&copyow
 nerid=75149
UID:cfp508806-D@wikicfp.com
END:VEVENT
BEGIN:VEVENT
DTSTAMP:20260423T210527Z
DTSTART;VALUE=DATE:20141218
SUMMARY:USEC 2015 Notification Due
DESCRIPTION:NDSS Workshop on Usable Security 2015
URL:http://www.wikicfp.com/cfp/servlet/event.showcfp?eventid=41202&copyow
 nerid=75149
UID:cfp508806-N@wikicfp.com
END:VEVENT
BEGIN:VEVENT
DTSTAMP:20260423T210527Z
DTSTART;VALUE=DATE:20150115
SUMMARY:USEC 2015 Final Version Due
DESCRIPTION:NDSS Workshop on Usable Security 2015
URL:http://www.wikicfp.com/cfp/servlet/event.showcfp?eventid=41202&copyow
 nerid=75149
UID:cfp508806-N@wikicfp.com
END:VEVENT
BEGIN:VEVENT
DTSTAMP:20260423T210527Z
DTSTART;VALUE=DATE:20150407
DTEND;VALUE=DATE:20150410
SUMMARY:ICICS 2015
DESCRIPTION:The 6th IEEE International Conference on Information and Comm
 unication Systems
URL:http://www.wikicfp.com/cfp/servlet/event.showcfp?eventid=40442&copyow
 nerid=75149
UID:cfp508805-E@wikicfp.com
END:VEVENT
BEGIN:VEVENT
DTSTAMP:20260423T210527Z
DTSTART;VALUE=DATE:20141220
SUMMARY:ICICS 2015 Deadline
DESCRIPTION:The 6th IEEE International Conference on Information and Comm
 unication Systems
URL:http://www.wikicfp.com/cfp/servlet/event.showcfp?eventid=40442&copyow
 nerid=75149
UID:cfp508805-D@wikicfp.com
END:VEVENT
BEGIN:VEVENT
DTSTAMP:20260423T210527Z
DTSTART;VALUE=DATE:20150201
SUMMARY:ICICS 2015 Notification Due
DESCRIPTION:The 6th IEEE International Conference on Information and Comm
 unication Systems
URL:http://www.wikicfp.com/cfp/servlet/event.showcfp?eventid=40442&copyow
 nerid=75149
UID:cfp508805-N@wikicfp.com
END:VEVENT
BEGIN:VEVENT
DTSTAMP:20260423T210527Z
DTSTART;VALUE=DATE:20150215
SUMMARY:ICICS 2015 Final Version Due
DESCRIPTION:The 6th IEEE International Conference on Information and Comm
 unication Systems
URL:http://www.wikicfp.com/cfp/servlet/event.showcfp?eventid=40442&copyow
 nerid=75149
UID:cfp508805-N@wikicfp.com
END:VEVENT
BEGIN:VEVENT
DTSTAMP:20260423T210527Z
DTSTART;VALUE=DATE:20150526
DTEND;VALUE=DATE:20150529
SUMMARY:IFIP SEC 2015
DESCRIPTION:IFIP SEC International Conference on ICT Systems Security and
  Privacy Protection
URL:http://www.wikicfp.com/cfp/servlet/event.showcfp?eventid=40557&copyow
 nerid=75149
UID:cfp508807-E@wikicfp.com
END:VEVENT
BEGIN:VEVENT
DTSTAMP:20260423T210527Z
DTSTART;VALUE=DATE:20150115
SUMMARY:IFIP SEC 2015 Deadline
DESCRIPTION:IFIP SEC International Conference on ICT Systems Security and
  Privacy Protection
URL:http://www.wikicfp.com/cfp/servlet/event.showcfp?eventid=40557&copyow
 nerid=75149
UID:cfp508807-D@wikicfp.com
END:VEVENT
BEGIN:VEVENT
DTSTAMP:20260423T210527Z
DTSTART;VALUE=DATE:20150227
SUMMARY:IFIP SEC 2015 Notification Due
DESCRIPTION:IFIP SEC International Conference on ICT Systems Security and
  Privacy Protection
URL:http://www.wikicfp.com/cfp/servlet/event.showcfp?eventid=40557&copyow
 nerid=75149
UID:cfp508807-N@wikicfp.com
END:VEVENT
BEGIN:VEVENT
DTSTAMP:20260423T210527Z
DTSTART;VALUE=DATE:20150313
SUMMARY:IFIP SEC 2015 Final Version Due
DESCRIPTION:IFIP SEC International Conference on ICT Systems Security and
  Privacy Protection
URL:http://www.wikicfp.com/cfp/servlet/event.showcfp?eventid=40557&copyow
 nerid=75149
UID:cfp508807-N@wikicfp.com
END:VEVENT
BEGIN:VEVENT
DTSTAMP:20260423T210527Z
DTSTART;VALUE=DATE:20150714
DTEND;VALUE=DATE:20150718
SUMMARY:CSF 2015
DESCRIPTION:CFP: 28th IEEE Computer Security Foundations	Symposium (CSF 2
 015)
URL:http://www.wikicfp.com/cfp/servlet/event.showcfp?eventid=42557&copyow
 nerid=75149
UID:cfp508799-E@wikicfp.com
END:VEVENT
BEGIN:VEVENT
DTSTAMP:20260423T210527Z
DTSTART;VALUE=DATE:20150210
SUMMARY:CSF 2015 Deadline
DESCRIPTION:CFP: 28th IEEE Computer Security Foundations	Symposium (CSF 2
 015)
URL:http://www.wikicfp.com/cfp/servlet/event.showcfp?eventid=42557&copyow
 nerid=75149
UID:cfp508799-D@wikicfp.com
END:VEVENT
BEGIN:VEVENT
DTSTAMP:20260423T210527Z
DTSTART;VALUE=DATE:20150406
SUMMARY:CSF 2015 Notification Due
DESCRIPTION:CFP: 28th IEEE Computer Security Foundations	Symposium (CSF 2
 015)
URL:http://www.wikicfp.com/cfp/servlet/event.showcfp?eventid=42557&copyow
 nerid=75149
UID:cfp508799-N@wikicfp.com
END:VEVENT
BEGIN:VEVENT
DTSTAMP:20260423T210527Z
DTSTART;VALUE=DATE:20150509
SUMMARY:CSF 2015 Final Version Due
DESCRIPTION:CFP: 28th IEEE Computer Security Foundations	Symposium (CSF 2
 015)
URL:http://www.wikicfp.com/cfp/servlet/event.showcfp?eventid=42557&copyow
 nerid=75149
UID:cfp508799-N@wikicfp.com
END:VEVENT
BEGIN:VEVENT
DTSTAMP:20260423T210527Z
DTSTART;VALUE=DATE:20150615
DTEND;VALUE=DATE:20150618
SUMMARY:CISIS 2015
DESCRIPTION:8th International Conference on Computational Intelligence in
  Security for Information Systems
URL:http://www.wikicfp.com/cfp/servlet/event.showcfp?eventid=42394&copyow
 nerid=75149
UID:cfp508798-E@wikicfp.com
END:VEVENT
BEGIN:VEVENT
DTSTAMP:20260423T210527Z
DTSTART;VALUE=DATE:20150213
SUMMARY:CISIS 2015 Deadline
DESCRIPTION:8th International Conference on Computational Intelligence in
  Security for Information Systems
URL:http://www.wikicfp.com/cfp/servlet/event.showcfp?eventid=42394&copyow
 nerid=75149
UID:cfp508798-D@wikicfp.com
END:VEVENT
BEGIN:VEVENT
DTSTAMP:20260423T210527Z
DTSTART;VALUE=DATE:20150622
DTEND;VALUE=DATE:20150627
SUMMARY:WiSec 2015
DESCRIPTION:The 8th ACM Conference on Security and Privacy in Wireless an
 d Mobile Networks (deadline extended)
URL:http://www.wikicfp.com/cfp/servlet/event.showcfp?eventid=41728&copyow
 nerid=75149
UID:cfp508797-E@wikicfp.com
END:VEVENT
BEGIN:VEVENT
DTSTAMP:20260423T210527Z
DTSTART;VALUE=DATE:20150210
SUMMARY:WiSec 2015 Abstract Due
DESCRIPTION:The 8th ACM Conference on Security and Privacy in Wireless an
 d Mobile Networks (deadline extended)
URL:http://www.wikicfp.com/cfp/servlet/event.showcfp?eventid=41728&copyow
 nerid=75149
UID:cfp508797-A@wikicfp.com
END:VEVENT
BEGIN:VEVENT
DTSTAMP:20260423T210527Z
DTSTART;VALUE=DATE:20150217
SUMMARY:WiSec 2015 Deadline
DESCRIPTION:The 8th ACM Conference on Security and Privacy in Wireless an
 d Mobile Networks (deadline extended)
URL:http://www.wikicfp.com/cfp/servlet/event.showcfp?eventid=41728&copyow
 nerid=75149
UID:cfp508797-D@wikicfp.com
END:VEVENT
BEGIN:VEVENT
DTSTAMP:20260423T210527Z
DTSTART;VALUE=DATE:20150407
SUMMARY:WiSec 2015 Notification Due
DESCRIPTION:The 8th ACM Conference on Security and Privacy in Wireless an
 d Mobile Networks (deadline extended)
URL:http://www.wikicfp.com/cfp/servlet/event.showcfp?eventid=41728&copyow
 nerid=75149
UID:cfp508797-N@wikicfp.com
END:VEVENT
BEGIN:VEVENT
DTSTAMP:20260423T210527Z
DTSTART;VALUE=DATE:20150428
SUMMARY:WiSec 2015 Final Version Due
DESCRIPTION:The 8th ACM Conference on Security and Privacy in Wireless an
 d Mobile Networks (deadline extended)
URL:http://www.wikicfp.com/cfp/servlet/event.showcfp?eventid=41728&copyow
 nerid=75149
UID:cfp508797-N@wikicfp.com
END:VEVENT
BEGIN:VEVENT
DTSTAMP:20260423T210527Z
DTSTART;VALUE=DATE:20150812
DTEND;VALUE=DATE:20150815
SUMMARY:USENIX Security 2015
DESCRIPTION:24th USENIX Security Symposium
URL:http://www.wikicfp.com/cfp/servlet/event.showcfp?eventid=42171&copyow
 nerid=75149
UID:cfp508800-E@wikicfp.com
END:VEVENT
BEGIN:VEVENT
DTSTAMP:20260423T210527Z
DTSTART;VALUE=DATE:20150216
SUMMARY:USENIX Security 2015 Abstract Due
DESCRIPTION:24th USENIX Security Symposium
URL:http://www.wikicfp.com/cfp/servlet/event.showcfp?eventid=42171&copyow
 nerid=75149
UID:cfp508800-A@wikicfp.com
END:VEVENT
BEGIN:VEVENT
DTSTAMP:20260423T210527Z
DTSTART;VALUE=DATE:20150223
SUMMARY:USENIX Security 2015 Deadline
DESCRIPTION:24th USENIX Security Symposium
URL:http://www.wikicfp.com/cfp/servlet/event.showcfp?eventid=42171&copyow
 nerid=75149
UID:cfp508800-D@wikicfp.com
END:VEVENT
BEGIN:VEVENT
DTSTAMP:20260423T210527Z
DTSTART;VALUE=DATE:20150512
SUMMARY:USENIX Security 2015 Notification Due
DESCRIPTION:24th USENIX Security Symposium
URL:http://www.wikicfp.com/cfp/servlet/event.showcfp?eventid=42171&copyow
 nerid=75149
UID:cfp508800-N@wikicfp.com
END:VEVENT
BEGIN:VEVENT
DTSTAMP:20260423T210527Z
DTSTART;VALUE=DATE:20150630
SUMMARY:USENIX Security 2015 Final Version Due
DESCRIPTION:24th USENIX Security Symposium
URL:http://www.wikicfp.com/cfp/servlet/event.showcfp?eventid=42171&copyow
 nerid=75149
UID:cfp508800-N@wikicfp.com
END:VEVENT
BEGIN:VEVENT
DTSTAMP:20260423T210527Z
DTSTART;VALUE=DATE:20150820
DTEND;VALUE=DATE:20150823
SUMMARY:TrustCom 2015
DESCRIPTION:The 14th IEEE International Conference on Trust\, Security an
 d Privacy in Computing and Communications (IEEE TrustCom-15)
URL:http://www.wikicfp.com/cfp/servlet/event.showcfp?eventid=40536&copyow
 nerid=75149
UID:cfp508801-E@wikicfp.com
END:VEVENT
BEGIN:VEVENT
DTSTAMP:20260423T210527Z
DTSTART;VALUE=DATE:20150331
SUMMARY:TrustCom 2015 Deadline
DESCRIPTION:The 14th IEEE International Conference on Trust\, Security an
 d Privacy in Computing and Communications (IEEE TrustCom-15)
URL:http://www.wikicfp.com/cfp/servlet/event.showcfp?eventid=40536&copyow
 nerid=75149
UID:cfp508801-D@wikicfp.com
END:VEVENT
BEGIN:VEVENT
DTSTAMP:20260423T210527Z
DTSTART;VALUE=DATE:20150531
SUMMARY:TrustCom 2015 Notification Due
DESCRIPTION:The 14th IEEE International Conference on Trust\, Security an
 d Privacy in Computing and Communications (IEEE TrustCom-15)
URL:http://www.wikicfp.com/cfp/servlet/event.showcfp?eventid=40536&copyow
 nerid=75149
UID:cfp508801-N@wikicfp.com
END:VEVENT
BEGIN:VEVENT
DTSTAMP:20260423T210527Z
DTSTART;VALUE=DATE:20150701
SUMMARY:TrustCom 2015 Final Version Due
DESCRIPTION:The 14th IEEE International Conference on Trust\, Security an
 d Privacy in Computing and Communications (IEEE TrustCom-15)
URL:http://www.wikicfp.com/cfp/servlet/event.showcfp?eventid=40536&copyow
 nerid=75149
UID:cfp508801-N@wikicfp.com
END:VEVENT
BEGIN:VEVENT
DTSTAMP:20260423T210527Z
DTSTART;VALUE=DATE:20150824
DTEND;VALUE=DATE:20150829
SUMMARY:WSDF 2015
DESCRIPTION:The 8th International Workshop on Digital Forensics
URL:http://www.wikicfp.com/cfp/servlet/event.showcfp?eventid=43437&copyow
 nerid=75149
UID:cfp508803-E@wikicfp.com
END:VEVENT
BEGIN:VEVENT
DTSTAMP:20260423T210527Z
DTSTART;VALUE=DATE:20150401
SUMMARY:WSDF 2015 Deadline
DESCRIPTION:The 8th International Workshop on Digital Forensics
URL:http://www.wikicfp.com/cfp/servlet/event.showcfp?eventid=43437&copyow
 nerid=75149
UID:cfp508803-D@wikicfp.com
END:VEVENT
BEGIN:VEVENT
DTSTAMP:20260423T210527Z
DTSTART;VALUE=DATE:20150511
SUMMARY:WSDF 2015 Notification Due
DESCRIPTION:The 8th International Workshop on Digital Forensics
URL:http://www.wikicfp.com/cfp/servlet/event.showcfp?eventid=43437&copyow
 nerid=75149
UID:cfp508803-N@wikicfp.com
END:VEVENT
BEGIN:VEVENT
DTSTAMP:20260423T210527Z
DTSTART;VALUE=DATE:20150608
SUMMARY:WSDF 2015 Final Version Due
DESCRIPTION:The 8th International Workshop on Digital Forensics
URL:http://www.wikicfp.com/cfp/servlet/event.showcfp?eventid=43437&copyow
 nerid=75149
UID:cfp508803-N@wikicfp.com
END:VEVENT
BEGIN:VEVENT
DTSTAMP:20260423T210527Z
DTSTART;VALUE=DATE:20150921
DTEND;VALUE=DATE:20150926
SUMMARY:ESORICS 2015
DESCRIPTION:ESORICS
URL:http://www.wikicfp.com/cfp/servlet/event.showcfp?eventid=42759&copyow
 nerid=75149
UID:cfp508802-E@wikicfp.com
END:VEVENT
BEGIN:VEVENT
DTSTAMP:20260423T210527Z
DTSTART;VALUE=DATE:20150404
SUMMARY:ESORICS 2015 Deadline
DESCRIPTION:ESORICS
URL:http://www.wikicfp.com/cfp/servlet/event.showcfp?eventid=42759&copyow
 nerid=75149
UID:cfp508802-D@wikicfp.com
END:VEVENT
BEGIN:VEVENT
DTSTAMP:20260423T210527Z
DTSTART;VALUE=DATE:20150615
SUMMARY:ESORICS 2015 Notification Due
DESCRIPTION:ESORICS
URL:http://www.wikicfp.com/cfp/servlet/event.showcfp?eventid=42759&copyow
 nerid=75149
UID:cfp508802-N@wikicfp.com
END:VEVENT
BEGIN:VEVENT
DTSTAMP:20260423T210527Z
DTSTART;VALUE=DATE:20150629
SUMMARY:ESORICS 2015 Final Version Due
DESCRIPTION:ESORICS
URL:http://www.wikicfp.com/cfp/servlet/event.showcfp?eventid=42759&copyow
 nerid=75149
UID:cfp508802-N@wikicfp.com
END:VEVENT
BEGIN:VEVENT
DTSTAMP:20260423T210527Z
DTSTART;VALUE=DATE:20151012
DTEND;VALUE=DATE:20151017
SUMMARY:CCS 2015
DESCRIPTION:22nd ACM Conference on Computer and Communications Security
URL:http://www.wikicfp.com/cfp/servlet/event.showcfp?eventid=43508&copyow
 nerid=75149
UID:cfp508804-E@wikicfp.com
END:VEVENT
BEGIN:VEVENT
DTSTAMP:20260423T210527Z
DTSTART;VALUE=DATE:20150515
SUMMARY:CCS 2015 Deadline
DESCRIPTION:22nd ACM Conference on Computer and Communications Security
URL:http://www.wikicfp.com/cfp/servlet/event.showcfp?eventid=43508&copyow
 nerid=75149
UID:cfp508804-D@wikicfp.com
END:VEVENT
BEGIN:VEVENT
DTSTAMP:20260423T210527Z
DTSTART;VALUE=DATE:20150722
SUMMARY:CCS 2015 Notification Due
DESCRIPTION:22nd ACM Conference on Computer and Communications Security
URL:http://www.wikicfp.com/cfp/servlet/event.showcfp?eventid=43508&copyow
 nerid=75149
UID:cfp508804-N@wikicfp.com
END:VEVENT
BEGIN:VEVENT
DTSTAMP:20260423T210527Z
DTSTART;VALUE=DATE:20150812
SUMMARY:CCS 2015 Final Version Due
DESCRIPTION:22nd ACM Conference on Computer and Communications Security
URL:http://www.wikicfp.com/cfp/servlet/event.showcfp?eventid=43508&copyow
 nerid=75149
UID:cfp508804-N@wikicfp.com
END:VEVENT
END:VCALENDAR
