BEGIN:VCALENDAR
PRODID:-//WikiCFP//yufuhua 1.0//EN
VERSION:2.0
CALSCALE:GREGORIAN
BEGIN:VEVENT
DTSTAMP:20260422T132913Z
DTSTART;VALUE=DATE:20100804
DTEND;VALUE=DATE:20100808
SUMMARY:ICMA 2010
DESCRIPTION:International Conference on Mechatronics and Automation
URL:http://www.wikicfp.com/cfp/servlet/event.showcfp?eventid=5783&copyown
 erid=7511
UID:cfp55822-E@wikicfp.com
END:VEVENT
BEGIN:VEVENT
DTSTAMP:20260422T132913Z
DTSTART;VALUE=DATE:20100321
SUMMARY:ICMA 2010 Deadline
DESCRIPTION:International Conference on Mechatronics and Automation
URL:http://www.wikicfp.com/cfp/servlet/event.showcfp?eventid=5783&copyown
 erid=7511
UID:cfp55822-D@wikicfp.com
END:VEVENT
BEGIN:VEVENT
DTSTAMP:20260422T132913Z
DTSTART;VALUE=DATE:20100517
SUMMARY:ICMA 2010 Notification Due
DESCRIPTION:International Conference on Mechatronics and Automation
URL:http://www.wikicfp.com/cfp/servlet/event.showcfp?eventid=5783&copyown
 erid=7511
UID:cfp55822-N@wikicfp.com
END:VEVENT
BEGIN:VEVENT
DTSTAMP:20260422T132913Z
DTSTART;VALUE=DATE:20100531
SUMMARY:ICMA 2010 Final Version Due
DESCRIPTION:International Conference on Mechatronics and Automation
URL:http://www.wikicfp.com/cfp/servlet/event.showcfp?eventid=5783&copyown
 erid=7511
UID:cfp55822-N@wikicfp.com
END:VEVENT
END:VCALENDAR
