BEGIN:VCALENDAR
PRODID:-//WikiCFP//alstonrush 1.0//EN
VERSION:2.0
CALSCALE:GREGORIAN
BEGIN:VEVENT
DTSTAMP:20260419T220337Z
DTSTART;VALUE=DATE:20150406
DTEND;VALUE=DATE:20150408
SUMMARY:ICCEB 2015
DESCRIPTION:2015 4th International Conference on Computer Engineering and
  Bioinformatics
URL:http://www.wikicfp.com/cfp/servlet/event.showcfp?eventid=40246&copyow
 nerid=75109
UID:cfp508524-E@wikicfp.com
END:VEVENT
BEGIN:VEVENT
DTSTAMP:20260419T220337Z
DTSTART;VALUE=DATE:20150210
SUMMARY:ICCEB 2015 Deadline
DESCRIPTION:2015 4th International Conference on Computer Engineering and
  Bioinformatics
URL:http://www.wikicfp.com/cfp/servlet/event.showcfp?eventid=40246&copyow
 nerid=75109
UID:cfp508524-D@wikicfp.com
END:VEVENT
BEGIN:VEVENT
DTSTAMP:20260419T220337Z
DTSTART;VALUE=DATE:20150225
SUMMARY:ICCEB 2015 Notification Due
DESCRIPTION:2015 4th International Conference on Computer Engineering and
  Bioinformatics
URL:http://www.wikicfp.com/cfp/servlet/event.showcfp?eventid=40246&copyow
 nerid=75109
UID:cfp508524-N@wikicfp.com
END:VEVENT
BEGIN:VEVENT
DTSTAMP:20260419T220337Z
DTSTART;VALUE=DATE:20150305
SUMMARY:ICCEB 2015 Final Version Due
DESCRIPTION:2015 4th International Conference on Computer Engineering and
  Bioinformatics
URL:http://www.wikicfp.com/cfp/servlet/event.showcfp?eventid=40246&copyow
 nerid=75109
UID:cfp508524-N@wikicfp.com
END:VEVENT
BEGIN:VEVENT
DTSTAMP:20260419T220337Z
DTSTART;VALUE=DATE:20150509
DTEND;VALUE=DATE:20150511
SUMMARY:ICOEE 2015
DESCRIPTION:2015 International Conference on Electronics Engineering
URL:http://www.wikicfp.com/cfp/servlet/event.showcfp?eventid=40676&copyow
 nerid=75109
UID:cfp508529-E@wikicfp.com
END:VEVENT
BEGIN:VEVENT
DTSTAMP:20260419T220337Z
DTSTART;VALUE=DATE:20150215
SUMMARY:ICOEE 2015 Deadline
DESCRIPTION:2015 International Conference on Electronics Engineering
URL:http://www.wikicfp.com/cfp/servlet/event.showcfp?eventid=40676&copyow
 nerid=75109
UID:cfp508529-D@wikicfp.com
END:VEVENT
BEGIN:VEVENT
DTSTAMP:20260419T220337Z
DTSTART;VALUE=DATE:20150305
SUMMARY:ICOEE 2015 Notification Due
DESCRIPTION:2015 International Conference on Electronics Engineering
URL:http://www.wikicfp.com/cfp/servlet/event.showcfp?eventid=40676&copyow
 nerid=75109
UID:cfp508529-N@wikicfp.com
END:VEVENT
BEGIN:VEVENT
DTSTAMP:20260419T220337Z
DTSTART;VALUE=DATE:20150320
SUMMARY:ICOEE 2015 Final Version Due
DESCRIPTION:2015 International Conference on Electronics Engineering
URL:http://www.wikicfp.com/cfp/servlet/event.showcfp?eventid=40676&copyow
 nerid=75109
UID:cfp508529-N@wikicfp.com
END:VEVENT
BEGIN:VEVENT
DTSTAMP:20260419T220337Z
DTSTART;VALUE=DATE:20150622
DTEND;VALUE=DATE:20150625
SUMMARY:ICE 2015
DESCRIPTION:International Conference on Engineering\, Technology and Inno
 vation
URL:http://www.wikicfp.com/cfp/servlet/event.showcfp?eventid=43641&copyow
 nerid=75109
UID:cfp508530-E@wikicfp.com
END:VEVENT
BEGIN:VEVENT
DTSTAMP:20260419T220337Z
DTSTART;VALUE=DATE:20150215
SUMMARY:ICE 2015 Deadline
DESCRIPTION:International Conference on Engineering\, Technology and Inno
 vation
URL:http://www.wikicfp.com/cfp/servlet/event.showcfp?eventid=43641&copyow
 nerid=75109
UID:cfp508530-D@wikicfp.com
END:VEVENT
BEGIN:VEVENT
DTSTAMP:20260419T220337Z
DTSTART;VALUE=DATE:20150225
SUMMARY:ICE 2015 Notification Due
DESCRIPTION:International Conference on Engineering\, Technology and Inno
 vation
URL:http://www.wikicfp.com/cfp/servlet/event.showcfp?eventid=43641&copyow
 nerid=75109
UID:cfp508530-N@wikicfp.com
END:VEVENT
BEGIN:VEVENT
DTSTAMP:20260419T220337Z
DTSTART;VALUE=DATE:20150325
SUMMARY:ICE 2015 Final Version Due
DESCRIPTION:International Conference on Engineering\, Technology and Inno
 vation
URL:http://www.wikicfp.com/cfp/servlet/event.showcfp?eventid=43641&copyow
 nerid=75109
UID:cfp508530-N@wikicfp.com
END:VEVENT
BEGIN:VEVENT
DTSTAMP:20260419T220337Z
DTSTART;VALUE=DATE:20150424
DTEND;VALUE=DATE:20150426
SUMMARY:ICBFS 2015
DESCRIPTION:2015 5th International Conference on Biotechnology and Food S
 cience
URL:http://www.wikicfp.com/cfp/servlet/event.showcfp?eventid=41431&copyow
 nerid=75109
UID:cfp508526-E@wikicfp.com
END:VEVENT
BEGIN:VEVENT
DTSTAMP:20260419T220337Z
DTSTART;VALUE=DATE:20150220
SUMMARY:ICBFS 2015 Deadline
DESCRIPTION:2015 5th International Conference on Biotechnology and Food S
 cience
URL:http://www.wikicfp.com/cfp/servlet/event.showcfp?eventid=41431&copyow
 nerid=75109
UID:cfp508526-D@wikicfp.com
END:VEVENT
BEGIN:VEVENT
DTSTAMP:20260419T220337Z
DTSTART;VALUE=DATE:20150305
SUMMARY:ICBFS 2015 Notification Due
DESCRIPTION:2015 5th International Conference on Biotechnology and Food S
 cience
URL:http://www.wikicfp.com/cfp/servlet/event.showcfp?eventid=41431&copyow
 nerid=75109
UID:cfp508526-N@wikicfp.com
END:VEVENT
BEGIN:VEVENT
DTSTAMP:20260419T220337Z
DTSTART;VALUE=DATE:20150320
SUMMARY:ICBFS 2015 Final Version Due
DESCRIPTION:2015 5th International Conference on Biotechnology and Food S
 cience
URL:http://www.wikicfp.com/cfp/servlet/event.showcfp?eventid=41431&copyow
 nerid=75109
UID:cfp508526-N@wikicfp.com
END:VEVENT
BEGIN:VEVENT
DTSTAMP:20260419T220337Z
DTSTART;VALUE=DATE:20150512
DTEND;VALUE=DATE:20150514
SUMMARY:ICBPE 2015
DESCRIPTION:2015 2nd International Conference on Biomedical and Pharmaceu
 tical Engineering
URL:http://www.wikicfp.com/cfp/servlet/event.showcfp?eventid=41831&copyow
 nerid=75109
UID:cfp508518-E@wikicfp.com
END:VEVENT
BEGIN:VEVENT
DTSTAMP:20260419T220337Z
DTSTART;VALUE=DATE:20150310
SUMMARY:ICBPE 2015 Deadline
DESCRIPTION:2015 2nd International Conference on Biomedical and Pharmaceu
 tical Engineering
URL:http://www.wikicfp.com/cfp/servlet/event.showcfp?eventid=41831&copyow
 nerid=75109
UID:cfp508518-D@wikicfp.com
END:VEVENT
BEGIN:VEVENT
DTSTAMP:20260419T220337Z
DTSTART;VALUE=DATE:20150325
SUMMARY:ICBPE 2015 Notification Due
DESCRIPTION:2015 2nd International Conference on Biomedical and Pharmaceu
 tical Engineering
URL:http://www.wikicfp.com/cfp/servlet/event.showcfp?eventid=41831&copyow
 nerid=75109
UID:cfp508518-N@wikicfp.com
END:VEVENT
BEGIN:VEVENT
DTSTAMP:20260419T220337Z
DTSTART;VALUE=DATE:20150410
SUMMARY:ICBPE 2015 Final Version Due
DESCRIPTION:2015 2nd International Conference on Biomedical and Pharmaceu
 tical Engineering
URL:http://www.wikicfp.com/cfp/servlet/event.showcfp?eventid=41831&copyow
 nerid=75109
UID:cfp508518-N@wikicfp.com
END:VEVENT
BEGIN:VEVENT
DTSTAMP:20260419T220337Z
DTSTART;VALUE=DATE:20150525
DTEND;VALUE=DATE:20150527
SUMMARY:CMAME 2015
DESCRIPTION:2015 3rd International Conference on Mechanical\, Automotive 
 and Materials Engineering
URL:http://www.wikicfp.com/cfp/servlet/event.showcfp?eventid=35088&copyow
 nerid=75109
UID:cfp508534-E@wikicfp.com
END:VEVENT
BEGIN:VEVENT
DTSTAMP:20260419T220337Z
DTSTART;VALUE=DATE:20150320
SUMMARY:CMAME 2015 Deadline
DESCRIPTION:2015 3rd International Conference on Mechanical\, Automotive 
 and Materials Engineering
URL:http://www.wikicfp.com/cfp/servlet/event.showcfp?eventid=35088&copyow
 nerid=75109
UID:cfp508534-D@wikicfp.com
END:VEVENT
BEGIN:VEVENT
DTSTAMP:20260419T220337Z
DTSTART;VALUE=DATE:20150330
SUMMARY:CMAME 2015 Notification Due
DESCRIPTION:2015 3rd International Conference on Mechanical\, Automotive 
 and Materials Engineering
URL:http://www.wikicfp.com/cfp/servlet/event.showcfp?eventid=35088&copyow
 nerid=75109
UID:cfp508534-N@wikicfp.com
END:VEVENT
BEGIN:VEVENT
DTSTAMP:20260419T220337Z
DTSTART;VALUE=DATE:20150415
SUMMARY:CMAME 2015 Final Version Due
DESCRIPTION:2015 3rd International Conference on Mechanical\, Automotive 
 and Materials Engineering
URL:http://www.wikicfp.com/cfp/servlet/event.showcfp?eventid=35088&copyow
 nerid=75109
UID:cfp508534-N@wikicfp.com
END:VEVENT
BEGIN:VEVENT
DTSTAMP:20260419T220337Z
DTSTART;VALUE=DATE:20150331
DTEND;VALUE=DATE:20150401
SUMMARY:BMT-SI-MB 2015
DESCRIPTION:IET Biometrics Special Issue: Mobile Biometrics
URL:http://www.wikicfp.com/cfp/servlet/event.showcfp?eventid=42902&copyow
 nerid=75109
UID:cfp508527-E@wikicfp.com
END:VEVENT
BEGIN:VEVENT
DTSTAMP:20260419T220337Z
DTSTART;VALUE=DATE:20150331
SUMMARY:BMT-SI-MB 2015 Deadline
DESCRIPTION:IET Biometrics Special Issue: Mobile Biometrics
URL:http://www.wikicfp.com/cfp/servlet/event.showcfp?eventid=42902&copyow
 nerid=75109
UID:cfp508527-D@wikicfp.com
END:VEVENT
BEGIN:VEVENT
DTSTAMP:20260419T220337Z
DTSTART;VALUE=DATE:20150424
DTEND;VALUE=DATE:20150426
SUMMARY:CSE 2015
DESCRIPTION:Third International Conference on Computational Science and E
 ngineering
URL:http://www.wikicfp.com/cfp/servlet/event.showcfp?eventid=43649&copyow
 nerid=75109
UID:cfp508531-E@wikicfp.com
END:VEVENT
BEGIN:VEVENT
DTSTAMP:20260419T220337Z
DTSTART;VALUE=DATE:20150331
SUMMARY:CSE 2015 Deadline
DESCRIPTION:Third International Conference on Computational Science and E
 ngineering
URL:http://www.wikicfp.com/cfp/servlet/event.showcfp?eventid=43649&copyow
 nerid=75109
UID:cfp508531-D@wikicfp.com
END:VEVENT
BEGIN:VEVENT
DTSTAMP:20260419T220337Z
DTSTART;VALUE=DATE:20150420
SUMMARY:CSE 2015 Notification Due
DESCRIPTION:Third International Conference on Computational Science and E
 ngineering
URL:http://www.wikicfp.com/cfp/servlet/event.showcfp?eventid=43649&copyow
 nerid=75109
UID:cfp508531-N@wikicfp.com
END:VEVENT
BEGIN:VEVENT
DTSTAMP:20260419T220337Z
DTSTART;VALUE=DATE:20150422
SUMMARY:CSE 2015 Final Version Due
DESCRIPTION:Third International Conference on Computational Science and E
 ngineering
URL:http://www.wikicfp.com/cfp/servlet/event.showcfp?eventid=43649&copyow
 nerid=75109
UID:cfp508531-N@wikicfp.com
END:VEVENT
BEGIN:VEVENT
DTSTAMP:20260419T220337Z
DTSTART;VALUE=DATE:20150908
DTEND;VALUE=DATE:20150912
SUMMARY:BTAS 2015
DESCRIPTION:IEEE International Conference on Biometrics: Theory\, Applica
 tions &  Systems
URL:http://www.wikicfp.com/cfp/servlet/event.showcfp?eventid=43637&copyow
 nerid=75109
UID:cfp508528-E@wikicfp.com
END:VEVENT
BEGIN:VEVENT
DTSTAMP:20260419T220337Z
DTSTART;VALUE=DATE:20150401
SUMMARY:BTAS 2015 Deadline
DESCRIPTION:IEEE International Conference on Biometrics: Theory\, Applica
 tions &  Systems
URL:http://www.wikicfp.com/cfp/servlet/event.showcfp?eventid=43637&copyow
 nerid=75109
UID:cfp508528-D@wikicfp.com
END:VEVENT
BEGIN:VEVENT
DTSTAMP:20260419T220337Z
DTSTART;VALUE=DATE:20150605
SUMMARY:BTAS 2015 Notification Due
DESCRIPTION:IEEE International Conference on Biometrics: Theory\, Applica
 tions &  Systems
URL:http://www.wikicfp.com/cfp/servlet/event.showcfp?eventid=43637&copyow
 nerid=75109
UID:cfp508528-N@wikicfp.com
END:VEVENT
BEGIN:VEVENT
DTSTAMP:20260419T220337Z
DTSTART;VALUE=DATE:20150701
SUMMARY:BTAS 2015 Final Version Due
DESCRIPTION:IEEE International Conference on Biometrics: Theory\, Applica
 tions &  Systems
URL:http://www.wikicfp.com/cfp/servlet/event.showcfp?eventid=43637&copyow
 nerid=75109
UID:cfp508528-N@wikicfp.com
END:VEVENT
BEGIN:VEVENT
DTSTAMP:20260419T220337Z
DTSTART;VALUE=DATE:20150506
DTEND;VALUE=DATE:20150509
SUMMARY:SAFE 2015
DESCRIPTION:6th International Conference on Safety and Security Engineeri
 ng
URL:http://www.wikicfp.com/cfp/servlet/event.showcfp?eventid=40594&copyow
 nerid=75109
UID:cfp508532-E@wikicfp.com
END:VEVENT
BEGIN:VEVENT
DTSTAMP:20260419T220337Z
DTSTART;VALUE=DATE:20150406
SUMMARY:SAFE 2015 Deadline
DESCRIPTION:6th International Conference on Safety and Security Engineeri
 ng
URL:http://www.wikicfp.com/cfp/servlet/event.showcfp?eventid=40594&copyow
 nerid=75109
UID:cfp508532-D@wikicfp.com
END:VEVENT
BEGIN:VEVENT
DTSTAMP:20260419T220337Z
DTSTART;VALUE=DATE:20150625
DTEND;VALUE=DATE:20150628
SUMMARY:ICBBS 2015
DESCRIPTION:2015 4th International Conference on Bioinformatics and Biome
 dical Science
URL:http://www.wikicfp.com/cfp/servlet/event.showcfp?eventid=42693&copyow
 nerid=75109
UID:cfp508519-E@wikicfp.com
END:VEVENT
BEGIN:VEVENT
DTSTAMP:20260419T220337Z
DTSTART;VALUE=DATE:20150410
SUMMARY:ICBBS 2015 Deadline
DESCRIPTION:2015 4th International Conference on Bioinformatics and Biome
 dical Science
URL:http://www.wikicfp.com/cfp/servlet/event.showcfp?eventid=42693&copyow
 nerid=75109
UID:cfp508519-D@wikicfp.com
END:VEVENT
BEGIN:VEVENT
DTSTAMP:20260419T220337Z
DTSTART;VALUE=DATE:20150430
SUMMARY:ICBBS 2015 Notification Due
DESCRIPTION:2015 4th International Conference on Bioinformatics and Biome
 dical Science
URL:http://www.wikicfp.com/cfp/servlet/event.showcfp?eventid=42693&copyow
 nerid=75109
UID:cfp508519-N@wikicfp.com
END:VEVENT
BEGIN:VEVENT
DTSTAMP:20260419T220337Z
DTSTART;VALUE=DATE:20150520
SUMMARY:ICBBS 2015 Final Version Due
DESCRIPTION:2015 4th International Conference on Bioinformatics and Biome
 dical Science
URL:http://www.wikicfp.com/cfp/servlet/event.showcfp?eventid=42693&copyow
 nerid=75109
UID:cfp508519-N@wikicfp.com
END:VEVENT
BEGIN:VEVENT
DTSTAMP:20260419T220337Z
DTSTART;VALUE=DATE:20150918
DTEND;VALUE=DATE:20150921
SUMMARY:iCBBE 2015
DESCRIPTION:The 9th International Conference on Bioinformatics and Biomed
 ical Engineering (iCBBE 2015)
URL:http://www.wikicfp.com/cfp/servlet/event.showcfp?eventid=43308&copyow
 nerid=75109
UID:cfp508525-E@wikicfp.com
END:VEVENT
BEGIN:VEVENT
DTSTAMP:20260419T220337Z
DTSTART;VALUE=DATE:20150417
SUMMARY:iCBBE 2015 Deadline
DESCRIPTION:The 9th International Conference on Bioinformatics and Biomed
 ical Engineering (iCBBE 2015)
URL:http://www.wikicfp.com/cfp/servlet/event.showcfp?eventid=43308&copyow
 nerid=75109
UID:cfp508525-D@wikicfp.com
END:VEVENT
BEGIN:VEVENT
DTSTAMP:20260419T220337Z
DTSTART;VALUE=DATE:20150904
DTEND;VALUE=DATE:20150906
SUMMARY:GCETM 2015
DESCRIPTION:2nd Global Conference on Engineering and Technology Managemen
 t
URL:http://www.wikicfp.com/cfp/servlet/event.showcfp?eventid=43228&copyow
 nerid=75109
UID:cfp508533-E@wikicfp.com
END:VEVENT
BEGIN:VEVENT
DTSTAMP:20260419T220337Z
DTSTART;VALUE=DATE:20150320
SUMMARY:GCETM 2015 Abstract Due
DESCRIPTION:2nd Global Conference on Engineering and Technology Managemen
 t
URL:http://www.wikicfp.com/cfp/servlet/event.showcfp?eventid=43228&copyow
 nerid=75109
UID:cfp508533-A@wikicfp.com
END:VEVENT
BEGIN:VEVENT
DTSTAMP:20260419T220337Z
DTSTART;VALUE=DATE:20150508
SUMMARY:GCETM 2015 Deadline
DESCRIPTION:2nd Global Conference on Engineering and Technology Managemen
 t
URL:http://www.wikicfp.com/cfp/servlet/event.showcfp?eventid=43228&copyow
 nerid=75109
UID:cfp508533-D@wikicfp.com
END:VEVENT
BEGIN:VEVENT
DTSTAMP:20260419T220337Z
DTSTART;VALUE=DATE:20150522
SUMMARY:GCETM 2015 Notification Due
DESCRIPTION:2nd Global Conference on Engineering and Technology Managemen
 t
URL:http://www.wikicfp.com/cfp/servlet/event.showcfp?eventid=43228&copyow
 nerid=75109
UID:cfp508533-N@wikicfp.com
END:VEVENT
BEGIN:VEVENT
DTSTAMP:20260419T220337Z
DTSTART;VALUE=DATE:20150605
SUMMARY:GCETM 2015 Final Version Due
DESCRIPTION:2nd Global Conference on Engineering and Technology Managemen
 t
URL:http://www.wikicfp.com/cfp/servlet/event.showcfp?eventid=43228&copyow
 nerid=75109
UID:cfp508533-N@wikicfp.com
END:VEVENT
BEGIN:VEVENT
DTSTAMP:20260419T220337Z
DTSTART;VALUE=DATE:20150709
DTEND;VALUE=DATE:20150712
SUMMARY:ICEBB 2015
DESCRIPTION:2015 5th International Conference on Environmental\, Biomedic
 al and Biotechnology
URL:http://www.wikicfp.com/cfp/servlet/event.showcfp?eventid=42702&copyow
 nerid=75109
UID:cfp508520-E@wikicfp.com
END:VEVENT
BEGIN:VEVENT
DTSTAMP:20260419T220337Z
DTSTART;VALUE=DATE:20150515
SUMMARY:ICEBB 2015 Deadline
DESCRIPTION:2015 5th International Conference on Environmental\, Biomedic
 al and Biotechnology
URL:http://www.wikicfp.com/cfp/servlet/event.showcfp?eventid=42702&copyow
 nerid=75109
UID:cfp508520-D@wikicfp.com
END:VEVENT
BEGIN:VEVENT
DTSTAMP:20260419T220337Z
DTSTART;VALUE=DATE:20150530
SUMMARY:ICEBB 2015 Notification Due
DESCRIPTION:2015 5th International Conference on Environmental\, Biomedic
 al and Biotechnology
URL:http://www.wikicfp.com/cfp/servlet/event.showcfp?eventid=42702&copyow
 nerid=75109
UID:cfp508520-N@wikicfp.com
END:VEVENT
BEGIN:VEVENT
DTSTAMP:20260419T220337Z
DTSTART;VALUE=DATE:20150615
SUMMARY:ICEBB 2015 Final Version Due
DESCRIPTION:2015 5th International Conference on Environmental\, Biomedic
 al and Biotechnology
URL:http://www.wikicfp.com/cfp/servlet/event.showcfp?eventid=42702&copyow
 nerid=75109
UID:cfp508520-N@wikicfp.com
END:VEVENT
BEGIN:VEVENT
DTSTAMP:20260419T220337Z
DTSTART;VALUE=DATE:20151206
DTEND;VALUE=DATE:20151212
SUMMARY:COBEM 2015
DESCRIPTION:ABCM International Congress of Mechanical Engineering
URL:http://www.wikicfp.com/cfp/servlet/event.showcfp?eventid=42624&copyow
 nerid=75109
UID:cfp508535-E@wikicfp.com
END:VEVENT
BEGIN:VEVENT
DTSTAMP:20260419T220337Z
DTSTART;VALUE=DATE:20150306
SUMMARY:COBEM 2015 Abstract Due
DESCRIPTION:ABCM International Congress of Mechanical Engineering
URL:http://www.wikicfp.com/cfp/servlet/event.showcfp?eventid=42624&copyow
 nerid=75109
UID:cfp508535-A@wikicfp.com
END:VEVENT
BEGIN:VEVENT
DTSTAMP:20260419T220337Z
DTSTART;VALUE=DATE:20150529
SUMMARY:COBEM 2015 Deadline
DESCRIPTION:ABCM International Congress of Mechanical Engineering
URL:http://www.wikicfp.com/cfp/servlet/event.showcfp?eventid=42624&copyow
 nerid=75109
UID:cfp508535-D@wikicfp.com
END:VEVENT
BEGIN:VEVENT
DTSTAMP:20260419T220337Z
DTSTART;VALUE=DATE:20150828
SUMMARY:COBEM 2015 Notification Due
DESCRIPTION:ABCM International Congress of Mechanical Engineering
URL:http://www.wikicfp.com/cfp/servlet/event.showcfp?eventid=42624&copyow
 nerid=75109
UID:cfp508535-N@wikicfp.com
END:VEVENT
BEGIN:VEVENT
DTSTAMP:20260419T220337Z
DTSTART;VALUE=DATE:20150904
SUMMARY:COBEM 2015 Final Version Due
DESCRIPTION:ABCM International Congress of Mechanical Engineering
URL:http://www.wikicfp.com/cfp/servlet/event.showcfp?eventid=42624&copyow
 nerid=75109
UID:cfp508535-N@wikicfp.com
END:VEVENT
BEGIN:VEVENT
DTSTAMP:20260419T220337Z
DTSTART;VALUE=DATE:20150530
SUMMARY:IJBB 2015 Deadline
DESCRIPTION:International Journal on Bioinformatics & Biosciences
URL:http://www.wikicfp.com/cfp/servlet/event.showcfp?eventid=38644&copyow
 nerid=75109
UID:cfp508523-D@wikicfp.com
END:VEVENT
BEGIN:VEVENT
DTSTAMP:20260419T220337Z
DTSTART;VALUE=DATE:20150630
SUMMARY:IJBB 2015 Notification Due
DESCRIPTION:International Journal on Bioinformatics & Biosciences
URL:http://www.wikicfp.com/cfp/servlet/event.showcfp?eventid=38644&copyow
 nerid=75109
UID:cfp508523-N@wikicfp.com
END:VEVENT
BEGIN:VEVENT
DTSTAMP:20260419T220337Z
DTSTART;VALUE=DATE:20150707
SUMMARY:IJBB 2015 Final Version Due
DESCRIPTION:International Journal on Bioinformatics & Biosciences
URL:http://www.wikicfp.com/cfp/servlet/event.showcfp?eventid=38644&copyow
 nerid=75109
UID:cfp508523-N@wikicfp.com
END:VEVENT
BEGIN:VEVENT
DTSTAMP:20260419T220337Z
DTSTART;VALUE=DATE:20160615
SUMMARY:JBEMI 2016 Deadline
DESCRIPTION:Journal of Biomedical Engineering and Medical Imaging
URL:http://www.wikicfp.com/cfp/servlet/event.showcfp?eventid=37559&copyow
 nerid=75109
UID:cfp508522-D@wikicfp.com
END:VEVENT
BEGIN:VEVENT
DTSTAMP:20260419T220337Z
DTSTART;VALUE=DATE:20160625
SUMMARY:JBEMI 2016 Notification Due
DESCRIPTION:Journal of Biomedical Engineering and Medical Imaging
URL:http://www.wikicfp.com/cfp/servlet/event.showcfp?eventid=37559&copyow
 nerid=75109
UID:cfp508522-N@wikicfp.com
END:VEVENT
BEGIN:VEVENT
DTSTAMP:20260419T220337Z
DTSTART;VALUE=DATE:20160630
SUMMARY:JBEMI 2016 Final Version Due
DESCRIPTION:Journal of Biomedical Engineering and Medical Imaging
URL:http://www.wikicfp.com/cfp/servlet/event.showcfp?eventid=37559&copyow
 nerid=75109
UID:cfp508522-N@wikicfp.com
END:VEVENT
BEGIN:VEVENT
DTSTAMP:20260419T220337Z
DTSTART;VALUE=DATE:20210730
SUMMARY:EJBLS - 3 2021 Deadline
DESCRIPTION:The European Journal of Biomedical and Life Sciences 3/2021
URL:http://www.wikicfp.com/cfp/servlet/event.showcfp?eventid=43177&copyow
 nerid=75109
UID:cfp508521-D@wikicfp.com
END:VEVENT
END:VCALENDAR
