BEGIN:VCALENDAR
PRODID:-//WikiCFP//srutiganc 1.0//EN
VERSION:2.0
CALSCALE:GREGORIAN
BEGIN:VEVENT
DTSTAMP:20260425T115639Z
DTSTART;VALUE=DATE:20150629
DTEND;VALUE=DATE:20150703
SUMMARY:ISPDC 2015
DESCRIPTION:The 14th International Symposium on Parallel and Distributed 
 Computing
URL:http://www.wikicfp.com/cfp/servlet/event.showcfp?eventid=41634&copyow
 nerid=74965
UID:cfp507840-E@wikicfp.com
END:VEVENT
BEGIN:VEVENT
DTSTAMP:20260425T115639Z
DTSTART;VALUE=DATE:20150222
SUMMARY:ISPDC 2015 Deadline
DESCRIPTION:The 14th International Symposium on Parallel and Distributed 
 Computing
URL:http://www.wikicfp.com/cfp/servlet/event.showcfp?eventid=41634&copyow
 nerid=74965
UID:cfp507840-D@wikicfp.com
END:VEVENT
BEGIN:VEVENT
DTSTAMP:20260425T115639Z
DTSTART;VALUE=DATE:20150315
SUMMARY:ISPDC 2015 Notification Due
DESCRIPTION:The 14th International Symposium on Parallel and Distributed 
 Computing
URL:http://www.wikicfp.com/cfp/servlet/event.showcfp?eventid=41634&copyow
 nerid=74965
UID:cfp507840-N@wikicfp.com
END:VEVENT
BEGIN:VEVENT
DTSTAMP:20260425T115639Z
DTSTART;VALUE=DATE:20150330
SUMMARY:ISPDC 2015 Final Version Due
DESCRIPTION:The 14th International Symposium on Parallel and Distributed 
 Computing
URL:http://www.wikicfp.com/cfp/servlet/event.showcfp?eventid=41634&copyow
 nerid=74965
UID:cfp507840-N@wikicfp.com
END:VEVENT
BEGIN:VEVENT
DTSTAMP:20260425T115639Z
DTSTART;VALUE=DATE:20150928
DTEND;VALUE=DATE:20151002
SUMMARY:SRDS 2015
DESCRIPTION:34th International Symposium on Reliable Distributed Systems
URL:http://www.wikicfp.com/cfp/servlet/event.showcfp?eventid=42096&copyow
 nerid=74965
UID:cfp507841-E@wikicfp.com
END:VEVENT
BEGIN:VEVENT
DTSTAMP:20260425T115639Z
DTSTART;VALUE=DATE:20150330
SUMMARY:SRDS 2015 Abstract Due
DESCRIPTION:34th International Symposium on Reliable Distributed Systems
URL:http://www.wikicfp.com/cfp/servlet/event.showcfp?eventid=42096&copyow
 nerid=74965
UID:cfp507841-A@wikicfp.com
END:VEVENT
BEGIN:VEVENT
DTSTAMP:20260425T115639Z
DTSTART;VALUE=DATE:20150406
SUMMARY:SRDS 2015 Deadline
DESCRIPTION:34th International Symposium on Reliable Distributed Systems
URL:http://www.wikicfp.com/cfp/servlet/event.showcfp?eventid=42096&copyow
 nerid=74965
UID:cfp507841-D@wikicfp.com
END:VEVENT
BEGIN:VEVENT
DTSTAMP:20260425T115639Z
DTSTART;VALUE=DATE:20150622
SUMMARY:SRDS 2015 Notification Due
DESCRIPTION:34th International Symposium on Reliable Distributed Systems
URL:http://www.wikicfp.com/cfp/servlet/event.showcfp?eventid=42096&copyow
 nerid=74965
UID:cfp507841-N@wikicfp.com
END:VEVENT
BEGIN:VEVENT
DTSTAMP:20260425T115639Z
DTSTART;VALUE=DATE:20150713
SUMMARY:SRDS 2015 Final Version Due
DESCRIPTION:34th International Symposium on Reliable Distributed Systems
URL:http://www.wikicfp.com/cfp/servlet/event.showcfp?eventid=42096&copyow
 nerid=74965
UID:cfp507841-N@wikicfp.com
END:VEVENT
BEGIN:VEVENT
DTSTAMP:20260425T115639Z
DTSTART;VALUE=DATE:20150715
DTEND;VALUE=DATE:20150718
SUMMARY:SIROCCO 2015
DESCRIPTION:22nd International Colloquium on Structural Information and C
 ommunication Complexity
URL:http://www.wikicfp.com/cfp/servlet/event.showcfp?eventid=43800&copyow
 nerid=74965
UID:cfp507843-E@wikicfp.com
END:VEVENT
BEGIN:VEVENT
DTSTAMP:20260425T115639Z
DTSTART;VALUE=DATE:20150430
SUMMARY:SIROCCO 2015 Deadline
DESCRIPTION:22nd International Colloquium on Structural Information and C
 ommunication Complexity
URL:http://www.wikicfp.com/cfp/servlet/event.showcfp?eventid=43800&copyow
 nerid=74965
UID:cfp507843-D@wikicfp.com
END:VEVENT
BEGIN:VEVENT
DTSTAMP:20260425T115639Z
DTSTART;VALUE=DATE:20150608
SUMMARY:SIROCCO 2015 Notification Due
DESCRIPTION:22nd International Colloquium on Structural Information and C
 ommunication Complexity
URL:http://www.wikicfp.com/cfp/servlet/event.showcfp?eventid=43800&copyow
 nerid=74965
UID:cfp507843-N@wikicfp.com
END:VEVENT
END:VCALENDAR
