BEGIN:VCALENDAR
PRODID:-//WikiCFP//lzx 1.0//EN
VERSION:2.0
CALSCALE:GREGORIAN
BEGIN:VEVENT
DTSTAMP:20260424T211540Z
DTSTART;VALUE=DATE:20100825
DTEND;VALUE=DATE:20100828
SUMMARY:CHINACOM 2010
DESCRIPTION:International Conference on Communications and Networking in 
 China
URL:http://www.wikicfp.com/cfp/servlet/event.showcfp?eventid=6645&copyown
 erid=7489
UID:cfp55711-E@wikicfp.com
END:VEVENT
BEGIN:VEVENT
DTSTAMP:20260424T211540Z
DTSTART;VALUE=DATE:20100120
SUMMARY:CHINACOM 2010 Deadline
DESCRIPTION:International Conference on Communications and Networking in 
 China
URL:http://www.wikicfp.com/cfp/servlet/event.showcfp?eventid=6645&copyown
 erid=7489
UID:cfp55711-D@wikicfp.com
END:VEVENT
BEGIN:VEVENT
DTSTAMP:20260424T211540Z
DTSTART;VALUE=DATE:20100430
SUMMARY:CHINACOM 2010 Notification Due
DESCRIPTION:International Conference on Communications and Networking in 
 China
URL:http://www.wikicfp.com/cfp/servlet/event.showcfp?eventid=6645&copyown
 erid=7489
UID:cfp55711-N@wikicfp.com
END:VEVENT
BEGIN:VEVENT
DTSTAMP:20260424T211540Z
DTSTART;VALUE=DATE:20100530
SUMMARY:CHINACOM 2010 Final Version Due
DESCRIPTION:International Conference on Communications and Networking in 
 China
URL:http://www.wikicfp.com/cfp/servlet/event.showcfp?eventid=6645&copyown
 erid=7489
UID:cfp55711-N@wikicfp.com
END:VEVENT
BEGIN:VEVENT
DTSTAMP:20260424T211540Z
DTSTART;VALUE=DATE:20100923
DTEND;VALUE=DATE:20100926
SUMMARY:WiCOM 2010
DESCRIPTION:6th International Conference on Wireless Communications\, Net
 working and Mobile Computing
URL:http://www.wikicfp.com/cfp/servlet/event.showcfp?eventid=6252&copyown
 erid=7489
UID:cfp55714-E@wikicfp.com
END:VEVENT
BEGIN:VEVENT
DTSTAMP:20260424T211540Z
DTSTART;VALUE=DATE:20100210
SUMMARY:WiCOM 2010 Deadline
DESCRIPTION:6th International Conference on Wireless Communications\, Net
 working and Mobile Computing
URL:http://www.wikicfp.com/cfp/servlet/event.showcfp?eventid=6252&copyown
 erid=7489
UID:cfp55714-D@wikicfp.com
END:VEVENT
BEGIN:VEVENT
DTSTAMP:20260424T211540Z
DTSTART;VALUE=DATE:20100430
SUMMARY:WiCOM 2010 Notification Due
DESCRIPTION:6th International Conference on Wireless Communications\, Net
 working and Mobile Computing
URL:http://www.wikicfp.com/cfp/servlet/event.showcfp?eventid=6252&copyown
 erid=7489
UID:cfp55714-N@wikicfp.com
END:VEVENT
BEGIN:VEVENT
DTSTAMP:20260424T211540Z
DTSTART;VALUE=DATE:20100514
SUMMARY:WiCOM 2010 Final Version Due
DESCRIPTION:6th International Conference on Wireless Communications\, Net
 working and Mobile Computing
URL:http://www.wikicfp.com/cfp/servlet/event.showcfp?eventid=6252&copyown
 erid=7489
UID:cfp55714-N@wikicfp.com
END:VEVENT
BEGIN:VEVENT
DTSTAMP:20260424T211540Z
DTSTART;VALUE=DATE:20100616
DTEND;VALUE=DATE:20100619
SUMMARY:CROWNCOM 2010
DESCRIPTION:5th International Conference on Cognitive Radio Oriented Wire
 less Networks and Communications
URL:http://www.wikicfp.com/cfp/servlet/event.showcfp?eventid=6607&copyown
 erid=7489
UID:cfp55715-E@wikicfp.com
END:VEVENT
BEGIN:VEVENT
DTSTAMP:20260424T211540Z
DTSTART;VALUE=DATE:20100214
SUMMARY:CROWNCOM 2010 Deadline
DESCRIPTION:5th International Conference on Cognitive Radio Oriented Wire
 less Networks and Communications
URL:http://www.wikicfp.com/cfp/servlet/event.showcfp?eventid=6607&copyown
 erid=7489
UID:cfp55715-D@wikicfp.com
END:VEVENT
BEGIN:VEVENT
DTSTAMP:20260424T211540Z
DTSTART;VALUE=DATE:20100411
SUMMARY:CROWNCOM 2010 Notification Due
DESCRIPTION:5th International Conference on Cognitive Radio Oriented Wire
 less Networks and Communications
URL:http://www.wikicfp.com/cfp/servlet/event.showcfp?eventid=6607&copyown
 erid=7489
UID:cfp55715-N@wikicfp.com
END:VEVENT
BEGIN:VEVENT
DTSTAMP:20260424T211540Z
DTSTART;VALUE=DATE:20100502
SUMMARY:CROWNCOM 2010 Final Version Due
DESCRIPTION:5th International Conference on Cognitive Radio Oriented Wire
 less Networks and Communications
URL:http://www.wikicfp.com/cfp/servlet/event.showcfp?eventid=6607&copyown
 erid=7489
UID:cfp55715-N@wikicfp.com
END:VEVENT
BEGIN:VEVENT
DTSTAMP:20260424T211540Z
DTSTART;VALUE=DATE:20100926
DTEND;VALUE=DATE:20101001
SUMMARY:PIMRC 2010
DESCRIPTION:IEEE International Symposium on Personal\, Indoor and Mobile 
 Radio Communications
URL:http://www.wikicfp.com/cfp/servlet/event.showcfp?eventid=6517&copyown
 erid=7489
UID:cfp55716-E@wikicfp.com
END:VEVENT
BEGIN:VEVENT
DTSTAMP:20260424T211540Z
DTSTART;VALUE=DATE:20100301
SUMMARY:PIMRC 2010 Deadline
DESCRIPTION:IEEE International Symposium on Personal\, Indoor and Mobile 
 Radio Communications
URL:http://www.wikicfp.com/cfp/servlet/event.showcfp?eventid=6517&copyown
 erid=7489
UID:cfp55716-D@wikicfp.com
END:VEVENT
BEGIN:VEVENT
DTSTAMP:20260424T211540Z
DTSTART;VALUE=DATE:20100517
SUMMARY:PIMRC 2010 Notification Due
DESCRIPTION:IEEE International Symposium on Personal\, Indoor and Mobile 
 Radio Communications
URL:http://www.wikicfp.com/cfp/servlet/event.showcfp?eventid=6517&copyown
 erid=7489
UID:cfp55716-N@wikicfp.com
END:VEVENT
BEGIN:VEVENT
DTSTAMP:20260424T211540Z
DTSTART;VALUE=DATE:20100618
SUMMARY:PIMRC 2010 Final Version Due
DESCRIPTION:IEEE International Symposium on Personal\, Indoor and Mobile 
 Radio Communications
URL:http://www.wikicfp.com/cfp/servlet/event.showcfp?eventid=6517&copyown
 erid=7489
UID:cfp55716-N@wikicfp.com
END:VEVENT
BEGIN:VEVENT
DTSTAMP:20260424T211540Z
DTSTART;VALUE=DATE:20101206
DTEND;VALUE=DATE:20101211
SUMMARY:GLOBECOM 2010
DESCRIPTION:IEEE Global Communications Conference 2010
URL:http://www.wikicfp.com/cfp/servlet/event.showcfp?eventid=5502&copyown
 erid=7489
UID:cfp55712-E@wikicfp.com
END:VEVENT
BEGIN:VEVENT
DTSTAMP:20260424T211540Z
DTSTART;VALUE=DATE:20100315
SUMMARY:GLOBECOM 2010 Deadline
DESCRIPTION:IEEE Global Communications Conference 2010
URL:http://www.wikicfp.com/cfp/servlet/event.showcfp?eventid=5502&copyown
 erid=7489
UID:cfp55712-D@wikicfp.com
END:VEVENT
BEGIN:VEVENT
DTSTAMP:20260424T211540Z
DTSTART;VALUE=DATE:20100701
SUMMARY:GLOBECOM 2010 Notification Due
DESCRIPTION:IEEE Global Communications Conference 2010
URL:http://www.wikicfp.com/cfp/servlet/event.showcfp?eventid=5502&copyown
 erid=7489
UID:cfp55712-N@wikicfp.com
END:VEVENT
BEGIN:VEVENT
DTSTAMP:20260424T211540Z
DTSTART;VALUE=DATE:20100801
SUMMARY:GLOBECOM 2010 Final Version Due
DESCRIPTION:IEEE Global Communications Conference 2010
URL:http://www.wikicfp.com/cfp/servlet/event.showcfp?eventid=5502&copyown
 erid=7489
UID:cfp55712-N@wikicfp.com
END:VEVENT
BEGIN:VEVENT
DTSTAMP:20260424T211540Z
DTSTART;VALUE=DATE:20100916
DTEND;VALUE=DATE:20100920
SUMMARY:ISSSE 2010
DESCRIPTION:International Symposium on Signals\, Systems and Electronics
URL:http://www.wikicfp.com/cfp/servlet/event.showcfp?eventid=6513&copyown
 erid=7489
UID:cfp55713-E@wikicfp.com
END:VEVENT
BEGIN:VEVENT
DTSTAMP:20260424T211540Z
DTSTART;VALUE=DATE:20100520
SUMMARY:ISSSE 2010 Deadline
DESCRIPTION:International Symposium on Signals\, Systems and Electronics
URL:http://www.wikicfp.com/cfp/servlet/event.showcfp?eventid=6513&copyown
 erid=7489
UID:cfp55713-D@wikicfp.com
END:VEVENT
BEGIN:VEVENT
DTSTAMP:20260424T211540Z
DTSTART;VALUE=DATE:20100630
SUMMARY:ISSSE 2010 Notification Due
DESCRIPTION:International Symposium on Signals\, Systems and Electronics
URL:http://www.wikicfp.com/cfp/servlet/event.showcfp?eventid=6513&copyown
 erid=7489
UID:cfp55713-N@wikicfp.com
END:VEVENT
END:VCALENDAR
