BEGIN:VCALENDAR
PRODID:-//WikiCFP//cit 1.0//EN
VERSION:2.0
CALSCALE:GREGORIAN
BEGIN:VEVENT
DTSTAMP:20260424T213201Z
DTSTART;VALUE=DATE:20150831
DTEND;VALUE=DATE:20150905
SUMMARY:PaCT 2015
DESCRIPTION:The 13th International Conference on Parallel Computing Techn
 ologies
URL:http://www.wikicfp.com/cfp/servlet/event.showcfp?eventid=43001&copyow
 nerid=74561
UID:cfp505693-E@wikicfp.com
END:VEVENT
BEGIN:VEVENT
DTSTAMP:20260424T213201Z
DTSTART;VALUE=DATE:20150215
SUMMARY:PaCT 2015 Deadline
DESCRIPTION:The 13th International Conference on Parallel Computing Techn
 ologies
URL:http://www.wikicfp.com/cfp/servlet/event.showcfp?eventid=43001&copyow
 nerid=74561
UID:cfp505693-D@wikicfp.com
END:VEVENT
BEGIN:VEVENT
DTSTAMP:20260424T213201Z
DTSTART;VALUE=DATE:20150415
SUMMARY:PaCT 2015 Notification Due
DESCRIPTION:The 13th International Conference on Parallel Computing Techn
 ologies
URL:http://www.wikicfp.com/cfp/servlet/event.showcfp?eventid=43001&copyow
 nerid=74561
UID:cfp505693-N@wikicfp.com
END:VEVENT
BEGIN:VEVENT
DTSTAMP:20260424T213201Z
DTSTART;VALUE=DATE:20150525
SUMMARY:PaCT 2015 Final Version Due
DESCRIPTION:The 13th International Conference on Parallel Computing Techn
 ologies
URL:http://www.wikicfp.com/cfp/servlet/event.showcfp?eventid=43001&copyow
 nerid=74561
UID:cfp505693-N@wikicfp.com
END:VEVENT
BEGIN:VEVENT
DTSTAMP:20260424T213201Z
DTSTART;VALUE=DATE:20151018
DTEND;VALUE=DATE:20151022
SUMMARY:PACT 2015
DESCRIPTION:International Conference on Parallel Architectures and Compil
 ation Techniques
URL:http://www.wikicfp.com/cfp/servlet/event.showcfp?eventid=43238&copyow
 nerid=74561
UID:cfp505694-E@wikicfp.com
END:VEVENT
BEGIN:VEVENT
DTSTAMP:20260424T213201Z
DTSTART;VALUE=DATE:20150319
SUMMARY:PACT 2015 Abstract Due
DESCRIPTION:International Conference on Parallel Architectures and Compil
 ation Techniques
URL:http://www.wikicfp.com/cfp/servlet/event.showcfp?eventid=43238&copyow
 nerid=74561
UID:cfp505694-A@wikicfp.com
END:VEVENT
BEGIN:VEVENT
DTSTAMP:20260424T213201Z
DTSTART;VALUE=DATE:20150326
SUMMARY:PACT 2015 Deadline
DESCRIPTION:International Conference on Parallel Architectures and Compil
 ation Techniques
URL:http://www.wikicfp.com/cfp/servlet/event.showcfp?eventid=43238&copyow
 nerid=74561
UID:cfp505694-D@wikicfp.com
END:VEVENT
BEGIN:VEVENT
DTSTAMP:20260424T213201Z
DTSTART;VALUE=DATE:20150801
SUMMARY:PACT 2015 Notification Due
DESCRIPTION:International Conference on Parallel Architectures and Compil
 ation Techniques
URL:http://www.wikicfp.com/cfp/servlet/event.showcfp?eventid=43238&copyow
 nerid=74561
UID:cfp505694-N@wikicfp.com
END:VEVENT
BEGIN:VEVENT
DTSTAMP:20260424T213201Z
DTSTART;VALUE=DATE:20150818
SUMMARY:PACT 2015 Final Version Due
DESCRIPTION:International Conference on Parallel Architectures and Compil
 ation Techniques
URL:http://www.wikicfp.com/cfp/servlet/event.showcfp?eventid=43238&copyow
 nerid=74561
UID:cfp505694-N@wikicfp.com
END:VEVENT
END:VCALENDAR
