BEGIN:VCALENDAR
PRODID:-//WikiCFP//konangelop 1.0//EN
VERSION:2.0
CALSCALE:GREGORIAN
BEGIN:VEVENT
DTSTAMP:20260425T035934Z
DTSTART;VALUE=DATE:20140804
DTEND;VALUE=DATE:20140808
SUMMARY:ICECCS 2014
DESCRIPTION:International Conference on Engineering of Complex Computer S
 ystems
URL:http://www.wikicfp.com/cfp/servlet/event.showcfp?eventid=34611&copyow
 nerid=74476
UID:cfp506717-E@wikicfp.com
END:VEVENT
BEGIN:VEVENT
DTSTAMP:20260425T035934Z
DTSTART;VALUE=DATE:20140214
SUMMARY:ICECCS 2014 Abstract Due
DESCRIPTION:International Conference on Engineering of Complex Computer S
 ystems
URL:http://www.wikicfp.com/cfp/servlet/event.showcfp?eventid=34611&copyow
 nerid=74476
UID:cfp506717-A@wikicfp.com
END:VEVENT
BEGIN:VEVENT
DTSTAMP:20260425T035934Z
DTSTART;VALUE=DATE:20140228
SUMMARY:ICECCS 2014 Deadline
DESCRIPTION:International Conference on Engineering of Complex Computer S
 ystems
URL:http://www.wikicfp.com/cfp/servlet/event.showcfp?eventid=34611&copyow
 nerid=74476
UID:cfp506717-D@wikicfp.com
END:VEVENT
BEGIN:VEVENT
DTSTAMP:20260425T035934Z
DTSTART;VALUE=DATE:20140422
SUMMARY:ICECCS 2014 Notification Due
DESCRIPTION:International Conference on Engineering of Complex Computer S
 ystems
URL:http://www.wikicfp.com/cfp/servlet/event.showcfp?eventid=34611&copyow
 nerid=74476
UID:cfp506717-N@wikicfp.com
END:VEVENT
BEGIN:VEVENT
DTSTAMP:20260425T035934Z
DTSTART;VALUE=DATE:20140504
SUMMARY:ICECCS 2014 Final Version Due
DESCRIPTION:International Conference on Engineering of Complex Computer S
 ystems
URL:http://www.wikicfp.com/cfp/servlet/event.showcfp?eventid=34611&copyow
 nerid=74476
UID:cfp506717-N@wikicfp.com
END:VEVENT
BEGIN:VEVENT
DTSTAMP:20260425T035934Z
DTSTART;VALUE=DATE:20150516
DTEND;VALUE=DATE:20150525
SUMMARY:ICSE 2015
DESCRIPTION:37th International Conference on Software Engineering
URL:http://www.wikicfp.com/cfp/servlet/event.showcfp?eventid=37010&copyow
 nerid=74476
UID:cfp504979-E@wikicfp.com
END:VEVENT
BEGIN:VEVENT
DTSTAMP:20260425T035934Z
DTSTART;VALUE=DATE:20140905
SUMMARY:ICSE 2015 Deadline
DESCRIPTION:37th International Conference on Software Engineering
URL:http://www.wikicfp.com/cfp/servlet/event.showcfp?eventid=37010&copyow
 nerid=74476
UID:cfp504979-D@wikicfp.com
END:VEVENT
BEGIN:VEVENT
DTSTAMP:20260425T035934Z
DTSTART;VALUE=DATE:20141220
SUMMARY:ICSE 2015 Notification Due
DESCRIPTION:37th International Conference on Software Engineering
URL:http://www.wikicfp.com/cfp/servlet/event.showcfp?eventid=37010&copyow
 nerid=74476
UID:cfp504979-N@wikicfp.com
END:VEVENT
BEGIN:VEVENT
DTSTAMP:20260425T035934Z
DTSTART;VALUE=DATE:20150213
SUMMARY:ICSE 2015 Final Version Due
DESCRIPTION:37th International Conference on Software Engineering
URL:http://www.wikicfp.com/cfp/servlet/event.showcfp?eventid=37010&copyow
 nerid=74476
UID:cfp504979-N@wikicfp.com
END:VEVENT
BEGIN:VEVENT
DTSTAMP:20260425T035934Z
DTSTART;VALUE=DATE:20150413
DTEND;VALUE=DATE:20150418
SUMMARY:ACM SAC  2015
DESCRIPTION:The 30th ACM/SIGAPP Symposium On Applied Computing
URL:http://www.wikicfp.com/cfp/servlet/event.showcfp?eventid=38377&copyow
 nerid=74476
UID:cfp504977-E@wikicfp.com
END:VEVENT
BEGIN:VEVENT
DTSTAMP:20260425T035934Z
DTSTART;VALUE=DATE:20140912
SUMMARY:ACM SAC  2015 Deadline
DESCRIPTION:The 30th ACM/SIGAPP Symposium On Applied Computing
URL:http://www.wikicfp.com/cfp/servlet/event.showcfp?eventid=38377&copyow
 nerid=74476
UID:cfp504977-D@wikicfp.com
END:VEVENT
BEGIN:VEVENT
DTSTAMP:20260425T035934Z
DTSTART;VALUE=DATE:20141117
SUMMARY:ACM SAC  2015 Notification Due
DESCRIPTION:The 30th ACM/SIGAPP Symposium On Applied Computing
URL:http://www.wikicfp.com/cfp/servlet/event.showcfp?eventid=38377&copyow
 nerid=74476
UID:cfp504977-N@wikicfp.com
END:VEVENT
BEGIN:VEVENT
DTSTAMP:20260425T035934Z
DTSTART;VALUE=DATE:20141208
SUMMARY:ACM SAC  2015 Final Version Due
DESCRIPTION:The 30th ACM/SIGAPP Symposium On Applied Computing
URL:http://www.wikicfp.com/cfp/servlet/event.showcfp?eventid=38377&copyow
 nerid=74476
UID:cfp504977-N@wikicfp.com
END:VEVENT
BEGIN:VEVENT
DTSTAMP:20260425T035934Z
DTSTART;VALUE=DATE:20150518
DTEND;VALUE=DATE:20150520
SUMMARY:SEAMS 2015
DESCRIPTION:10th International Symposium on Software Engineering for Adap
 tive and Self-Managing Systems
URL:http://www.wikicfp.com/cfp/servlet/event.showcfp?eventid=39801&copyow
 nerid=74476
UID:cfp504978-E@wikicfp.com
END:VEVENT
BEGIN:VEVENT
DTSTAMP:20260425T035934Z
DTSTART;VALUE=DATE:20150109
SUMMARY:SEAMS 2015 Abstract Due
DESCRIPTION:10th International Symposium on Software Engineering for Adap
 tive and Self-Managing Systems
URL:http://www.wikicfp.com/cfp/servlet/event.showcfp?eventid=39801&copyow
 nerid=74476
UID:cfp504978-A@wikicfp.com
END:VEVENT
BEGIN:VEVENT
DTSTAMP:20260425T035934Z
DTSTART;VALUE=DATE:20150116
SUMMARY:SEAMS 2015 Deadline
DESCRIPTION:10th International Symposium on Software Engineering for Adap
 tive and Self-Managing Systems
URL:http://www.wikicfp.com/cfp/servlet/event.showcfp?eventid=39801&copyow
 nerid=74476
UID:cfp504978-D@wikicfp.com
END:VEVENT
BEGIN:VEVENT
DTSTAMP:20260425T035934Z
DTSTART;VALUE=DATE:20150218
SUMMARY:SEAMS 2015 Notification Due
DESCRIPTION:10th International Symposium on Software Engineering for Adap
 tive and Self-Managing Systems
URL:http://www.wikicfp.com/cfp/servlet/event.showcfp?eventid=39801&copyow
 nerid=74476
UID:cfp504978-N@wikicfp.com
END:VEVENT
BEGIN:VEVENT
DTSTAMP:20260425T035934Z
DTSTART;VALUE=DATE:20150227
SUMMARY:SEAMS 2015 Final Version Due
DESCRIPTION:10th International Symposium on Software Engineering for Adap
 tive and Self-Managing Systems
URL:http://www.wikicfp.com/cfp/servlet/event.showcfp?eventid=39801&copyow
 nerid=74476
UID:cfp504978-N@wikicfp.com
END:VEVENT
BEGIN:VEVENT
DTSTAMP:20260425T035934Z
DTSTART;VALUE=DATE:20150513
DTEND;VALUE=DATE:20150516
SUMMARY:RCIS 2015
DESCRIPTION:Research Challenges in Information Science
URL:http://www.wikicfp.com/cfp/servlet/event.showcfp?eventid=40691&copyow
 nerid=74476
UID:cfp504976-E@wikicfp.com
END:VEVENT
BEGIN:VEVENT
DTSTAMP:20260425T035934Z
DTSTART;VALUE=DATE:20150131
SUMMARY:RCIS 2015 Abstract Due
DESCRIPTION:Research Challenges in Information Science
URL:http://www.wikicfp.com/cfp/servlet/event.showcfp?eventid=40691&copyow
 nerid=74476
UID:cfp504976-A@wikicfp.com
END:VEVENT
BEGIN:VEVENT
DTSTAMP:20260425T035934Z
DTSTART;VALUE=DATE:20150208
SUMMARY:RCIS 2015 Deadline
DESCRIPTION:Research Challenges in Information Science
URL:http://www.wikicfp.com/cfp/servlet/event.showcfp?eventid=40691&copyow
 nerid=74476
UID:cfp504976-D@wikicfp.com
END:VEVENT
BEGIN:VEVENT
DTSTAMP:20260425T035934Z
DTSTART;VALUE=DATE:20150415
SUMMARY:RCIS 2015 Final Version Due
DESCRIPTION:Research Challenges in Information Science
URL:http://www.wikicfp.com/cfp/servlet/event.showcfp?eventid=40691&copyow
 nerid=74476
UID:cfp504976-N@wikicfp.com
END:VEVENT
BEGIN:VEVENT
DTSTAMP:20260425T035934Z
DTSTART;VALUE=DATE:20150824
DTEND;VALUE=DATE:20150829
SUMMARY:RE 2015
DESCRIPTION:Requirements Engineering
URL:http://www.wikicfp.com/cfp/servlet/event.showcfp?eventid=40656&copyow
 nerid=74476
UID:cfp504972-E@wikicfp.com
END:VEVENT
BEGIN:VEVENT
DTSTAMP:20260425T035934Z
DTSTART;VALUE=DATE:20150302
SUMMARY:RE 2015 Abstract Due
DESCRIPTION:Requirements Engineering
URL:http://www.wikicfp.com/cfp/servlet/event.showcfp?eventid=40656&copyow
 nerid=74476
UID:cfp504972-A@wikicfp.com
END:VEVENT
BEGIN:VEVENT
DTSTAMP:20260425T035934Z
DTSTART;VALUE=DATE:20150309
SUMMARY:RE 2015 Deadline
DESCRIPTION:Requirements Engineering
URL:http://www.wikicfp.com/cfp/servlet/event.showcfp?eventid=40656&copyow
 nerid=74476
UID:cfp504972-D@wikicfp.com
END:VEVENT
BEGIN:VEVENT
DTSTAMP:20260425T035934Z
DTSTART;VALUE=DATE:20150518
SUMMARY:RE 2015 Notification Due
DESCRIPTION:Requirements Engineering
URL:http://www.wikicfp.com/cfp/servlet/event.showcfp?eventid=40656&copyow
 nerid=74476
UID:cfp504972-N@wikicfp.com
END:VEVENT
BEGIN:VEVENT
DTSTAMP:20260425T035934Z
DTSTART;VALUE=DATE:20150619
SUMMARY:RE 2015 Final Version Due
DESCRIPTION:Requirements Engineering
URL:http://www.wikicfp.com/cfp/servlet/event.showcfp?eventid=40656&copyow
 nerid=74476
UID:cfp504972-N@wikicfp.com
END:VEVENT
BEGIN:VEVENT
DTSTAMP:20260425T035934Z
DTSTART;VALUE=DATE:20151019
DTEND;VALUE=DATE:20151023
SUMMARY:ER 2015
DESCRIPTION:International Conference on Conceptual Modeling
URL:http://www.wikicfp.com/cfp/servlet/event.showcfp?eventid=39274&copyow
 nerid=74476
UID:cfp504975-E@wikicfp.com
END:VEVENT
BEGIN:VEVENT
DTSTAMP:20260425T035934Z
DTSTART;VALUE=DATE:20150310
SUMMARY:ER 2015 Deadline
DESCRIPTION:International Conference on Conceptual Modeling
URL:http://www.wikicfp.com/cfp/servlet/event.showcfp?eventid=39274&copyow
 nerid=74476
UID:cfp504975-D@wikicfp.com
END:VEVENT
BEGIN:VEVENT
DTSTAMP:20260425T035934Z
DTSTART;VALUE=DATE:20150601
SUMMARY:ER 2015 Final Version Due
DESCRIPTION:International Conference on Conceptual Modeling
URL:http://www.wikicfp.com/cfp/servlet/event.showcfp?eventid=39274&copyow
 nerid=74476
UID:cfp504975-N@wikicfp.com
END:VEVENT
BEGIN:VEVENT
DTSTAMP:20260425T035934Z
DTSTART;VALUE=DATE:20150831
DTEND;VALUE=DATE:20150905
SUMMARY:ESEC/FSE 2015
DESCRIPTION:10th Joint Meeting of the European Software Engineering Confe
 rence and ACM SIGSOFT Symposium on the Foundations of Software Engineeri
 ng
URL:http://www.wikicfp.com/cfp/servlet/event.showcfp?eventid=38929&copyow
 nerid=74476
UID:cfp504974-E@wikicfp.com
END:VEVENT
BEGIN:VEVENT
DTSTAMP:20260425T035934Z
DTSTART;VALUE=DATE:20150316
SUMMARY:ESEC/FSE 2015 Deadline
DESCRIPTION:10th Joint Meeting of the European Software Engineering Confe
 rence and ACM SIGSOFT Symposium on the Foundations of Software Engineeri
 ng
URL:http://www.wikicfp.com/cfp/servlet/event.showcfp?eventid=38929&copyow
 nerid=74476
UID:cfp504974-D@wikicfp.com
END:VEVENT
BEGIN:VEVENT
DTSTAMP:20260425T035934Z
DTSTART;VALUE=DATE:20150831
DTEND;VALUE=DATE:20150905
SUMMARY:FSE 2015
DESCRIPTION:Foundations of Software Engineering
URL:http://www.wikicfp.com/cfp/servlet/event.showcfp?eventid=39506&copyow
 nerid=74476
UID:cfp504973-E@wikicfp.com
END:VEVENT
BEGIN:VEVENT
DTSTAMP:20260425T035934Z
DTSTART;VALUE=DATE:20150316
SUMMARY:FSE 2015 Deadline
DESCRIPTION:Foundations of Software Engineering
URL:http://www.wikicfp.com/cfp/servlet/event.showcfp?eventid=39506&copyow
 nerid=74476
UID:cfp504973-D@wikicfp.com
END:VEVENT
BEGIN:VEVENT
DTSTAMP:20260425T035934Z
DTSTART;VALUE=DATE:20151215
DTEND;VALUE=DATE:20151219
SUMMARY:CDC 2015
DESCRIPTION:IEEE Conference on Decision and Control
URL:http://www.wikicfp.com/cfp/servlet/event.showcfp?eventid=37913&copyow
 nerid=74476
UID:cfp504970-E@wikicfp.com
END:VEVENT
BEGIN:VEVENT
DTSTAMP:20260425T035934Z
DTSTART;VALUE=DATE:20150324
SUMMARY:CDC 2015 Deadline
DESCRIPTION:IEEE Conference on Decision and Control
URL:http://www.wikicfp.com/cfp/servlet/event.showcfp?eventid=37913&copyow
 nerid=74476
UID:cfp504970-D@wikicfp.com
END:VEVENT
BEGIN:VEVENT
DTSTAMP:20260425T035934Z
DTSTART;VALUE=DATE:20151109
DTEND;VALUE=DATE:20151114
SUMMARY:ASE 2015
DESCRIPTION:Automated Software Engineering 
URL:http://www.wikicfp.com/cfp/servlet/event.showcfp?eventid=42490&copyow
 nerid=74476
UID:cfp504971-E@wikicfp.com
END:VEVENT
BEGIN:VEVENT
DTSTAMP:20260425T035934Z
DTSTART;VALUE=DATE:20150508
SUMMARY:ASE 2015 Abstract Due
DESCRIPTION:Automated Software Engineering 
URL:http://www.wikicfp.com/cfp/servlet/event.showcfp?eventid=42490&copyow
 nerid=74476
UID:cfp504971-A@wikicfp.com
END:VEVENT
BEGIN:VEVENT
DTSTAMP:20260425T035934Z
DTSTART;VALUE=DATE:20150515
SUMMARY:ASE 2015 Deadline
DESCRIPTION:Automated Software Engineering 
URL:http://www.wikicfp.com/cfp/servlet/event.showcfp?eventid=42490&copyow
 nerid=74476
UID:cfp504971-D@wikicfp.com
END:VEVENT
END:VCALENDAR
