BEGIN:VCALENDAR
PRODID:-//WikiCFP//jess_elmy 1.0//EN
VERSION:2.0
CALSCALE:GREGORIAN
BEGIN:VEVENT
DTSTAMP:20260419T235650Z
DTSTART;VALUE=DATE:20150508
DTEND;VALUE=DATE:20150510
SUMMARY:IWFBE 2015
DESCRIPTION:International Workshop on Finance\, Business\, Economics\, Ma
 rketting and Information Systems
URL:http://www.wikicfp.com/cfp/servlet/event.showcfp?eventid=41866&copyow
 nerid=74438
UID:cfp504720-E@wikicfp.com
END:VEVENT
BEGIN:VEVENT
DTSTAMP:20260419T235650Z
DTSTART;VALUE=DATE:20150131
SUMMARY:IWFBE 2015 Deadline
DESCRIPTION:International Workshop on Finance\, Business\, Economics\, Ma
 rketting and Information Systems
URL:http://www.wikicfp.com/cfp/servlet/event.showcfp?eventid=41866&copyow
 nerid=74438
UID:cfp504720-D@wikicfp.com
END:VEVENT
BEGIN:VEVENT
DTSTAMP:20260419T235650Z
DTSTART;VALUE=DATE:20150228
SUMMARY:IWFBE 2015 Notification Due
DESCRIPTION:International Workshop on Finance\, Business\, Economics\, Ma
 rketting and Information Systems
URL:http://www.wikicfp.com/cfp/servlet/event.showcfp?eventid=41866&copyow
 nerid=74438
UID:cfp504720-N@wikicfp.com
END:VEVENT
BEGIN:VEVENT
DTSTAMP:20260419T235650Z
DTSTART;VALUE=DATE:20150315
SUMMARY:IWFBE 2015 Final Version Due
DESCRIPTION:International Workshop on Finance\, Business\, Economics\, Ma
 rketting and Information Systems
URL:http://www.wikicfp.com/cfp/servlet/event.showcfp?eventid=41866&copyow
 nerid=74438
UID:cfp504720-N@wikicfp.com
END:VEVENT
BEGIN:VEVENT
DTSTAMP:20260419T235650Z
DTSTART;VALUE=DATE:20150402
DTEND;VALUE=DATE:20150404
SUMMARY:IESC  2015
DESCRIPTION:EDUCATION CONGRESS IN ISTANBUL 'NEW APPROACHES IN EDUCATION'
URL:http://www.wikicfp.com/cfp/servlet/event.showcfp?eventid=42533&copyow
 nerid=74438
UID:cfp504721-E@wikicfp.com
END:VEVENT
BEGIN:VEVENT
DTSTAMP:20260419T235650Z
DTSTART;VALUE=DATE:20150131
SUMMARY:IESC  2015 Deadline
DESCRIPTION:EDUCATION CONGRESS IN ISTANBUL 'NEW APPROACHES IN EDUCATION'
URL:http://www.wikicfp.com/cfp/servlet/event.showcfp?eventid=42533&copyow
 nerid=74438
UID:cfp504721-D@wikicfp.com
END:VEVENT
BEGIN:VEVENT
DTSTAMP:20260419T235650Z
DTSTART;VALUE=DATE:20150306
SUMMARY:IESC  2015 Final Version Due
DESCRIPTION:EDUCATION CONGRESS IN ISTANBUL 'NEW APPROACHES IN EDUCATION'
URL:http://www.wikicfp.com/cfp/servlet/event.showcfp?eventid=42533&copyow
 nerid=74438
UID:cfp504721-N@wikicfp.com
END:VEVENT
BEGIN:VEVENT
DTSTAMP:20260419T235650Z
DTSTART;VALUE=DATE:20150602
DTEND;VALUE=DATE:20150605
SUMMARY:ICE 2015
DESCRIPTION:International Conference on Education 2015
URL:http://www.wikicfp.com/cfp/servlet/event.showcfp?eventid=40889&copyow
 nerid=74438
UID:cfp504718-E@wikicfp.com
END:VEVENT
BEGIN:VEVENT
DTSTAMP:20260419T235650Z
DTSTART;VALUE=DATE:20150201
SUMMARY:ICE 2015 Deadline
DESCRIPTION:International Conference on Education 2015
URL:http://www.wikicfp.com/cfp/servlet/event.showcfp?eventid=40889&copyow
 nerid=74438
UID:cfp504718-D@wikicfp.com
END:VEVENT
BEGIN:VEVENT
DTSTAMP:20260419T235650Z
DTSTART;VALUE=DATE:20150331
SUMMARY:ICE 2015 Notification Due
DESCRIPTION:International Conference on Education 2015
URL:http://www.wikicfp.com/cfp/servlet/event.showcfp?eventid=40889&copyow
 nerid=74438
UID:cfp504718-N@wikicfp.com
END:VEVENT
BEGIN:VEVENT
DTSTAMP:20260419T235650Z
DTSTART;VALUE=DATE:20150329
DTEND;VALUE=DATE:20150402
SUMMARY:ACEID 2015
DESCRIPTION:The Asian Conference on Education & International Development
 
URL:http://www.wikicfp.com/cfp/servlet/event.showcfp?eventid=40980&copyow
 nerid=74438
UID:cfp504719-E@wikicfp.com
END:VEVENT
BEGIN:VEVENT
DTSTAMP:20260419T235650Z
DTSTART;VALUE=DATE:20150201
SUMMARY:ACEID 2015 Deadline
DESCRIPTION:The Asian Conference on Education & International Development
 
URL:http://www.wikicfp.com/cfp/servlet/event.showcfp?eventid=40980&copyow
 nerid=74438
UID:cfp504719-D@wikicfp.com
END:VEVENT
BEGIN:VEVENT
DTSTAMP:20260419T235650Z
DTSTART;VALUE=DATE:20150611
DTEND;VALUE=DATE:20150613
SUMMARY:FOE 2015
DESCRIPTION:The Future of Education International Conference\, 5th editio
 n
URL:http://www.wikicfp.com/cfp/servlet/event.showcfp?eventid=42736&copyow
 nerid=74438
UID:cfp504725-E@wikicfp.com
END:VEVENT
BEGIN:VEVENT
DTSTAMP:20260419T235650Z
DTSTART;VALUE=DATE:20150209
SUMMARY:FOE 2015 Deadline
DESCRIPTION:The Future of Education International Conference\, 5th editio
 n
URL:http://www.wikicfp.com/cfp/servlet/event.showcfp?eventid=42736&copyow
 nerid=74438
UID:cfp504725-D@wikicfp.com
END:VEVENT
BEGIN:VEVENT
DTSTAMP:20260419T235650Z
DTSTART;VALUE=DATE:20150611
DTEND;VALUE=DATE:20150615
SUMMARY:ACSS 2015
DESCRIPTION:The Asian Conference on the Social Sciences 2015
URL:http://www.wikicfp.com/cfp/servlet/event.showcfp?eventid=39423&copyow
 nerid=74438
UID:cfp504723-E@wikicfp.com
END:VEVENT
BEGIN:VEVENT
DTSTAMP:20260419T235650Z
DTSTART;VALUE=DATE:20150215
SUMMARY:ACSS 2015 Deadline
DESCRIPTION:The Asian Conference on the Social Sciences 2015
URL:http://www.wikicfp.com/cfp/servlet/event.showcfp?eventid=39423&copyow
 nerid=74438
UID:cfp504723-D@wikicfp.com
END:VEVENT
BEGIN:VEVENT
DTSTAMP:20260419T235650Z
DTSTART;VALUE=DATE:20150627
DTEND;VALUE=DATE:20150630
SUMMARY:END 2015
DESCRIPTION:International Conference on Education and New Developments 20
 15
URL:http://www.wikicfp.com/cfp/servlet/event.showcfp?eventid=41628&copyow
 nerid=74438
UID:cfp504724-E@wikicfp.com
END:VEVENT
BEGIN:VEVENT
DTSTAMP:20260419T235650Z
DTSTART;VALUE=DATE:20150216
SUMMARY:END 2015 Deadline
DESCRIPTION:International Conference on Education and New Developments 20
 15
URL:http://www.wikicfp.com/cfp/servlet/event.showcfp?eventid=41628&copyow
 nerid=74438
UID:cfp504724-D@wikicfp.com
END:VEVENT
BEGIN:VEVENT
DTSTAMP:20260419T235650Z
DTSTART;VALUE=DATE:20150316
SUMMARY:END 2015 Notification Due
DESCRIPTION:International Conference on Education and New Developments 20
 15
URL:http://www.wikicfp.com/cfp/servlet/event.showcfp?eventid=41628&copyow
 nerid=74438
UID:cfp504724-N@wikicfp.com
END:VEVENT
BEGIN:VEVENT
DTSTAMP:20260419T235650Z
DTSTART;VALUE=DATE:20150413
SUMMARY:END 2015 Final Version Due
DESCRIPTION:International Conference on Education and New Developments 20
 15
URL:http://www.wikicfp.com/cfp/servlet/event.showcfp?eventid=41628&copyow
 nerid=74438
UID:cfp504724-N@wikicfp.com
END:VEVENT
BEGIN:VEVENT
DTSTAMP:20260419T235650Z
DTSTART;VALUE=DATE:20150706
DTEND;VALUE=DATE:20150709
SUMMARY:EDULEARN 2015
DESCRIPTION:7th International Conference on Education and New Learning Te
 chnologies
URL:http://www.wikicfp.com/cfp/servlet/event.showcfp?eventid=43117&copyow
 nerid=74438
UID:cfp504728-E@wikicfp.com
END:VEVENT
BEGIN:VEVENT
DTSTAMP:20260419T235650Z
DTSTART;VALUE=DATE:20150326
SUMMARY:EDULEARN 2015 Deadline
DESCRIPTION:7th International Conference on Education and New Learning Te
 chnologies
URL:http://www.wikicfp.com/cfp/servlet/event.showcfp?eventid=43117&copyow
 nerid=74438
UID:cfp504728-D@wikicfp.com
END:VEVENT
BEGIN:VEVENT
DTSTAMP:20260419T235650Z
DTSTART;VALUE=DATE:20150420
SUMMARY:EDULEARN 2015 Notification Due
DESCRIPTION:7th International Conference on Education and New Learning Te
 chnologies
URL:http://www.wikicfp.com/cfp/servlet/event.showcfp?eventid=43117&copyow
 nerid=74438
UID:cfp504728-N@wikicfp.com
END:VEVENT
BEGIN:VEVENT
DTSTAMP:20260419T235650Z
DTSTART;VALUE=DATE:20150521
SUMMARY:EDULEARN 2015 Final Version Due
DESCRIPTION:7th International Conference on Education and New Learning Te
 chnologies
URL:http://www.wikicfp.com/cfp/servlet/event.showcfp?eventid=43117&copyow
 nerid=74438
UID:cfp504728-N@wikicfp.com
END:VEVENT
BEGIN:VEVENT
DTSTAMP:20260419T235650Z
DTSTART;VALUE=DATE:20150609
DTEND;VALUE=DATE:20150611
SUMMARY:ICTES 2015
DESCRIPTION:2015 2nd International Conference on Teaching and Education S
 ciences 
URL:http://www.wikicfp.com/cfp/servlet/event.showcfp?eventid=40169&copyow
 nerid=74438
UID:cfp504717-E@wikicfp.com
END:VEVENT
BEGIN:VEVENT
DTSTAMP:20260419T235650Z
DTSTART;VALUE=DATE:20150405
SUMMARY:ICTES 2015 Deadline
DESCRIPTION:2015 2nd International Conference on Teaching and Education S
 ciences 
URL:http://www.wikicfp.com/cfp/servlet/event.showcfp?eventid=40169&copyow
 nerid=74438
UID:cfp504717-D@wikicfp.com
END:VEVENT
BEGIN:VEVENT
DTSTAMP:20260419T235650Z
DTSTART;VALUE=DATE:20150420
SUMMARY:ICTES 2015 Notification Due
DESCRIPTION:2015 2nd International Conference on Teaching and Education S
 ciences 
URL:http://www.wikicfp.com/cfp/servlet/event.showcfp?eventid=40169&copyow
 nerid=74438
UID:cfp504717-N@wikicfp.com
END:VEVENT
BEGIN:VEVENT
DTSTAMP:20260419T235650Z
DTSTART;VALUE=DATE:20150505
SUMMARY:ICTES 2015 Final Version Due
DESCRIPTION:2015 2nd International Conference on Teaching and Education S
 ciences 
URL:http://www.wikicfp.com/cfp/servlet/event.showcfp?eventid=40169&copyow
 nerid=74438
UID:cfp504717-N@wikicfp.com
END:VEVENT
BEGIN:VEVENT
DTSTAMP:20260419T235650Z
DTSTART;VALUE=DATE:20150608
DTEND;VALUE=DATE:20150611
SUMMARY:SOCIOINT 2015
DESCRIPTION:2nd INTERNATIONAL CONFERENCE ON EDUCATION\, SOCIAL SCIENCES A
 ND HUMANITIES
URL:http://www.wikicfp.com/cfp/servlet/event.showcfp?eventid=42103&copyow
 nerid=74438
UID:cfp504729-E@wikicfp.com
END:VEVENT
BEGIN:VEVENT
DTSTAMP:20260419T235650Z
DTSTART;VALUE=DATE:20150323
SUMMARY:SOCIOINT 2015 Abstract Due
DESCRIPTION:2nd INTERNATIONAL CONFERENCE ON EDUCATION\, SOCIAL SCIENCES A
 ND HUMANITIES
URL:http://www.wikicfp.com/cfp/servlet/event.showcfp?eventid=42103&copyow
 nerid=74438
UID:cfp504729-A@wikicfp.com
END:VEVENT
BEGIN:VEVENT
DTSTAMP:20260419T235650Z
DTSTART;VALUE=DATE:20150425
SUMMARY:SOCIOINT 2015 Deadline
DESCRIPTION:2nd INTERNATIONAL CONFERENCE ON EDUCATION\, SOCIAL SCIENCES A
 ND HUMANITIES
URL:http://www.wikicfp.com/cfp/servlet/event.showcfp?eventid=42103&copyow
 nerid=74438
UID:cfp504729-D@wikicfp.com
END:VEVENT
BEGIN:VEVENT
DTSTAMP:20260419T235650Z
DTSTART;VALUE=DATE:20150323
SUMMARY:SOCIOINT 2015 Notification Due
DESCRIPTION:2nd INTERNATIONAL CONFERENCE ON EDUCATION\, SOCIAL SCIENCES A
 ND HUMANITIES
URL:http://www.wikicfp.com/cfp/servlet/event.showcfp?eventid=42103&copyow
 nerid=74438
UID:cfp504729-N@wikicfp.com
END:VEVENT
BEGIN:VEVENT
DTSTAMP:20260419T235650Z
DTSTART;VALUE=DATE:20150425
SUMMARY:SOCIOINT 2015 Final Version Due
DESCRIPTION:2nd INTERNATIONAL CONFERENCE ON EDUCATION\, SOCIAL SCIENCES A
 ND HUMANITIES
URL:http://www.wikicfp.com/cfp/servlet/event.showcfp?eventid=42103&copyow
 nerid=74438
UID:cfp504729-N@wikicfp.com
END:VEVENT
BEGIN:VEVENT
DTSTAMP:20260419T235650Z
DTSTART;VALUE=DATE:20150706
DTEND;VALUE=DATE:20150708
SUMMARY:ICKET 2015
DESCRIPTION:2015 4th International Conference on Knowledge and Education 
 Technology
URL:http://www.wikicfp.com/cfp/servlet/event.showcfp?eventid=34364&copyow
 nerid=74438
UID:cfp504722-E@wikicfp.com
END:VEVENT
BEGIN:VEVENT
DTSTAMP:20260419T235650Z
DTSTART;VALUE=DATE:20150430
SUMMARY:ICKET 2015 Deadline
DESCRIPTION:2015 4th International Conference on Knowledge and Education 
 Technology
URL:http://www.wikicfp.com/cfp/servlet/event.showcfp?eventid=34364&copyow
 nerid=74438
UID:cfp504722-D@wikicfp.com
END:VEVENT
BEGIN:VEVENT
DTSTAMP:20260419T235650Z
DTSTART;VALUE=DATE:20150520
SUMMARY:ICKET 2015 Notification Due
DESCRIPTION:2015 4th International Conference on Knowledge and Education 
 Technology
URL:http://www.wikicfp.com/cfp/servlet/event.showcfp?eventid=34364&copyow
 nerid=74438
UID:cfp504722-N@wikicfp.com
END:VEVENT
BEGIN:VEVENT
DTSTAMP:20260419T235650Z
DTSTART;VALUE=DATE:20150605
SUMMARY:ICKET 2015 Final Version Due
DESCRIPTION:2015 4th International Conference on Knowledge and Education 
 Technology
URL:http://www.wikicfp.com/cfp/servlet/event.showcfp?eventid=34364&copyow
 nerid=74438
UID:cfp504722-N@wikicfp.com
END:VEVENT
BEGIN:VEVENT
DTSTAMP:20260419T235650Z
DTSTART;VALUE=DATE:20150720
DTEND;VALUE=DATE:20150722
SUMMARY:ICHSS 2015
DESCRIPTION:2015 2nd International Conference on Humanity and Social Scie
 nces
URL:http://www.wikicfp.com/cfp/servlet/event.showcfp?eventid=42835&copyow
 nerid=74438
UID:cfp504730-E@wikicfp.com
END:VEVENT
BEGIN:VEVENT
DTSTAMP:20260419T235650Z
DTSTART;VALUE=DATE:20150515
SUMMARY:ICHSS 2015 Deadline
DESCRIPTION:2015 2nd International Conference on Humanity and Social Scie
 nces
URL:http://www.wikicfp.com/cfp/servlet/event.showcfp?eventid=42835&copyow
 nerid=74438
UID:cfp504730-D@wikicfp.com
END:VEVENT
BEGIN:VEVENT
DTSTAMP:20260419T235650Z
DTSTART;VALUE=DATE:20150530
SUMMARY:ICHSS 2015 Notification Due
DESCRIPTION:2015 2nd International Conference on Humanity and Social Scie
 nces
URL:http://www.wikicfp.com/cfp/servlet/event.showcfp?eventid=42835&copyow
 nerid=74438
UID:cfp504730-N@wikicfp.com
END:VEVENT
BEGIN:VEVENT
DTSTAMP:20260419T235650Z
DTSTART;VALUE=DATE:20150615
SUMMARY:ICHSS 2015 Final Version Due
DESCRIPTION:2015 2nd International Conference on Humanity and Social Scie
 nces
URL:http://www.wikicfp.com/cfp/servlet/event.showcfp?eventid=42835&copyow
 nerid=74438
UID:cfp504730-N@wikicfp.com
END:VEVENT
BEGIN:VEVENT
DTSTAMP:20260419T235650Z
DTSTART;VALUE=DATE:20150910
DTEND;VALUE=DATE:20150913
SUMMARY:ICEEE 2015
DESCRIPTION:The Fourth International Conference on E-Learning and E-Techn
 ologies in Education (ICEEE2015)
URL:http://www.wikicfp.com/cfp/servlet/event.showcfp?eventid=39426&copyow
 nerid=74438
UID:cfp504727-E@wikicfp.com
END:VEVENT
BEGIN:VEVENT
DTSTAMP:20260419T235650Z
DTSTART;VALUE=DATE:20150710
SUMMARY:ICEEE 2015 Deadline
DESCRIPTION:The Fourth International Conference on E-Learning and E-Techn
 ologies in Education (ICEEE2015)
URL:http://www.wikicfp.com/cfp/servlet/event.showcfp?eventid=39426&copyow
 nerid=74438
UID:cfp504727-D@wikicfp.com
END:VEVENT
BEGIN:VEVENT
DTSTAMP:20260419T235650Z
DTSTART;VALUE=DATE:20150730
SUMMARY:ICEEE 2015 Notification Due
DESCRIPTION:The Fourth International Conference on E-Learning and E-Techn
 ologies in Education (ICEEE2015)
URL:http://www.wikicfp.com/cfp/servlet/event.showcfp?eventid=39426&copyow
 nerid=74438
UID:cfp504727-N@wikicfp.com
END:VEVENT
BEGIN:VEVENT
DTSTAMP:20260419T235650Z
DTSTART;VALUE=DATE:20150901
SUMMARY:ICEEE 2015 Final Version Due
DESCRIPTION:The Fourth International Conference on E-Learning and E-Techn
 ologies in Education (ICEEE2015)
URL:http://www.wikicfp.com/cfp/servlet/event.showcfp?eventid=39426&copyow
 nerid=74438
UID:cfp504727-N@wikicfp.com
END:VEVENT
END:VCALENDAR
