BEGIN:VCALENDAR
PRODID:-//WikiCFP//vr 1.0//EN
VERSION:2.0
CALSCALE:GREGORIAN
BEGIN:VEVENT
DTSTAMP:20260420T230440Z
DTSTART;VALUE=DATE:20100623
DTEND;VALUE=DATE:20100626
SUMMARY:ERRT 2010
DESCRIPTION:SDR Forum 2010 European Reconfigurable Radio Technologies Wor
 kshop and Product Exposition
URL:http://www.wikicfp.com/cfp/servlet/event.showcfp?eventid=7129&copyown
 erid=7423
UID:cfp55326-E@wikicfp.com
END:VEVENT
BEGIN:VEVENT
DTSTAMP:20260420T230440Z
DTSTART;VALUE=DATE:20091219
SUMMARY:ERRT 2010 Deadline
DESCRIPTION:SDR Forum 2010 European Reconfigurable Radio Technologies Wor
 kshop and Product Exposition
URL:http://www.wikicfp.com/cfp/servlet/event.showcfp?eventid=7129&copyown
 erid=7423
UID:cfp55326-D@wikicfp.com
END:VEVENT
BEGIN:VEVENT
DTSTAMP:20260420T230440Z
DTSTART;VALUE=DATE:20100121
SUMMARY:ERRT 2010 Notification Due
DESCRIPTION:SDR Forum 2010 European Reconfigurable Radio Technologies Wor
 kshop and Product Exposition
URL:http://www.wikicfp.com/cfp/servlet/event.showcfp?eventid=7129&copyown
 erid=7423
UID:cfp55326-N@wikicfp.com
END:VEVENT
BEGIN:VEVENT
DTSTAMP:20260420T230440Z
DTSTART;VALUE=DATE:20100507
SUMMARY:ERRT 2010 Final Version Due
DESCRIPTION:SDR Forum 2010 European Reconfigurable Radio Technologies Wor
 kshop and Product Exposition
URL:http://www.wikicfp.com/cfp/servlet/event.showcfp?eventid=7129&copyown
 erid=7423
UID:cfp55326-N@wikicfp.com
END:VEVENT
BEGIN:VEVENT
DTSTAMP:20260420T230440Z
DTSTART;VALUE=DATE:20100718
DTEND;VALUE=DATE:20100722
SUMMARY:SPCOM 2010
DESCRIPTION:INTERNATIONAL CONFERENCE ON SIGNAL PROCESSING AND COMMUNICATI
 ONS
URL:http://www.wikicfp.com/cfp/servlet/event.showcfp?eventid=6429&copyown
 erid=7423
UID:cfp55329-E@wikicfp.com
END:VEVENT
BEGIN:VEVENT
DTSTAMP:20260420T230440Z
DTSTART;VALUE=DATE:20100118
SUMMARY:SPCOM 2010 Deadline
DESCRIPTION:INTERNATIONAL CONFERENCE ON SIGNAL PROCESSING AND COMMUNICATI
 ONS
URL:http://www.wikicfp.com/cfp/servlet/event.showcfp?eventid=6429&copyown
 erid=7423
UID:cfp55329-D@wikicfp.com
END:VEVENT
BEGIN:VEVENT
DTSTAMP:20260420T230440Z
DTSTART;VALUE=DATE:20100329
SUMMARY:SPCOM 2010 Notification Due
DESCRIPTION:INTERNATIONAL CONFERENCE ON SIGNAL PROCESSING AND COMMUNICATI
 ONS
URL:http://www.wikicfp.com/cfp/servlet/event.showcfp?eventid=6429&copyown
 erid=7423
UID:cfp55329-N@wikicfp.com
END:VEVENT
BEGIN:VEVENT
DTSTAMP:20260420T230440Z
DTSTART;VALUE=DATE:20100430
SUMMARY:SPCOM 2010 Final Version Due
DESCRIPTION:INTERNATIONAL CONFERENCE ON SIGNAL PROCESSING AND COMMUNICATI
 ONS
URL:http://www.wikicfp.com/cfp/servlet/event.showcfp?eventid=6429&copyown
 erid=7423
UID:cfp55329-N@wikicfp.com
END:VEVENT
BEGIN:VEVENT
DTSTAMP:20260420T230440Z
DTSTART;VALUE=DATE:20100620
DTEND;VALUE=DATE:20100624
SUMMARY:SPAWC 2010
DESCRIPTION:IEEE International Workshop on Signal Processing Advances for
  Wireless Communications
URL:http://www.wikicfp.com/cfp/servlet/event.showcfp?eventid=5504&copyown
 erid=7423
UID:cfp55327-E@wikicfp.com
END:VEVENT
BEGIN:VEVENT
DTSTAMP:20260420T230440Z
DTSTART;VALUE=DATE:20100201
SUMMARY:SPAWC 2010 Deadline
DESCRIPTION:IEEE International Workshop on Signal Processing Advances for
  Wireless Communications
URL:http://www.wikicfp.com/cfp/servlet/event.showcfp?eventid=5504&copyown
 erid=7423
UID:cfp55327-D@wikicfp.com
END:VEVENT
BEGIN:VEVENT
DTSTAMP:20260420T230440Z
DTSTART;VALUE=DATE:20100330
SUMMARY:SPAWC 2010 Notification Due
DESCRIPTION:IEEE International Workshop on Signal Processing Advances for
  Wireless Communications
URL:http://www.wikicfp.com/cfp/servlet/event.showcfp?eventid=5504&copyown
 erid=7423
UID:cfp55327-N@wikicfp.com
END:VEVENT
BEGIN:VEVENT
DTSTAMP:20260420T230440Z
DTSTART;VALUE=DATE:20100410
SUMMARY:SPAWC 2010 Final Version Due
DESCRIPTION:IEEE International Workshop on Signal Processing Advances for
  Wireless Communications
URL:http://www.wikicfp.com/cfp/servlet/event.showcfp?eventid=5504&copyown
 erid=7423
UID:cfp55327-N@wikicfp.com
END:VEVENT
BEGIN:VEVENT
DTSTAMP:20260420T230440Z
DTSTART;VALUE=DATE:20100923
DTEND;VALUE=DATE:20100926
SUMMARY:WiCOM 2010
DESCRIPTION:6th International Conference on Wireless Communications\, Net
 working and Mobile Computing
URL:http://www.wikicfp.com/cfp/servlet/event.showcfp?eventid=6252&copyown
 erid=7423
UID:cfp55328-E@wikicfp.com
END:VEVENT
BEGIN:VEVENT
DTSTAMP:20260420T230440Z
DTSTART;VALUE=DATE:20100210
SUMMARY:WiCOM 2010 Deadline
DESCRIPTION:6th International Conference on Wireless Communications\, Net
 working and Mobile Computing
URL:http://www.wikicfp.com/cfp/servlet/event.showcfp?eventid=6252&copyown
 erid=7423
UID:cfp55328-D@wikicfp.com
END:VEVENT
BEGIN:VEVENT
DTSTAMP:20260420T230440Z
DTSTART;VALUE=DATE:20100430
SUMMARY:WiCOM 2010 Notification Due
DESCRIPTION:6th International Conference on Wireless Communications\, Net
 working and Mobile Computing
URL:http://www.wikicfp.com/cfp/servlet/event.showcfp?eventid=6252&copyown
 erid=7423
UID:cfp55328-N@wikicfp.com
END:VEVENT
BEGIN:VEVENT
DTSTAMP:20260420T230440Z
DTSTART;VALUE=DATE:20100514
SUMMARY:WiCOM 2010 Final Version Due
DESCRIPTION:6th International Conference on Wireless Communications\, Net
 working and Mobile Computing
URL:http://www.wikicfp.com/cfp/servlet/event.showcfp?eventid=6252&copyown
 erid=7423
UID:cfp55328-N@wikicfp.com
END:VEVENT
BEGIN:VEVENT
DTSTAMP:20260420T230440Z
DTSTART;VALUE=DATE:20100616
DTEND;VALUE=DATE:20100619
SUMMARY:CROWNCOM 2010
DESCRIPTION:5th International Conference on Cognitive Radio Oriented Wire
 less Networks and Communications
URL:http://www.wikicfp.com/cfp/servlet/event.showcfp?eventid=6607&copyown
 erid=7423
UID:cfp55330-E@wikicfp.com
END:VEVENT
BEGIN:VEVENT
DTSTAMP:20260420T230440Z
DTSTART;VALUE=DATE:20100214
SUMMARY:CROWNCOM 2010 Deadline
DESCRIPTION:5th International Conference on Cognitive Radio Oriented Wire
 less Networks and Communications
URL:http://www.wikicfp.com/cfp/servlet/event.showcfp?eventid=6607&copyown
 erid=7423
UID:cfp55330-D@wikicfp.com
END:VEVENT
BEGIN:VEVENT
DTSTAMP:20260420T230440Z
DTSTART;VALUE=DATE:20100411
SUMMARY:CROWNCOM 2010 Notification Due
DESCRIPTION:5th International Conference on Cognitive Radio Oriented Wire
 less Networks and Communications
URL:http://www.wikicfp.com/cfp/servlet/event.showcfp?eventid=6607&copyown
 erid=7423
UID:cfp55330-N@wikicfp.com
END:VEVENT
BEGIN:VEVENT
DTSTAMP:20260420T230440Z
DTSTART;VALUE=DATE:20100502
SUMMARY:CROWNCOM 2010 Final Version Due
DESCRIPTION:5th International Conference on Cognitive Radio Oriented Wire
 less Networks and Communications
URL:http://www.wikicfp.com/cfp/servlet/event.showcfp?eventid=6607&copyown
 erid=7423
UID:cfp55330-N@wikicfp.com
END:VEVENT
END:VCALENDAR
