BEGIN:VCALENDAR
PRODID:-//WikiCFP//liubx 1.0//EN
VERSION:2.0
CALSCALE:GREGORIAN
BEGIN:VEVENT
DTSTAMP:20260423T224645Z
DTSTART;VALUE=DATE:20150715
DTEND;VALUE=DATE:20150718
SUMMARY:IEEE CIS-RAM 2015
DESCRIPTION:The 7th IEEE International Conferences On Cybernetics And Int
 elligent Systems (CIS)\, and Robotics\, Automation And Mechatronics (RAM
 )
URL:http://www.wikicfp.com/cfp/servlet/event.showcfp?eventid=39574&copyow
 nerid=73992
UID:cfp501542-E@wikicfp.com
END:VEVENT
BEGIN:VEVENT
DTSTAMP:20260423T224645Z
DTSTART;VALUE=DATE:20150131
SUMMARY:IEEE CIS-RAM 2015 Deadline
DESCRIPTION:The 7th IEEE International Conferences On Cybernetics And Int
 elligent Systems (CIS)\, and Robotics\, Automation And Mechatronics (RAM
 )
URL:http://www.wikicfp.com/cfp/servlet/event.showcfp?eventid=39574&copyow
 nerid=73992
UID:cfp501542-D@wikicfp.com
END:VEVENT
BEGIN:VEVENT
DTSTAMP:20260423T224645Z
DTSTART;VALUE=DATE:20150331
SUMMARY:IEEE CIS-RAM 2015 Notification Due
DESCRIPTION:The 7th IEEE International Conferences On Cybernetics And Int
 elligent Systems (CIS)\, and Robotics\, Automation And Mechatronics (RAM
 )
URL:http://www.wikicfp.com/cfp/servlet/event.showcfp?eventid=39574&copyow
 nerid=73992
UID:cfp501542-N@wikicfp.com
END:VEVENT
BEGIN:VEVENT
DTSTAMP:20260423T224645Z
DTSTART;VALUE=DATE:20150415
SUMMARY:IEEE CIS-RAM 2015 Final Version Due
DESCRIPTION:The 7th IEEE International Conferences On Cybernetics And Int
 elligent Systems (CIS)\, and Robotics\, Automation And Mechatronics (RAM
 )
URL:http://www.wikicfp.com/cfp/servlet/event.showcfp?eventid=39574&copyow
 nerid=73992
UID:cfp501542-N@wikicfp.com
END:VEVENT
BEGIN:VEVENT
DTSTAMP:20260423T224645Z
DTSTART;VALUE=DATE:20150521
DTEND;VALUE=DATE:20150524
SUMMARY:EIT 2015
DESCRIPTION:2015 IEEE International Conference on Electro/Information Tec
 hnology
URL:http://www.wikicfp.com/cfp/servlet/event.showcfp?eventid=42770&copyow
 nerid=73992
UID:cfp501540-E@wikicfp.com
END:VEVENT
BEGIN:VEVENT
DTSTAMP:20260423T224645Z
DTSTART;VALUE=DATE:20150215
SUMMARY:EIT 2015 Deadline
DESCRIPTION:2015 IEEE International Conference on Electro/Information Tec
 hnology
URL:http://www.wikicfp.com/cfp/servlet/event.showcfp?eventid=42770&copyow
 nerid=73992
UID:cfp501540-D@wikicfp.com
END:VEVENT
BEGIN:VEVENT
DTSTAMP:20260423T224645Z
DTSTART;VALUE=DATE:20150315
SUMMARY:EIT 2015 Notification Due
DESCRIPTION:2015 IEEE International Conference on Electro/Information Tec
 hnology
URL:http://www.wikicfp.com/cfp/servlet/event.showcfp?eventid=42770&copyow
 nerid=73992
UID:cfp501540-N@wikicfp.com
END:VEVENT
BEGIN:VEVENT
DTSTAMP:20260423T224645Z
DTSTART;VALUE=DATE:20150329
SUMMARY:EIT 2015 Final Version Due
DESCRIPTION:2015 IEEE International Conference on Electro/Information Tec
 hnology
URL:http://www.wikicfp.com/cfp/servlet/event.showcfp?eventid=42770&copyow
 nerid=73992
UID:cfp501540-N@wikicfp.com
END:VEVENT
BEGIN:VEVENT
DTSTAMP:20260423T224645Z
DTSTART;VALUE=DATE:20150615
DTEND;VALUE=DATE:20150619
SUMMARY:AHS 2015
DESCRIPTION:NASA/ESA Conference on Adaptive Hardware and Systems
URL:http://www.wikicfp.com/cfp/servlet/event.showcfp?eventid=41675&copyow
 nerid=73992
UID:cfp501899-E@wikicfp.com
END:VEVENT
BEGIN:VEVENT
DTSTAMP:20260423T224645Z
DTSTART;VALUE=DATE:20150223
SUMMARY:AHS 2015 Deadline
DESCRIPTION:NASA/ESA Conference on Adaptive Hardware and Systems
URL:http://www.wikicfp.com/cfp/servlet/event.showcfp?eventid=41675&copyow
 nerid=73992
UID:cfp501899-D@wikicfp.com
END:VEVENT
BEGIN:VEVENT
DTSTAMP:20260423T224645Z
DTSTART;VALUE=DATE:20150429
DTEND;VALUE=DATE:20150502
SUMMARY:DICTAP 2015
DESCRIPTION:IEEE - Fifth International Conference on Digital Information 
 and Communication Technology and its Applications (DICTAP2015)
URL:http://www.wikicfp.com/cfp/servlet/event.showcfp?eventid=38625&copyow
 nerid=73992
UID:cfp501539-E@wikicfp.com
END:VEVENT
BEGIN:VEVENT
DTSTAMP:20260423T224645Z
DTSTART;VALUE=DATE:20150301
SUMMARY:DICTAP 2015 Deadline
DESCRIPTION:IEEE - Fifth International Conference on Digital Information 
 and Communication Technology and its Applications (DICTAP2015)
URL:http://www.wikicfp.com/cfp/servlet/event.showcfp?eventid=38625&copyow
 nerid=73992
UID:cfp501539-D@wikicfp.com
END:VEVENT
BEGIN:VEVENT
DTSTAMP:20260423T224645Z
DTSTART;VALUE=DATE:20150322
SUMMARY:DICTAP 2015 Notification Due
DESCRIPTION:IEEE - Fifth International Conference on Digital Information 
 and Communication Technology and its Applications (DICTAP2015)
URL:http://www.wikicfp.com/cfp/servlet/event.showcfp?eventid=38625&copyow
 nerid=73992
UID:cfp501539-N@wikicfp.com
END:VEVENT
BEGIN:VEVENT
DTSTAMP:20260423T224645Z
DTSTART;VALUE=DATE:20150330
SUMMARY:DICTAP 2015 Final Version Due
DESCRIPTION:IEEE - Fifth International Conference on Digital Information 
 and Communication Technology and its Applications (DICTAP2015)
URL:http://www.wikicfp.com/cfp/servlet/event.showcfp?eventid=38625&copyow
 nerid=73992
UID:cfp501539-N@wikicfp.com
END:VEVENT
BEGIN:VEVENT
DTSTAMP:20260423T224645Z
DTSTART;VALUE=DATE:20150721
DTEND;VALUE=DATE:20150724
SUMMARY:ICINCO 2015
DESCRIPTION:The 12th International Conference on Informatics in Control\,
  Automation and Robotics
URL:http://www.wikicfp.com/cfp/servlet/event.showcfp?eventid=41464&copyow
 nerid=73992
UID:cfp501541-E@wikicfp.com
END:VEVENT
BEGIN:VEVENT
DTSTAMP:20260423T224645Z
DTSTART;VALUE=DATE:20150303
SUMMARY:ICINCO 2015 Deadline
DESCRIPTION:The 12th International Conference on Informatics in Control\,
  Automation and Robotics
URL:http://www.wikicfp.com/cfp/servlet/event.showcfp?eventid=41464&copyow
 nerid=73992
UID:cfp501541-D@wikicfp.com
END:VEVENT
BEGIN:VEVENT
DTSTAMP:20260423T224645Z
DTSTART;VALUE=DATE:20150701
DTEND;VALUE=DATE:20150703
SUMMARY:ICSIC 2015
DESCRIPTION:2015 The 3rd International Conference on Solid-State and Inte
 grated Circuit
URL:http://www.wikicfp.com/cfp/servlet/event.showcfp?eventid=42482&copyow
 nerid=73992
UID:cfp501897-E@wikicfp.com
END:VEVENT
BEGIN:VEVENT
DTSTAMP:20260423T224645Z
DTSTART;VALUE=DATE:20150415
SUMMARY:ICSIC 2015 Deadline
DESCRIPTION:2015 The 3rd International Conference on Solid-State and Inte
 grated Circuit
URL:http://www.wikicfp.com/cfp/servlet/event.showcfp?eventid=42482&copyow
 nerid=73992
UID:cfp501897-D@wikicfp.com
END:VEVENT
BEGIN:VEVENT
DTSTAMP:20260423T224645Z
DTSTART;VALUE=DATE:20150505
SUMMARY:ICSIC 2015 Notification Due
DESCRIPTION:2015 The 3rd International Conference on Solid-State and Inte
 grated Circuit
URL:http://www.wikicfp.com/cfp/servlet/event.showcfp?eventid=42482&copyow
 nerid=73992
UID:cfp501897-N@wikicfp.com
END:VEVENT
BEGIN:VEVENT
DTSTAMP:20260423T224645Z
DTSTART;VALUE=DATE:20150520
SUMMARY:ICSIC 2015 Final Version Due
DESCRIPTION:2015 The 3rd International Conference on Solid-State and Inte
 grated Circuit
URL:http://www.wikicfp.com/cfp/servlet/event.showcfp?eventid=42482&copyow
 nerid=73992
UID:cfp501897-N@wikicfp.com
END:VEVENT
END:VCALENDAR
