BEGIN:VCALENDAR
PRODID:-//WikiCFP//juyaolong 1.0//EN
VERSION:2.0
CALSCALE:GREGORIAN
BEGIN:VEVENT
DTSTAMP:20260423T051528Z
DTSTART;VALUE=DATE:20150629
DTEND;VALUE=DATE:20150702
SUMMARY:MCS 2015
DESCRIPTION:12th International Workshop on Multiple Classifier Systems
URL:http://www.wikicfp.com/cfp/servlet/event.showcfp?eventid=42065&copyow
 nerid=73910
UID:cfp501103-E@wikicfp.com
END:VEVENT
BEGIN:VEVENT
DTSTAMP:20260423T051528Z
DTSTART;VALUE=DATE:20150130
SUMMARY:MCS 2015 Deadline
DESCRIPTION:12th International Workshop on Multiple Classifier Systems
URL:http://www.wikicfp.com/cfp/servlet/event.showcfp?eventid=42065&copyow
 nerid=73910
UID:cfp501103-D@wikicfp.com
END:VEVENT
BEGIN:VEVENT
DTSTAMP:20260423T051528Z
DTSTART;VALUE=DATE:20150325
SUMMARY:MCS 2015 Notification Due
DESCRIPTION:12th International Workshop on Multiple Classifier Systems
URL:http://www.wikicfp.com/cfp/servlet/event.showcfp?eventid=42065&copyow
 nerid=73910
UID:cfp501103-N@wikicfp.com
END:VEVENT
BEGIN:VEVENT
DTSTAMP:20260423T051528Z
DTSTART;VALUE=DATE:20150415
SUMMARY:MCS 2015 Final Version Due
DESCRIPTION:12th International Workshop on Multiple Classifier Systems
URL:http://www.wikicfp.com/cfp/servlet/event.showcfp?eventid=42065&copyow
 nerid=73910
UID:cfp501103-N@wikicfp.com
END:VEVENT
BEGIN:VEVENT
DTSTAMP:20260423T051528Z
DTSTART;VALUE=DATE:20150610
DTEND;VALUE=DATE:20150613
SUMMARY:IWANN 2015
DESCRIPTION:International Work-Conference on Artificial and Natural Neura
 l Networks
URL:http://www.wikicfp.com/cfp/servlet/event.showcfp?eventid=42296&copyow
 nerid=73910
UID:cfp501107-E@wikicfp.com
END:VEVENT
BEGIN:VEVENT
DTSTAMP:20260423T051528Z
DTSTART;VALUE=DATE:20150206
SUMMARY:IWANN 2015 Deadline
DESCRIPTION:International Work-Conference on Artificial and Natural Neura
 l Networks
URL:http://www.wikicfp.com/cfp/servlet/event.showcfp?eventid=42296&copyow
 nerid=73910
UID:cfp501107-D@wikicfp.com
END:VEVENT
BEGIN:VEVENT
DTSTAMP:20260423T051528Z
DTSTART;VALUE=DATE:20150321
SUMMARY:IWANN 2015 Notification Due
DESCRIPTION:International Work-Conference on Artificial and Natural Neura
 l Networks
URL:http://www.wikicfp.com/cfp/servlet/event.showcfp?eventid=42296&copyow
 nerid=73910
UID:cfp501107-N@wikicfp.com
END:VEVENT
BEGIN:VEVENT
DTSTAMP:20260423T051528Z
DTSTART;VALUE=DATE:20150402
SUMMARY:IWANN 2015 Final Version Due
DESCRIPTION:International Work-Conference on Artificial and Natural Neura
 l Networks
URL:http://www.wikicfp.com/cfp/servlet/event.showcfp?eventid=42296&copyow
 nerid=73910
UID:cfp501107-N@wikicfp.com
END:VEVENT
BEGIN:VEVENT
DTSTAMP:20260423T051528Z
DTSTART;VALUE=DATE:20150925
DTEND;VALUE=DATE:20151002
SUMMARY:ICMC 2015
DESCRIPTION:International Computer Music Conference
URL:http://www.wikicfp.com/cfp/servlet/event.showcfp?eventid=41935&copyow
 nerid=73910
UID:cfp501099-E@wikicfp.com
END:VEVENT
BEGIN:VEVENT
DTSTAMP:20260423T051528Z
DTSTART;VALUE=DATE:20150210
SUMMARY:ICMC 2015 Deadline
DESCRIPTION:International Computer Music Conference
URL:http://www.wikicfp.com/cfp/servlet/event.showcfp?eventid=41935&copyow
 nerid=73910
UID:cfp501099-D@wikicfp.com
END:VEVENT
BEGIN:VEVENT
DTSTAMP:20260423T051528Z
DTSTART;VALUE=DATE:20150405
SUMMARY:ICMC 2015 Notification Due
DESCRIPTION:International Computer Music Conference
URL:http://www.wikicfp.com/cfp/servlet/event.showcfp?eventid=41935&copyow
 nerid=73910
UID:cfp501099-N@wikicfp.com
END:VEVENT
BEGIN:VEVENT
DTSTAMP:20260423T051528Z
DTSTART;VALUE=DATE:20150505
SUMMARY:ICMC 2015 Final Version Due
DESCRIPTION:International Computer Music Conference
URL:http://www.wikicfp.com/cfp/servlet/event.showcfp?eventid=41935&copyow
 nerid=73910
UID:cfp501099-N@wikicfp.com
END:VEVENT
BEGIN:VEVENT
DTSTAMP:20260423T051528Z
DTSTART;VALUE=DATE:20150728
DTEND;VALUE=DATE:20150802
SUMMARY:IJCAI 2015
DESCRIPTION:International Joint Conference on Artificial Intelligence
URL:http://www.wikicfp.com/cfp/servlet/event.showcfp?eventid=31845&copyow
 nerid=73910
UID:cfp501098-E@wikicfp.com
END:VEVENT
BEGIN:VEVENT
DTSTAMP:20260423T051528Z
DTSTART;VALUE=DATE:20150208
SUMMARY:IJCAI 2015 Abstract Due
DESCRIPTION:International Joint Conference on Artificial Intelligence
URL:http://www.wikicfp.com/cfp/servlet/event.showcfp?eventid=31845&copyow
 nerid=73910
UID:cfp501098-A@wikicfp.com
END:VEVENT
BEGIN:VEVENT
DTSTAMP:20260423T051528Z
DTSTART;VALUE=DATE:20150212
SUMMARY:IJCAI 2015 Deadline
DESCRIPTION:International Joint Conference on Artificial Intelligence
URL:http://www.wikicfp.com/cfp/servlet/event.showcfp?eventid=31845&copyow
 nerid=73910
UID:cfp501098-D@wikicfp.com
END:VEVENT
BEGIN:VEVENT
DTSTAMP:20260423T051528Z
DTSTART;VALUE=DATE:20150504
DTEND;VALUE=DATE:20150506
SUMMARY:ICOPR 2015
DESCRIPTION:2015 International Workshop on Pattern Recognition
URL:http://www.wikicfp.com/cfp/servlet/event.showcfp?eventid=40773&copyow
 nerid=73910
UID:cfp501106-E@wikicfp.com
END:VEVENT
BEGIN:VEVENT
DTSTAMP:20260423T051528Z
DTSTART;VALUE=DATE:20150220
SUMMARY:ICOPR 2015 Deadline
DESCRIPTION:2015 International Workshop on Pattern Recognition
URL:http://www.wikicfp.com/cfp/servlet/event.showcfp?eventid=40773&copyow
 nerid=73910
UID:cfp501106-D@wikicfp.com
END:VEVENT
BEGIN:VEVENT
DTSTAMP:20260423T051528Z
DTSTART;VALUE=DATE:20150310
SUMMARY:ICOPR 2015 Notification Due
DESCRIPTION:2015 International Workshop on Pattern Recognition
URL:http://www.wikicfp.com/cfp/servlet/event.showcfp?eventid=40773&copyow
 nerid=73910
UID:cfp501106-N@wikicfp.com
END:VEVENT
BEGIN:VEVENT
DTSTAMP:20260423T051528Z
DTSTART;VALUE=DATE:20150325
SUMMARY:ICOPR 2015 Final Version Due
DESCRIPTION:2015 International Workshop on Pattern Recognition
URL:http://www.wikicfp.com/cfp/servlet/event.showcfp?eventid=40773&copyow
 nerid=73910
UID:cfp501106-N@wikicfp.com
END:VEVENT
BEGIN:VEVENT
DTSTAMP:20260423T051528Z
DTSTART;VALUE=DATE:20150616
DTEND;VALUE=DATE:20150620
SUMMARY:CMMR 2015
DESCRIPTION:International Symposium on Computer Music Multidisciplinary R
 esearch
URL:http://www.wikicfp.com/cfp/servlet/event.showcfp?eventid=41939&copyow
 nerid=73910
UID:cfp501101-E@wikicfp.com
END:VEVENT
BEGIN:VEVENT
DTSTAMP:20260423T051528Z
DTSTART;VALUE=DATE:20150227
SUMMARY:CMMR 2015 Deadline
DESCRIPTION:International Symposium on Computer Music Multidisciplinary R
 esearch
URL:http://www.wikicfp.com/cfp/servlet/event.showcfp?eventid=41939&copyow
 nerid=73910
UID:cfp501101-D@wikicfp.com
END:VEVENT
BEGIN:VEVENT
DTSTAMP:20260423T051528Z
DTSTART;VALUE=DATE:20150327
SUMMARY:CMMR 2015 Notification Due
DESCRIPTION:International Symposium on Computer Music Multidisciplinary R
 esearch
URL:http://www.wikicfp.com/cfp/servlet/event.showcfp?eventid=41939&copyow
 nerid=73910
UID:cfp501101-N@wikicfp.com
END:VEVENT
BEGIN:VEVENT
DTSTAMP:20260423T051528Z
DTSTART;VALUE=DATE:20150501
SUMMARY:CMMR 2015 Final Version Due
DESCRIPTION:International Symposium on Computer Music Multidisciplinary R
 esearch
URL:http://www.wikicfp.com/cfp/servlet/event.showcfp?eventid=41939&copyow
 nerid=73910
UID:cfp501101-N@wikicfp.com
END:VEVENT
BEGIN:VEVENT
DTSTAMP:20260423T051528Z
DTSTART;VALUE=DATE:20150712
DTEND;VALUE=DATE:20150717
SUMMARY:UAI 2015
DESCRIPTION:31st Conference on Uncertainty in Artificial Intelligence
URL:http://www.wikicfp.com/cfp/servlet/event.showcfp?eventid=41983&copyow
 nerid=73910
UID:cfp501102-E@wikicfp.com
END:VEVENT
BEGIN:VEVENT
DTSTAMP:20260423T051528Z
DTSTART;VALUE=DATE:20150303
SUMMARY:UAI 2015 Deadline
DESCRIPTION:31st Conference on Uncertainty in Artificial Intelligence
URL:http://www.wikicfp.com/cfp/servlet/event.showcfp?eventid=41983&copyow
 nerid=73910
UID:cfp501102-D@wikicfp.com
END:VEVENT
BEGIN:VEVENT
DTSTAMP:20260423T051528Z
DTSTART;VALUE=DATE:20150505
SUMMARY:UAI 2015 Notification Due
DESCRIPTION:31st Conference on Uncertainty in Artificial Intelligence
URL:http://www.wikicfp.com/cfp/servlet/event.showcfp?eventid=41983&copyow
 nerid=73910
UID:cfp501102-N@wikicfp.com
END:VEVENT
BEGIN:VEVENT
DTSTAMP:20260423T051528Z
DTSTART;VALUE=DATE:20150607
DTEND;VALUE=DATE:20150610
SUMMARY:InMusic 2015
DESCRIPTION:Innovation in Music 2015
URL:http://www.wikicfp.com/cfp/servlet/event.showcfp?eventid=41556&copyow
 nerid=73910
UID:cfp501108-E@wikicfp.com
END:VEVENT
BEGIN:VEVENT
DTSTAMP:20260423T051528Z
DTSTART;VALUE=DATE:20150313
SUMMARY:InMusic 2015 Deadline
DESCRIPTION:Innovation in Music 2015
URL:http://www.wikicfp.com/cfp/servlet/event.showcfp?eventid=41556&copyow
 nerid=73910
UID:cfp501108-D@wikicfp.com
END:VEVENT
BEGIN:VEVENT
DTSTAMP:20260423T051528Z
DTSTART;VALUE=DATE:20150410
SUMMARY:InMusic 2015 Notification Due
DESCRIPTION:Innovation in Music 2015
URL:http://www.wikicfp.com/cfp/servlet/event.showcfp?eventid=41556&copyow
 nerid=73910
UID:cfp501108-N@wikicfp.com
END:VEVENT
BEGIN:VEVENT
DTSTAMP:20260423T051528Z
DTSTART;VALUE=DATE:20151026
DTEND;VALUE=DATE:20151031
SUMMARY:MM 2015
DESCRIPTION:ACM Multimedia Conference
URL:http://www.wikicfp.com/cfp/servlet/event.showcfp?eventid=40705&copyow
 nerid=73910
UID:cfp501105-E@wikicfp.com
END:VEVENT
BEGIN:VEVENT
DTSTAMP:20260423T051528Z
DTSTART;VALUE=DATE:20150331
SUMMARY:MM 2015 Deadline
DESCRIPTION:ACM Multimedia Conference
URL:http://www.wikicfp.com/cfp/servlet/event.showcfp?eventid=40705&copyow
 nerid=73910
UID:cfp501105-D@wikicfp.com
END:VEVENT
BEGIN:VEVENT
DTSTAMP:20260423T051528Z
DTSTART;VALUE=DATE:20150706
SUMMARY:MM 2015 Notification Due
DESCRIPTION:ACM Multimedia Conference
URL:http://www.wikicfp.com/cfp/servlet/event.showcfp?eventid=40705&copyow
 nerid=73910
UID:cfp501105-N@wikicfp.com
END:VEVENT
BEGIN:VEVENT
DTSTAMP:20260423T051528Z
DTSTART;VALUE=DATE:20150815
SUMMARY:MM 2015 Final Version Due
DESCRIPTION:ACM Multimedia Conference
URL:http://www.wikicfp.com/cfp/servlet/event.showcfp?eventid=40705&copyow
 nerid=73910
UID:cfp501105-N@wikicfp.com
END:VEVENT
BEGIN:VEVENT
DTSTAMP:20260423T051528Z
DTSTART;VALUE=DATE:20150907
DTEND;VALUE=DATE:20150912
SUMMARY:ECML-PKDD 2015
DESCRIPTION:European Conference on Machine Learning and Principles and Pr
 actice of Knowledge Discovery in Databases
URL:http://www.wikicfp.com/cfp/servlet/event.showcfp?eventid=40580&copyow
 nerid=73910
UID:cfp501104-E@wikicfp.com
END:VEVENT
BEGIN:VEVENT
DTSTAMP:20260423T051528Z
DTSTART;VALUE=DATE:20150326
SUMMARY:ECML-PKDD 2015 Abstract Due
DESCRIPTION:European Conference on Machine Learning and Principles and Pr
 actice of Knowledge Discovery in Databases
URL:http://www.wikicfp.com/cfp/servlet/event.showcfp?eventid=40580&copyow
 nerid=73910
UID:cfp501104-A@wikicfp.com
END:VEVENT
BEGIN:VEVENT
DTSTAMP:20260423T051528Z
DTSTART;VALUE=DATE:20150402
SUMMARY:ECML-PKDD 2015 Deadline
DESCRIPTION:European Conference on Machine Learning and Principles and Pr
 actice of Knowledge Discovery in Databases
URL:http://www.wikicfp.com/cfp/servlet/event.showcfp?eventid=40580&copyow
 nerid=73910
UID:cfp501104-D@wikicfp.com
END:VEVENT
BEGIN:VEVENT
DTSTAMP:20260423T051528Z
DTSTART;VALUE=DATE:20150601
SUMMARY:ECML-PKDD 2015 Notification Due
DESCRIPTION:European Conference on Machine Learning and Principles and Pr
 actice of Knowledge Discovery in Databases
URL:http://www.wikicfp.com/cfp/servlet/event.showcfp?eventid=40580&copyow
 nerid=73910
UID:cfp501104-N@wikicfp.com
END:VEVENT
BEGIN:VEVENT
DTSTAMP:20260423T051528Z
DTSTART;VALUE=DATE:20150615
SUMMARY:ECML-PKDD 2015 Final Version Due
DESCRIPTION:European Conference on Machine Learning and Principles and Pr
 actice of Knowledge Discovery in Databases
URL:http://www.wikicfp.com/cfp/servlet/event.showcfp?eventid=40580&copyow
 nerid=73910
UID:cfp501104-N@wikicfp.com
END:VEVENT
BEGIN:VEVENT
DTSTAMP:20260423T051528Z
DTSTART;VALUE=DATE:20150725
DTEND;VALUE=DATE:20150802
SUMMARY:SMC 2015
DESCRIPTION:Sound and Music Computing Conference
URL:http://www.wikicfp.com/cfp/servlet/event.showcfp?eventid=41936&copyow
 nerid=73910
UID:cfp501100-E@wikicfp.com
END:VEVENT
BEGIN:VEVENT
DTSTAMP:20260423T051528Z
DTSTART;VALUE=DATE:20150414
SUMMARY:SMC 2015 Deadline
DESCRIPTION:Sound and Music Computing Conference
URL:http://www.wikicfp.com/cfp/servlet/event.showcfp?eventid=41936&copyow
 nerid=73910
UID:cfp501100-D@wikicfp.com
END:VEVENT
BEGIN:VEVENT
DTSTAMP:20260423T051528Z
DTSTART;VALUE=DATE:20150501
SUMMARY:SMC 2015 Notification Due
DESCRIPTION:Sound and Music Computing Conference
URL:http://www.wikicfp.com/cfp/servlet/event.showcfp?eventid=41936&copyow
 nerid=73910
UID:cfp501100-N@wikicfp.com
END:VEVENT
BEGIN:VEVENT
DTSTAMP:20260423T051528Z
DTSTART;VALUE=DATE:20150615
SUMMARY:SMC 2015 Final Version Due
DESCRIPTION:Sound and Music Computing Conference
URL:http://www.wikicfp.com/cfp/servlet/event.showcfp?eventid=41936&copyow
 nerid=73910
UID:cfp501100-N@wikicfp.com
END:VEVENT
BEGIN:VEVENT
DTSTAMP:20260423T051528Z
DTSTART;VALUE=DATE:20151026
DTEND;VALUE=DATE:20151031
SUMMARY:ISMIR 2015
DESCRIPTION:Music Information Retrieval Conference
URL:http://www.wikicfp.com/cfp/servlet/event.showcfp?eventid=41938&copyow
 nerid=73910
UID:cfp501109-E@wikicfp.com
END:VEVENT
BEGIN:VEVENT
DTSTAMP:20260423T051528Z
DTSTART;VALUE=DATE:20150427
SUMMARY:ISMIR 2015 Abstract Due
DESCRIPTION:Music Information Retrieval Conference
URL:http://www.wikicfp.com/cfp/servlet/event.showcfp?eventid=41938&copyow
 nerid=73910
UID:cfp501109-A@wikicfp.com
END:VEVENT
BEGIN:VEVENT
DTSTAMP:20260423T051528Z
DTSTART;VALUE=DATE:20150504
SUMMARY:ISMIR 2015 Deadline
DESCRIPTION:Music Information Retrieval Conference
URL:http://www.wikicfp.com/cfp/servlet/event.showcfp?eventid=41938&copyow
 nerid=73910
UID:cfp501109-D@wikicfp.com
END:VEVENT
BEGIN:VEVENT
DTSTAMP:20260423T051528Z
DTSTART;VALUE=DATE:20150627
SUMMARY:ISMIR 2015 Notification Due
DESCRIPTION:Music Information Retrieval Conference
URL:http://www.wikicfp.com/cfp/servlet/event.showcfp?eventid=41938&copyow
 nerid=73910
UID:cfp501109-N@wikicfp.com
END:VEVENT
END:VCALENDAR
