BEGIN:VCALENDAR
PRODID:-//WikiCFP//longnguyen 1.0//EN
VERSION:2.0
CALSCALE:GREGORIAN
BEGIN:VEVENT
DTSTAMP:20260419T134322Z
DTSTART;VALUE=DATE:20150907
DTEND;VALUE=DATE:20150912
SUMMARY:ECML-PKDD 2015
DESCRIPTION:European Conference on Machine Learning and Principles and Pr
 actice of Knowledge Discovery in Databases
URL:http://www.wikicfp.com/cfp/servlet/event.showcfp?eventid=40580&copyow
 nerid=7360
UID:cfp475671-E@wikicfp.com
END:VEVENT
BEGIN:VEVENT
DTSTAMP:20260419T134322Z
DTSTART;VALUE=DATE:20150810
DTEND;VALUE=DATE:20150814
SUMMARY:KDD 2015
DESCRIPTION:21th ACM SIGKDD Conference on Knowledge Discovery and Data Mi
 ning
URL:http://www.wikicfp.com/cfp/servlet/event.showcfp?eventid=40581&copyow
 nerid=7360
UID:cfp509665-E@wikicfp.com
END:VEVENT
BEGIN:VEVENT
DTSTAMP:20260419T134322Z
DTSTART;VALUE=DATE:20150220
SUMMARY:KDD 2015 Deadline
DESCRIPTION:21th ACM SIGKDD Conference on Knowledge Discovery and Data Mi
 ning
URL:http://www.wikicfp.com/cfp/servlet/event.showcfp?eventid=40581&copyow
 nerid=7360
UID:cfp509665-D@wikicfp.com
END:VEVENT
BEGIN:VEVENT
DTSTAMP:20260419T134322Z
DTSTART;VALUE=DATE:20150512
SUMMARY:KDD 2015 Notification Due
DESCRIPTION:21th ACM SIGKDD Conference on Knowledge Discovery and Data Mi
 ning
URL:http://www.wikicfp.com/cfp/servlet/event.showcfp?eventid=40581&copyow
 nerid=7360
UID:cfp509665-N@wikicfp.com
END:VEVENT
BEGIN:VEVENT
DTSTAMP:20260419T134322Z
DTSTART;VALUE=DATE:20150901
DTEND;VALUE=DATE:20150905
SUMMARY:DaWaK 2015
DESCRIPTION:17th International Conference on Big Data Analytics and Knowl
 edge Discovery - DaWaK 2015
URL:http://www.wikicfp.com/cfp/servlet/event.showcfp?eventid=43522&copyow
 nerid=7360
UID:cfp509666-E@wikicfp.com
END:VEVENT
BEGIN:VEVENT
DTSTAMP:20260419T134322Z
DTSTART;VALUE=DATE:20150317
SUMMARY:DaWaK 2015 Abstract Due
DESCRIPTION:17th International Conference on Big Data Analytics and Knowl
 edge Discovery - DaWaK 2015
URL:http://www.wikicfp.com/cfp/servlet/event.showcfp?eventid=43522&copyow
 nerid=7360
UID:cfp509666-A@wikicfp.com
END:VEVENT
BEGIN:VEVENT
DTSTAMP:20260419T134322Z
DTSTART;VALUE=DATE:20150331
SUMMARY:DaWaK 2015 Deadline
DESCRIPTION:17th International Conference on Big Data Analytics and Knowl
 edge Discovery - DaWaK 2015
URL:http://www.wikicfp.com/cfp/servlet/event.showcfp?eventid=43522&copyow
 nerid=7360
UID:cfp509666-D@wikicfp.com
END:VEVENT
BEGIN:VEVENT
DTSTAMP:20260419T134322Z
DTSTART;VALUE=DATE:20150519
SUMMARY:DaWaK 2015 Notification Due
DESCRIPTION:17th International Conference on Big Data Analytics and Knowl
 edge Discovery - DaWaK 2015
URL:http://www.wikicfp.com/cfp/servlet/event.showcfp?eventid=43522&copyow
 nerid=7360
UID:cfp509666-N@wikicfp.com
END:VEVENT
BEGIN:VEVENT
DTSTAMP:20260419T134322Z
DTSTART;VALUE=DATE:20150609
SUMMARY:DaWaK 2015 Final Version Due
DESCRIPTION:17th International Conference on Big Data Analytics and Knowl
 edge Discovery - DaWaK 2015
URL:http://www.wikicfp.com/cfp/servlet/event.showcfp?eventid=43522&copyow
 nerid=7360
UID:cfp509666-N@wikicfp.com
END:VEVENT
END:VCALENDAR
