BEGIN:VCALENDAR
PRODID:-//WikiCFP//ckuster 1.0//EN
VERSION:2.0
CALSCALE:GREGORIAN
BEGIN:VEVENT
DTSTAMP:20260426T005209Z
DTSTART;VALUE=DATE:20150927
DTEND;VALUE=DATE:20151001
SUMMARY:EUSPN 2015
DESCRIPTION:The 6th International Conference on Emerging Ubiquitous Syste
 ms and Pervasive Networks
URL:http://www.wikicfp.com/cfp/servlet/event.showcfp?eventid=42727&copyow
 nerid=73292
UID:cfp496414-E@wikicfp.com
END:VEVENT
BEGIN:VEVENT
DTSTAMP:20260426T005209Z
DTSTART;VALUE=DATE:20150603
SUMMARY:EUSPN 2015 Deadline
DESCRIPTION:The 6th International Conference on Emerging Ubiquitous Syste
 ms and Pervasive Networks
URL:http://www.wikicfp.com/cfp/servlet/event.showcfp?eventid=42727&copyow
 nerid=73292
UID:cfp496414-D@wikicfp.com
END:VEVENT
BEGIN:VEVENT
DTSTAMP:20260426T005209Z
DTSTART;VALUE=DATE:20150626
SUMMARY:EUSPN 2015 Notification Due
DESCRIPTION:The 6th International Conference on Emerging Ubiquitous Syste
 ms and Pervasive Networks
URL:http://www.wikicfp.com/cfp/servlet/event.showcfp?eventid=42727&copyow
 nerid=73292
UID:cfp496414-N@wikicfp.com
END:VEVENT
BEGIN:VEVENT
DTSTAMP:20260426T005209Z
DTSTART;VALUE=DATE:20150726
SUMMARY:EUSPN 2015 Final Version Due
DESCRIPTION:The 6th International Conference on Emerging Ubiquitous Syste
 ms and Pervasive Networks
URL:http://www.wikicfp.com/cfp/servlet/event.showcfp?eventid=42727&copyow
 nerid=73292
UID:cfp496414-N@wikicfp.com
END:VEVENT
END:VCALENDAR
