BEGIN:VCALENDAR
PRODID:-//WikiCFP//rg2014 1.0//EN
VERSION:2.0
CALSCALE:GREGORIAN
BEGIN:VEVENT
DTSTAMP:20260423T224825Z
DTSTART;VALUE=DATE:20150519
DTEND;VALUE=DATE:20150523
SUMMARY:PAKDD 2015
DESCRIPTION:Pacific-Asia Conference on Knowledge Discovery and Data Minin
 g
URL:http://www.wikicfp.com/cfp/servlet/event.showcfp?eventid=40000&copyow
 nerid=72471
UID:cfp491467-E@wikicfp.com
END:VEVENT
BEGIN:VEVENT
DTSTAMP:20260423T224825Z
DTSTART;VALUE=DATE:20141128
SUMMARY:PAKDD 2015 Deadline
DESCRIPTION:Pacific-Asia Conference on Knowledge Discovery and Data Minin
 g
URL:http://www.wikicfp.com/cfp/servlet/event.showcfp?eventid=40000&copyow
 nerid=72471
UID:cfp491467-D@wikicfp.com
END:VEVENT
BEGIN:VEVENT
DTSTAMP:20260423T224825Z
DTSTART;VALUE=DATE:20150130
SUMMARY:PAKDD 2015 Notification Due
DESCRIPTION:Pacific-Asia Conference on Knowledge Discovery and Data Minin
 g
URL:http://www.wikicfp.com/cfp/servlet/event.showcfp?eventid=40000&copyow
 nerid=72471
UID:cfp491467-N@wikicfp.com
END:VEVENT
BEGIN:VEVENT
DTSTAMP:20260423T224825Z
DTSTART;VALUE=DATE:20150220
SUMMARY:PAKDD 2015 Final Version Due
DESCRIPTION:Pacific-Asia Conference on Knowledge Discovery and Data Minin
 g
URL:http://www.wikicfp.com/cfp/servlet/event.showcfp?eventid=40000&copyow
 nerid=72471
UID:cfp491467-N@wikicfp.com
END:VEVENT
BEGIN:VEVENT
DTSTAMP:20260423T224825Z
DTSTART;VALUE=DATE:20150527
DTEND;VALUE=DATE:20150530
SUMMARY:ICDSST 2015
DESCRIPTION:International Conference on Decision Support System Technolog
 y
URL:http://www.wikicfp.com/cfp/servlet/event.showcfp?eventid=39392&copyow
 nerid=72471
UID:cfp491458-E@wikicfp.com
END:VEVENT
BEGIN:VEVENT
DTSTAMP:20260423T224825Z
DTSTART;VALUE=DATE:20141130
SUMMARY:ICDSST 2015 Deadline
DESCRIPTION:International Conference on Decision Support System Technolog
 y
URL:http://www.wikicfp.com/cfp/servlet/event.showcfp?eventid=39392&copyow
 nerid=72471
UID:cfp491458-D@wikicfp.com
END:VEVENT
BEGIN:VEVENT
DTSTAMP:20260423T224825Z
DTSTART;VALUE=DATE:20150115
SUMMARY:ICDSST 2015 Notification Due
DESCRIPTION:International Conference on Decision Support System Technolog
 y
URL:http://www.wikicfp.com/cfp/servlet/event.showcfp?eventid=39392&copyow
 nerid=72471
UID:cfp491458-N@wikicfp.com
END:VEVENT
BEGIN:VEVENT
DTSTAMP:20260423T224825Z
DTSTART;VALUE=DATE:20150201
SUMMARY:ICDSST 2015 Final Version Due
DESCRIPTION:International Conference on Decision Support System Technolog
 y
URL:http://www.wikicfp.com/cfp/servlet/event.showcfp?eventid=39392&copyow
 nerid=72471
UID:cfp491458-N@wikicfp.com
END:VEVENT
BEGIN:VEVENT
DTSTAMP:20260423T224825Z
DTSTART;VALUE=DATE:20141130
SUMMARY:MUD 2015 Deadline
DESCRIPTION:Mining Urban Data - Special Issue - Information Systems (Else
 vier)
URL:http://www.wikicfp.com/cfp/servlet/event.showcfp?eventid=40743&copyow
 nerid=72471
UID:cfp491468-D@wikicfp.com
END:VEVENT
BEGIN:VEVENT
DTSTAMP:20260423T224825Z
DTSTART;VALUE=DATE:20150407
DTEND;VALUE=DATE:20150410
SUMMARY:ISSNIP 2015
DESCRIPTION:CFP: The IEEE 10th International Conference on Intelligent Se
 nsors\, Sensor Networks and Information Processing (ISSNIP) Call for Pap
 ers\, Demos/Videos\, and Tutorial Proposals
URL:http://www.wikicfp.com/cfp/servlet/event.showcfp?eventid=40892&copyow
 nerid=72471
UID:cfp491469-E@wikicfp.com
END:VEVENT
BEGIN:VEVENT
DTSTAMP:20260423T224825Z
DTSTART;VALUE=DATE:20141201
SUMMARY:ISSNIP 2015 Abstract Due
DESCRIPTION:CFP: The IEEE 10th International Conference on Intelligent Se
 nsors\, Sensor Networks and Information Processing (ISSNIP) Call for Pap
 ers\, Demos/Videos\, and Tutorial Proposals
URL:http://www.wikicfp.com/cfp/servlet/event.showcfp?eventid=40892&copyow
 nerid=72471
UID:cfp491469-A@wikicfp.com
END:VEVENT
BEGIN:VEVENT
DTSTAMP:20260423T224825Z
DTSTART;VALUE=DATE:20141208
SUMMARY:ISSNIP 2015 Deadline
DESCRIPTION:CFP: The IEEE 10th International Conference on Intelligent Se
 nsors\, Sensor Networks and Information Processing (ISSNIP) Call for Pap
 ers\, Demos/Videos\, and Tutorial Proposals
URL:http://www.wikicfp.com/cfp/servlet/event.showcfp?eventid=40892&copyow
 nerid=72471
UID:cfp491469-D@wikicfp.com
END:VEVENT
BEGIN:VEVENT
DTSTAMP:20260423T224825Z
DTSTART;VALUE=DATE:20150110
SUMMARY:ISSNIP 2015 Notification Due
DESCRIPTION:CFP: The IEEE 10th International Conference on Intelligent Se
 nsors\, Sensor Networks and Information Processing (ISSNIP) Call for Pap
 ers\, Demos/Videos\, and Tutorial Proposals
URL:http://www.wikicfp.com/cfp/servlet/event.showcfp?eventid=40892&copyow
 nerid=72471
UID:cfp491469-N@wikicfp.com
END:VEVENT
BEGIN:VEVENT
DTSTAMP:20260423T224825Z
DTSTART;VALUE=DATE:20150207
SUMMARY:ISSNIP 2015 Final Version Due
DESCRIPTION:CFP: The IEEE 10th International Conference on Intelligent Se
 nsors\, Sensor Networks and Information Processing (ISSNIP) Call for Pap
 ers\, Demos/Videos\, and Tutorial Proposals
URL:http://www.wikicfp.com/cfp/servlet/event.showcfp?eventid=40892&copyow
 nerid=72471
UID:cfp491469-N@wikicfp.com
END:VEVENT
BEGIN:VEVENT
DTSTAMP:20260423T224825Z
DTSTART;VALUE=DATE:20141215
SUMMARY:JWS-ML 2014 Deadline
DESCRIPTION:Journal of Web Semantics Special Issue on Machine Learning an
 d Data Mining for the Semantic Web
URL:http://www.wikicfp.com/cfp/servlet/event.showcfp?eventid=39614&copyow
 nerid=72471
UID:cfp491459-D@wikicfp.com
END:VEVENT
BEGIN:VEVENT
DTSTAMP:20260423T224825Z
DTSTART;VALUE=DATE:20150415
SUMMARY:JWS-ML 2014 Notification Due
DESCRIPTION:Journal of Web Semantics Special Issue on Machine Learning an
 d Data Mining for the Semantic Web
URL:http://www.wikicfp.com/cfp/servlet/event.showcfp?eventid=39614&copyow
 nerid=72471
UID:cfp491459-N@wikicfp.com
END:VEVENT
BEGIN:VEVENT
DTSTAMP:20260423T224825Z
DTSTART;VALUE=DATE:20150615
SUMMARY:JWS-ML 2014 Final Version Due
DESCRIPTION:Journal of Web Semantics Special Issue on Machine Learning an
 d Data Mining for the Semantic Web
URL:http://www.wikicfp.com/cfp/servlet/event.showcfp?eventid=39614&copyow
 nerid=72471
UID:cfp491459-N@wikicfp.com
END:VEVENT
BEGIN:VEVENT
DTSTAMP:20260423T224825Z
DTSTART;VALUE=DATE:20150825
DTEND;VALUE=DATE:20150829
SUMMARY:ASONAM 2015
DESCRIPTION:[Call for workshop Proposal] The 2015 IEEE/ACM International 
 Conference on Advances in Social Networks Analysis and Mining
URL:http://www.wikicfp.com/cfp/servlet/event.showcfp?eventid=41913&copyow
 nerid=72471
UID:cfp491462-E@wikicfp.com
END:VEVENT
BEGIN:VEVENT
DTSTAMP:20260423T224825Z
DTSTART;VALUE=DATE:20141215
SUMMARY:ASONAM 2015 Deadline
DESCRIPTION:[Call for workshop Proposal] The 2015 IEEE/ACM International 
 Conference on Advances in Social Networks Analysis and Mining
URL:http://www.wikicfp.com/cfp/servlet/event.showcfp?eventid=41913&copyow
 nerid=72471
UID:cfp491462-D@wikicfp.com
END:VEVENT
BEGIN:VEVENT
DTSTAMP:20260423T224825Z
DTSTART;VALUE=DATE:20150115
SUMMARY:ASONAM 2015 Notification Due
DESCRIPTION:[Call for workshop Proposal] The 2015 IEEE/ACM International 
 Conference on Advances in Social Networks Analysis and Mining
URL:http://www.wikicfp.com/cfp/servlet/event.showcfp?eventid=41913&copyow
 nerid=72471
UID:cfp491462-N@wikicfp.com
END:VEVENT
BEGIN:VEVENT
DTSTAMP:20260423T224825Z
DTSTART;VALUE=DATE:20150123
DTEND;VALUE=DATE:20150125
SUMMARY:DKMP 2015
DESCRIPTION:Third International Conference on Data Mining & Knowledge Man
 agement Process
URL:http://www.wikicfp.com/cfp/servlet/event.showcfp?eventid=41836&copyow
 nerid=72471
UID:cfp491470-E@wikicfp.com
END:VEVENT
BEGIN:VEVENT
DTSTAMP:20260423T224825Z
DTSTART;VALUE=DATE:20141217
SUMMARY:DKMP 2015 Deadline
DESCRIPTION:Third International Conference on Data Mining & Knowledge Man
 agement Process
URL:http://www.wikicfp.com/cfp/servlet/event.showcfp?eventid=41836&copyow
 nerid=72471
UID:cfp491470-D@wikicfp.com
END:VEVENT
BEGIN:VEVENT
DTSTAMP:20260423T224825Z
DTSTART;VALUE=DATE:20150117
SUMMARY:DKMP 2015 Notification Due
DESCRIPTION:Third International Conference on Data Mining & Knowledge Man
 agement Process
URL:http://www.wikicfp.com/cfp/servlet/event.showcfp?eventid=41836&copyow
 nerid=72471
UID:cfp491470-N@wikicfp.com
END:VEVENT
BEGIN:VEVENT
DTSTAMP:20260423T224825Z
DTSTART;VALUE=DATE:20150120
SUMMARY:DKMP 2015 Final Version Due
DESCRIPTION:Third International Conference on Data Mining & Knowledge Man
 agement Process
URL:http://www.wikicfp.com/cfp/servlet/event.showcfp?eventid=41836&copyow
 nerid=72471
UID:cfp491470-N@wikicfp.com
END:VEVENT
BEGIN:VEVENT
DTSTAMP:20260423T224825Z
DTSTART;VALUE=DATE:20150602
DTEND;VALUE=DATE:20150606
SUMMARY:Big Data & Analytics - ANT 2015
DESCRIPTION:Big Data and Analytics Track (ANT 2015)
URL:http://www.wikicfp.com/cfp/servlet/event.showcfp?eventid=41555&copyow
 nerid=72471
UID:cfp491460-E@wikicfp.com
END:VEVENT
BEGIN:VEVENT
DTSTAMP:20260423T224825Z
DTSTART;VALUE=DATE:20150110
SUMMARY:Big Data & Analytics - ANT 2015 Deadline
DESCRIPTION:Big Data and Analytics Track (ANT 2015)
URL:http://www.wikicfp.com/cfp/servlet/event.showcfp?eventid=41555&copyow
 nerid=72471
UID:cfp491460-D@wikicfp.com
END:VEVENT
BEGIN:VEVENT
DTSTAMP:20260423T224825Z
DTSTART;VALUE=DATE:20150301
SUMMARY:Big Data & Analytics - ANT 2015 Notification Due
DESCRIPTION:Big Data and Analytics Track (ANT 2015)
URL:http://www.wikicfp.com/cfp/servlet/event.showcfp?eventid=41555&copyow
 nerid=72471
UID:cfp491460-N@wikicfp.com
END:VEVENT
BEGIN:VEVENT
DTSTAMP:20260423T224825Z
DTSTART;VALUE=DATE:20150401
SUMMARY:Big Data & Analytics - ANT 2015 Final Version Due
DESCRIPTION:Big Data and Analytics Track (ANT 2015)
URL:http://www.wikicfp.com/cfp/servlet/event.showcfp?eventid=41555&copyow
 nerid=72471
UID:cfp491460-N@wikicfp.com
END:VEVENT
BEGIN:VEVENT
DTSTAMP:20260423T224825Z
DTSTART;VALUE=DATE:20150602
DTEND;VALUE=DATE:20150606
SUMMARY:BigD2M 2015
DESCRIPTION:Workshop on Big Data and Data Mining Challenges on IoT and Pe
 rvasive Systems
URL:http://www.wikicfp.com/cfp/servlet/event.showcfp?eventid=41637&copyow
 nerid=72471
UID:cfp491461-E@wikicfp.com
END:VEVENT
BEGIN:VEVENT
DTSTAMP:20260423T224825Z
DTSTART;VALUE=DATE:20150110
SUMMARY:BigD2M 2015 Deadline
DESCRIPTION:Workshop on Big Data and Data Mining Challenges on IoT and Pe
 rvasive Systems
URL:http://www.wikicfp.com/cfp/servlet/event.showcfp?eventid=41637&copyow
 nerid=72471
UID:cfp491461-D@wikicfp.com
END:VEVENT
BEGIN:VEVENT
DTSTAMP:20260423T224825Z
DTSTART;VALUE=DATE:20150301
SUMMARY:BigD2M 2015 Notification Due
DESCRIPTION:Workshop on Big Data and Data Mining Challenges on IoT and Pe
 rvasive Systems
URL:http://www.wikicfp.com/cfp/servlet/event.showcfp?eventid=41637&copyow
 nerid=72471
UID:cfp491461-N@wikicfp.com
END:VEVENT
BEGIN:VEVENT
DTSTAMP:20260423T224825Z
DTSTART;VALUE=DATE:20150401
SUMMARY:BigD2M 2015 Final Version Due
DESCRIPTION:Workshop on Big Data and Data Mining Challenges on IoT and Pe
 rvasive Systems
URL:http://www.wikicfp.com/cfp/servlet/event.showcfp?eventid=41637&copyow
 nerid=72471
UID:cfp491461-N@wikicfp.com
END:VEVENT
BEGIN:VEVENT
DTSTAMP:20260423T224825Z
DTSTART;VALUE=DATE:20150502
DTEND;VALUE=DATE:20150503
SUMMARY:SDM-BSA 2015
DESCRIPTION:Big Data and Stream Analytics Workshop @ SIAM DATA MINING 201
 5
URL:http://www.wikicfp.com/cfp/servlet/event.showcfp?eventid=42094&copyow
 nerid=72471
UID:cfp491465-E@wikicfp.com
END:VEVENT
BEGIN:VEVENT
DTSTAMP:20260423T224825Z
DTSTART;VALUE=DATE:20150101
SUMMARY:SDM-BSA 2015 Abstract Due
DESCRIPTION:Big Data and Stream Analytics Workshop @ SIAM DATA MINING 201
 5
URL:http://www.wikicfp.com/cfp/servlet/event.showcfp?eventid=42094&copyow
 nerid=72471
UID:cfp491465-A@wikicfp.com
END:VEVENT
BEGIN:VEVENT
DTSTAMP:20260423T224825Z
DTSTART;VALUE=DATE:20150110
SUMMARY:SDM-BSA 2015 Deadline
DESCRIPTION:Big Data and Stream Analytics Workshop @ SIAM DATA MINING 201
 5
URL:http://www.wikicfp.com/cfp/servlet/event.showcfp?eventid=42094&copyow
 nerid=72471
UID:cfp491465-D@wikicfp.com
END:VEVENT
BEGIN:VEVENT
DTSTAMP:20260423T224825Z
DTSTART;VALUE=DATE:20150131
SUMMARY:SDM-BSA 2015 Notification Due
DESCRIPTION:Big Data and Stream Analytics Workshop @ SIAM DATA MINING 201
 5
URL:http://www.wikicfp.com/cfp/servlet/event.showcfp?eventid=42094&copyow
 nerid=72471
UID:cfp491465-N@wikicfp.com
END:VEVENT
BEGIN:VEVENT
DTSTAMP:20260423T224825Z
DTSTART;VALUE=DATE:20150210
SUMMARY:SDM-BSA 2015 Final Version Due
DESCRIPTION:Big Data and Stream Analytics Workshop @ SIAM DATA MINING 201
 5
URL:http://www.wikicfp.com/cfp/servlet/event.showcfp?eventid=42094&copyow
 nerid=72471
UID:cfp491465-N@wikicfp.com
END:VEVENT
BEGIN:VEVENT
DTSTAMP:20260423T224825Z
DTSTART;VALUE=DATE:20150630
DTEND;VALUE=DATE:20150704
SUMMARY:IFSA-EUSFLAT 2015
DESCRIPTION:SS on  Data Mining and Knowledge Discovery (30 June-3 July\, 
 GijÃ³n\, Spain)
URL:http://www.wikicfp.com/cfp/servlet/event.showcfp?eventid=42033&copyow
 nerid=72471
UID:cfp491463-E@wikicfp.com
END:VEVENT
BEGIN:VEVENT
DTSTAMP:20260423T224825Z
DTSTART;VALUE=DATE:20150116
SUMMARY:IFSA-EUSFLAT 2015 Deadline
DESCRIPTION:SS on  Data Mining and Knowledge Discovery (30 June-3 July\, 
 GijÃ³n\, Spain)
URL:http://www.wikicfp.com/cfp/servlet/event.showcfp?eventid=42033&copyow
 nerid=72471
UID:cfp491463-D@wikicfp.com
END:VEVENT
BEGIN:VEVENT
DTSTAMP:20260423T224825Z
DTSTART;VALUE=DATE:20150316
SUMMARY:IFSA-EUSFLAT 2015 Notification Due
DESCRIPTION:SS on  Data Mining and Knowledge Discovery (30 June-3 July\, 
 GijÃ³n\, Spain)
URL:http://www.wikicfp.com/cfp/servlet/event.showcfp?eventid=42033&copyow
 nerid=72471
UID:cfp491463-N@wikicfp.com
END:VEVENT
BEGIN:VEVENT
DTSTAMP:20260423T224825Z
DTSTART;VALUE=DATE:20150416
SUMMARY:IFSA-EUSFLAT 2015 Final Version Due
DESCRIPTION:SS on  Data Mining and Knowledge Discovery (30 June-3 July\, 
 GijÃ³n\, Spain)
URL:http://www.wikicfp.com/cfp/servlet/event.showcfp?eventid=42033&copyow
 nerid=72471
UID:cfp491463-N@wikicfp.com
END:VEVENT
BEGIN:VEVENT
DTSTAMP:20260423T224825Z
DTSTART;VALUE=DATE:20150608
DTEND;VALUE=DATE:20150611
SUMMARY:WAIM 2015
DESCRIPTION:The 16th International conference on Web-Age Information Mana
 gement (WAIM2015)
URL:http://www.wikicfp.com/cfp/servlet/event.showcfp?eventid=42066&copyow
 nerid=72471
UID:cfp491464-E@wikicfp.com
END:VEVENT
BEGIN:VEVENT
DTSTAMP:20260423T224825Z
DTSTART;VALUE=DATE:20150109
SUMMARY:WAIM 2015 Abstract Due
DESCRIPTION:The 16th International conference on Web-Age Information Mana
 gement (WAIM2015)
URL:http://www.wikicfp.com/cfp/servlet/event.showcfp?eventid=42066&copyow
 nerid=72471
UID:cfp491464-A@wikicfp.com
END:VEVENT
BEGIN:VEVENT
DTSTAMP:20260423T224825Z
DTSTART;VALUE=DATE:20150116
SUMMARY:WAIM 2015 Deadline
DESCRIPTION:The 16th International conference on Web-Age Information Mana
 gement (WAIM2015)
URL:http://www.wikicfp.com/cfp/servlet/event.showcfp?eventid=42066&copyow
 nerid=72471
UID:cfp491464-D@wikicfp.com
END:VEVENT
BEGIN:VEVENT
DTSTAMP:20260423T224825Z
DTSTART;VALUE=DATE:20150314
SUMMARY:WAIM 2015 Notification Due
DESCRIPTION:The 16th International conference on Web-Age Information Mana
 gement (WAIM2015)
URL:http://www.wikicfp.com/cfp/servlet/event.showcfp?eventid=42066&copyow
 nerid=72471
UID:cfp491464-N@wikicfp.com
END:VEVENT
BEGIN:VEVENT
DTSTAMP:20260423T224825Z
DTSTART;VALUE=DATE:20150324
SUMMARY:WAIM 2015 Final Version Due
DESCRIPTION:The 16th International conference on Web-Age Information Mana
 gement (WAIM2015)
URL:http://www.wikicfp.com/cfp/servlet/event.showcfp?eventid=42066&copyow
 nerid=72471
UID:cfp491464-N@wikicfp.com
END:VEVENT
BEGIN:VEVENT
DTSTAMP:20260423T224825Z
DTSTART;VALUE=DATE:20150810
DTEND;VALUE=DATE:20150814
SUMMARY:KDD 2015
DESCRIPTION:21th ACM SIGKDD Conference on Knowledge Discovery and Data Mi
 ning
URL:http://www.wikicfp.com/cfp/servlet/event.showcfp?eventid=40581&copyow
 nerid=72471
UID:cfp491472-E@wikicfp.com
END:VEVENT
BEGIN:VEVENT
DTSTAMP:20260423T224825Z
DTSTART;VALUE=DATE:20150220
SUMMARY:KDD 2015 Deadline
DESCRIPTION:21th ACM SIGKDD Conference on Knowledge Discovery and Data Mi
 ning
URL:http://www.wikicfp.com/cfp/servlet/event.showcfp?eventid=40581&copyow
 nerid=72471
UID:cfp491472-D@wikicfp.com
END:VEVENT
BEGIN:VEVENT
DTSTAMP:20260423T224825Z
DTSTART;VALUE=DATE:20150512
SUMMARY:KDD 2015 Notification Due
DESCRIPTION:21th ACM SIGKDD Conference on Knowledge Discovery and Data Mi
 ning
URL:http://www.wikicfp.com/cfp/servlet/event.showcfp?eventid=40581&copyow
 nerid=72471
UID:cfp491472-N@wikicfp.com
END:VEVENT
BEGIN:VEVENT
DTSTAMP:20260423T224825Z
DTSTART;VALUE=DATE:20150601
DTEND;VALUE=DATE:20150603
SUMMARY:ICCTS 2015
DESCRIPTION:2015 4th International Conference on Computer Technology and 
 Science
URL:http://www.wikicfp.com/cfp/servlet/event.showcfp?eventid=34132&copyow
 nerid=72471
UID:cfp491457-E@wikicfp.com
END:VEVENT
BEGIN:VEVENT
DTSTAMP:20260423T224825Z
DTSTART;VALUE=DATE:20150315
SUMMARY:ICCTS 2015 Deadline
DESCRIPTION:2015 4th International Conference on Computer Technology and 
 Science
URL:http://www.wikicfp.com/cfp/servlet/event.showcfp?eventid=34132&copyow
 nerid=72471
UID:cfp491457-D@wikicfp.com
END:VEVENT
BEGIN:VEVENT
DTSTAMP:20260423T224825Z
DTSTART;VALUE=DATE:20150405
SUMMARY:ICCTS 2015 Notification Due
DESCRIPTION:2015 4th International Conference on Computer Technology and 
 Science
URL:http://www.wikicfp.com/cfp/servlet/event.showcfp?eventid=34132&copyow
 nerid=72471
UID:cfp491457-N@wikicfp.com
END:VEVENT
BEGIN:VEVENT
DTSTAMP:20260423T224825Z
DTSTART;VALUE=DATE:20150420
SUMMARY:ICCTS 2015 Final Version Due
DESCRIPTION:2015 4th International Conference on Computer Technology and 
 Science
URL:http://www.wikicfp.com/cfp/servlet/event.showcfp?eventid=34132&copyow
 nerid=72471
UID:cfp491457-N@wikicfp.com
END:VEVENT
BEGIN:VEVENT
DTSTAMP:20260423T224825Z
DTSTART;VALUE=DATE:20151019
DTEND;VALUE=DATE:20151024
SUMMARY:CIKM 2015
DESCRIPTION:Conference on Information and Knowledge Management
URL:http://www.wikicfp.com/cfp/servlet/event.showcfp?eventid=38972&copyow
 nerid=72471
UID:cfp491471-E@wikicfp.com
END:VEVENT
BEGIN:VEVENT
DTSTAMP:20260423T224825Z
DTSTART;VALUE=DATE:20150501
SUMMARY:CIKM 2015 Abstract Due
DESCRIPTION:Conference on Information and Knowledge Management
URL:http://www.wikicfp.com/cfp/servlet/event.showcfp?eventid=38972&copyow
 nerid=72471
UID:cfp491471-A@wikicfp.com
END:VEVENT
BEGIN:VEVENT
DTSTAMP:20260423T224825Z
DTSTART;VALUE=DATE:20150508
SUMMARY:CIKM 2015 Deadline
DESCRIPTION:Conference on Information and Knowledge Management
URL:http://www.wikicfp.com/cfp/servlet/event.showcfp?eventid=38972&copyow
 nerid=72471
UID:cfp491471-D@wikicfp.com
END:VEVENT
BEGIN:VEVENT
DTSTAMP:20260423T224825Z
DTSTART;VALUE=DATE:20150703
SUMMARY:CIKM 2015 Notification Due
DESCRIPTION:Conference on Information and Knowledge Management
URL:http://www.wikicfp.com/cfp/servlet/event.showcfp?eventid=38972&copyow
 nerid=72471
UID:cfp491471-N@wikicfp.com
END:VEVENT
BEGIN:VEVENT
DTSTAMP:20260423T224825Z
DTSTART;VALUE=DATE:20150731
SUMMARY:CIKM 2015 Final Version Due
DESCRIPTION:Conference on Information and Knowledge Management
URL:http://www.wikicfp.com/cfp/servlet/event.showcfp?eventid=38972&copyow
 nerid=72471
UID:cfp491471-N@wikicfp.com
END:VEVENT
BEGIN:VEVENT
DTSTAMP:20260423T224825Z
DTSTART;VALUE=DATE:20150622
DTEND;VALUE=DATE:20150627
SUMMARY:SSML 2015
DESCRIPTION:AERFAI/INIT Summer School on Machine Learning
URL:http://www.wikicfp.com/cfp/servlet/event.showcfp?eventid=41580&copyow
 nerid=72471
UID:cfp491473-E@wikicfp.com
END:VEVENT
BEGIN:VEVENT
DTSTAMP:20260423T224825Z
DTSTART;VALUE=DATE:20150515
SUMMARY:SSML 2015 Deadline
DESCRIPTION:AERFAI/INIT Summer School on Machine Learning
URL:http://www.wikicfp.com/cfp/servlet/event.showcfp?eventid=41580&copyow
 nerid=72471
UID:cfp491473-D@wikicfp.com
END:VEVENT
BEGIN:VEVENT
DTSTAMP:20260423T224825Z
DTSTART;VALUE=DATE:20150515
SUMMARY:SSML 2015 Notification Due
DESCRIPTION:AERFAI/INIT Summer School on Machine Learning
URL:http://www.wikicfp.com/cfp/servlet/event.showcfp?eventid=41580&copyow
 nerid=72471
UID:cfp491473-N@wikicfp.com
END:VEVENT
BEGIN:VEVENT
DTSTAMP:20260423T224825Z
DTSTART;VALUE=DATE:20150515
SUMMARY:SSML 2015 Final Version Due
DESCRIPTION:AERFAI/INIT Summer School on Machine Learning
URL:http://www.wikicfp.com/cfp/servlet/event.showcfp?eventid=41580&copyow
 nerid=72471
UID:cfp491473-N@wikicfp.com
END:VEVENT
END:VCALENDAR
