BEGIN:VCALENDAR
PRODID:-//WikiCFP//SIMONESEHNEM 1.0//EN
VERSION:2.0
CALSCALE:GREGORIAN
BEGIN:VEVENT
DTSTAMP:20260421T113843Z
DTSTART;VALUE=DATE:20150320
DTEND;VALUE=DATE:20150322
SUMMARY:ICEBM 2015
DESCRIPTION:International Conference on Evidence Based Management
URL:http://www.wikicfp.com/cfp/servlet/event.showcfp?eventid=41780&copyow
 nerid=71868
UID:cfp487702-E@wikicfp.com
END:VEVENT
BEGIN:VEVENT
DTSTAMP:20260421T113843Z
DTSTART;VALUE=DATE:20141114
SUMMARY:ICEBM 2015 Deadline
DESCRIPTION:International Conference on Evidence Based Management
URL:http://www.wikicfp.com/cfp/servlet/event.showcfp?eventid=41780&copyow
 nerid=71868
UID:cfp487702-D@wikicfp.com
END:VEVENT
BEGIN:VEVENT
DTSTAMP:20260421T113843Z
DTSTART;VALUE=DATE:20141130
SUMMARY:ICEBM 2015 Notification Due
DESCRIPTION:International Conference on Evidence Based Management
URL:http://www.wikicfp.com/cfp/servlet/event.showcfp?eventid=41780&copyow
 nerid=71868
UID:cfp487702-N@wikicfp.com
END:VEVENT
BEGIN:VEVENT
DTSTAMP:20260421T113843Z
DTSTART;VALUE=DATE:20150120
SUMMARY:ICEBM 2015 Final Version Due
DESCRIPTION:International Conference on Evidence Based Management
URL:http://www.wikicfp.com/cfp/servlet/event.showcfp?eventid=41780&copyow
 nerid=71868
UID:cfp487702-N@wikicfp.com
END:VEVENT
BEGIN:VEVENT
DTSTAMP:20260421T113843Z
DTSTART;VALUE=DATE:20150423
DTEND;VALUE=DATE:20150426
SUMMARY:CBI 2015
DESCRIPTION:The second international Conference on Business Intelligence 
 (CBI'15)
URL:http://www.wikicfp.com/cfp/servlet/event.showcfp?eventid=41755&copyow
 nerid=71868
UID:cfp487701-E@wikicfp.com
END:VEVENT
BEGIN:VEVENT
DTSTAMP:20260421T113843Z
DTSTART;VALUE=DATE:20141231
SUMMARY:CBI 2015 Deadline
DESCRIPTION:The second international Conference on Business Intelligence 
 (CBI'15)
URL:http://www.wikicfp.com/cfp/servlet/event.showcfp?eventid=41755&copyow
 nerid=71868
UID:cfp487701-D@wikicfp.com
END:VEVENT
BEGIN:VEVENT
DTSTAMP:20260421T113843Z
DTSTART;VALUE=DATE:20150228
SUMMARY:CBI 2015 Notification Due
DESCRIPTION:The second international Conference on Business Intelligence 
 (CBI'15)
URL:http://www.wikicfp.com/cfp/servlet/event.showcfp?eventid=41755&copyow
 nerid=71868
UID:cfp487701-N@wikicfp.com
END:VEVENT
BEGIN:VEVENT
DTSTAMP:20260421T113843Z
DTSTART;VALUE=DATE:20150315
SUMMARY:CBI 2015 Final Version Due
DESCRIPTION:The second international Conference on Business Intelligence 
 (CBI'15)
URL:http://www.wikicfp.com/cfp/servlet/event.showcfp?eventid=41755&copyow
 nerid=71868
UID:cfp487701-N@wikicfp.com
END:VEVENT
END:VCALENDAR
