BEGIN:VCALENDAR
PRODID:-//WikiCFP//rawan 1.0//EN
VERSION:2.0
CALSCALE:GREGORIAN
BEGIN:VEVENT
DTSTAMP:20260420T223244Z
DTSTART;VALUE=DATE:20081109
DTEND;VALUE=DATE:20081110
SUMMARY:WDA 2008
DESCRIPTION:Workshop on Dependable Architectures
URL:http://www.wikicfp.com/cfp/servlet/event.showcfp?eventid=3485&copyown
 erid=7181
UID:cfp53235-E@wikicfp.com
END:VEVENT
BEGIN:VEVENT
DTSTAMP:20260420T223244Z
DTSTART;VALUE=DATE:20080908
SUMMARY:WDA 2008 Deadline
DESCRIPTION:Workshop on Dependable Architectures
URL:http://www.wikicfp.com/cfp/servlet/event.showcfp?eventid=3485&copyown
 erid=7181
UID:cfp53235-D@wikicfp.com
END:VEVENT
BEGIN:VEVENT
DTSTAMP:20260420T223244Z
DTSTART;VALUE=DATE:20081006
SUMMARY:WDA 2008 Notification Due
DESCRIPTION:Workshop on Dependable Architectures
URL:http://www.wikicfp.com/cfp/servlet/event.showcfp?eventid=3485&copyown
 erid=7181
UID:cfp53235-N@wikicfp.com
END:VEVENT
BEGIN:VEVENT
DTSTAMP:20260420T223244Z
DTSTART;VALUE=DATE:20081013
SUMMARY:WDA 2008 Final Version Due
DESCRIPTION:Workshop on Dependable Architectures
URL:http://www.wikicfp.com/cfp/servlet/event.showcfp?eventid=3485&copyown
 erid=7181
UID:cfp53235-N@wikicfp.com
END:VEVENT
BEGIN:VEVENT
DTSTAMP:20260420T223244Z
DTSTART;VALUE=DATE:20091212
DTEND;VALUE=DATE:20091217
SUMMARY:MICRO 2009
DESCRIPTION:The 42nd Annual IEEE/ACM International Symposium on Microarch
 itecture
URL:http://www.wikicfp.com/cfp/servlet/event.showcfp?eventid=5344&copyown
 erid=7181
UID:cfp53236-E@wikicfp.com
END:VEVENT
BEGIN:VEVENT
DTSTAMP:20260420T223244Z
DTSTART;VALUE=DATE:20090515
SUMMARY:MICRO 2009 Abstract Due
DESCRIPTION:The 42nd Annual IEEE/ACM International Symposium on Microarch
 itecture
URL:http://www.wikicfp.com/cfp/servlet/event.showcfp?eventid=5344&copyown
 erid=7181
UID:cfp53236-A@wikicfp.com
END:VEVENT
BEGIN:VEVENT
DTSTAMP:20260420T223244Z
DTSTART;VALUE=DATE:20090522
SUMMARY:MICRO 2009 Deadline
DESCRIPTION:The 42nd Annual IEEE/ACM International Symposium on Microarch
 itecture
URL:http://www.wikicfp.com/cfp/servlet/event.showcfp?eventid=5344&copyown
 erid=7181
UID:cfp53236-D@wikicfp.com
END:VEVENT
BEGIN:VEVENT
DTSTAMP:20260420T223244Z
DTSTART;VALUE=DATE:20090728
SUMMARY:MICRO 2009 Notification Due
DESCRIPTION:The 42nd Annual IEEE/ACM International Symposium on Microarch
 itecture
URL:http://www.wikicfp.com/cfp/servlet/event.showcfp?eventid=5344&copyown
 erid=7181
UID:cfp53236-N@wikicfp.com
END:VEVENT
BEGIN:VEVENT
DTSTAMP:20260420T223244Z
DTSTART;VALUE=DATE:20100914
DTEND;VALUE=DATE:20100918
SUMMARY:SAFECOMP 2010
DESCRIPTION:29th International Conference on Computer Safety\, Reliabilit
 y and Security
URL:http://www.wikicfp.com/cfp/servlet/event.showcfp?eventid=6578&copyown
 erid=7181
UID:cfp53234-E@wikicfp.com
END:VEVENT
BEGIN:VEVENT
DTSTAMP:20260420T223244Z
DTSTART;VALUE=DATE:20100208
SUMMARY:SAFECOMP 2010 Deadline
DESCRIPTION:29th International Conference on Computer Safety\, Reliabilit
 y and Security
URL:http://www.wikicfp.com/cfp/servlet/event.showcfp?eventid=6578&copyown
 erid=7181
UID:cfp53234-D@wikicfp.com
END:VEVENT
BEGIN:VEVENT
DTSTAMP:20260420T223244Z
DTSTART;VALUE=DATE:20100510
SUMMARY:SAFECOMP 2010 Notification Due
DESCRIPTION:29th International Conference on Computer Safety\, Reliabilit
 y and Security
URL:http://www.wikicfp.com/cfp/servlet/event.showcfp?eventid=6578&copyown
 erid=7181
UID:cfp53234-N@wikicfp.com
END:VEVENT
END:VCALENDAR
