BEGIN:VCALENDAR
PRODID:-//WikiCFP//kailynelliott 1.0//EN
VERSION:2.0
CALSCALE:GREGORIAN
BEGIN:VEVENT
DTSTAMP:20260421T011644Z
DTSTART;VALUE=DATE:20131201
SUMMARY: IT Professional 2014 Deadline
DESCRIPTION:Life Sciences Computing\,
URL:http://www.wikicfp.com/cfp/servlet/event.showcfp?eventid=33417&copyow
 nerid=71607
UID:cfp486121-D@wikicfp.com
END:VEVENT
BEGIN:VEVENT
DTSTAMP:20260421T011644Z
DTSTART;VALUE=DATE:20130601
DTEND;VALUE=DATE:20140605
SUMMARY:BHI  2014
DESCRIPTION:International Conference on Biomedical and Health Informatics
 
URL:http://www.wikicfp.com/cfp/servlet/event.showcfp?eventid=34248&copyow
 nerid=71607
UID:cfp486122-E@wikicfp.com
END:VEVENT
BEGIN:VEVENT
DTSTAMP:20260421T011644Z
DTSTART;VALUE=DATE:20131209
SUMMARY:BHI  2014 Deadline
DESCRIPTION:International Conference on Biomedical and Health Informatics
 
URL:http://www.wikicfp.com/cfp/servlet/event.showcfp?eventid=34248&copyow
 nerid=71607
UID:cfp486122-D@wikicfp.com
END:VEVENT
BEGIN:VEVENT
DTSTAMP:20260421T011644Z
DTSTART;VALUE=DATE:20140211
DTEND;VALUE=DATE:20140216
SUMMARY:IASIS 2014
DESCRIPTION:1st Iberoamerican Workshop in Interoperable Health Informatio
 n Systems
URL:http://www.wikicfp.com/cfp/servlet/event.showcfp?eventid=34554&copyow
 nerid=71607
UID:cfp486123-E@wikicfp.com
END:VEVENT
BEGIN:VEVENT
DTSTAMP:20260421T011644Z
DTSTART;VALUE=DATE:20140127
SUMMARY:IASIS 2014 Deadline
DESCRIPTION:1st Iberoamerican Workshop in Interoperable Health Informatio
 n Systems
URL:http://www.wikicfp.com/cfp/servlet/event.showcfp?eventid=34554&copyow
 nerid=71607
UID:cfp486123-D@wikicfp.com
END:VEVENT
BEGIN:VEVENT
DTSTAMP:20260421T011644Z
DTSTART;VALUE=DATE:20140203
SUMMARY:IASIS 2014 Notification Due
DESCRIPTION:1st Iberoamerican Workshop in Interoperable Health Informatio
 n Systems
URL:http://www.wikicfp.com/cfp/servlet/event.showcfp?eventid=34554&copyow
 nerid=71607
UID:cfp486123-N@wikicfp.com
END:VEVENT
BEGIN:VEVENT
DTSTAMP:20260421T011644Z
DTSTART;VALUE=DATE:20140211
SUMMARY:IASIS 2014 Final Version Due
DESCRIPTION:1st Iberoamerican Workshop in Interoperable Health Informatio
 n Systems
URL:http://www.wikicfp.com/cfp/servlet/event.showcfp?eventid=34554&copyow
 nerid=71607
UID:cfp486123-N@wikicfp.com
END:VEVENT
BEGIN:VEVENT
DTSTAMP:20260421T011644Z
DTSTART;VALUE=DATE:20140831
DTEND;VALUE=DATE:20140904
SUMMARY:MIE 2014
DESCRIPTION:Medical Informatics Europe
URL:http://www.wikicfp.com/cfp/servlet/event.showcfp?eventid=33346&copyow
 nerid=71607
UID:cfp486120-E@wikicfp.com
END:VEVENT
BEGIN:VEVENT
DTSTAMP:20260421T011644Z
DTSTART;VALUE=DATE:20140131
SUMMARY:MIE 2014 Deadline
DESCRIPTION:Medical Informatics Europe
URL:http://www.wikicfp.com/cfp/servlet/event.showcfp?eventid=33346&copyow
 nerid=71607
UID:cfp486120-D@wikicfp.com
END:VEVENT
BEGIN:VEVENT
DTSTAMP:20260421T011644Z
DTSTART;VALUE=DATE:20140401
SUMMARY:MIE 2014 Notification Due
DESCRIPTION:Medical Informatics Europe
URL:http://www.wikicfp.com/cfp/servlet/event.showcfp?eventid=33346&copyow
 nerid=71607
UID:cfp486120-N@wikicfp.com
END:VEVENT
BEGIN:VEVENT
DTSTAMP:20260421T011644Z
DTSTART;VALUE=DATE:20140501
SUMMARY:MIE 2014 Final Version Due
DESCRIPTION:Medical Informatics Europe
URL:http://www.wikicfp.com/cfp/servlet/event.showcfp?eventid=33346&copyow
 nerid=71607
UID:cfp486120-N@wikicfp.com
END:VEVENT
BEGIN:VEVENT
DTSTAMP:20260421T011644Z
DTSTART;VALUE=DATE:20140519
DTEND;VALUE=DATE:20140521
SUMMARY:PAHI 2014
DESCRIPTION:2nd European Workshop on Practical Aspects of Health Informat
 ics (PAHI 2014) 
URL:http://www.wikicfp.com/cfp/servlet/event.showcfp?eventid=34897&copyow
 nerid=71607
UID:cfp486124-E@wikicfp.com
END:VEVENT
BEGIN:VEVENT
DTSTAMP:20260421T011644Z
DTSTART;VALUE=DATE:20140315
SUMMARY:PAHI 2014 Deadline
DESCRIPTION:2nd European Workshop on Practical Aspects of Health Informat
 ics (PAHI 2014) 
URL:http://www.wikicfp.com/cfp/servlet/event.showcfp?eventid=34897&copyow
 nerid=71607
UID:cfp486124-D@wikicfp.com
END:VEVENT
BEGIN:VEVENT
DTSTAMP:20260421T011644Z
DTSTART;VALUE=DATE:20140415
SUMMARY:PAHI 2014 Notification Due
DESCRIPTION:2nd European Workshop on Practical Aspects of Health Informat
 ics (PAHI 2014) 
URL:http://www.wikicfp.com/cfp/servlet/event.showcfp?eventid=34897&copyow
 nerid=71607
UID:cfp486124-N@wikicfp.com
END:VEVENT
BEGIN:VEVENT
DTSTAMP:20260421T011644Z
DTSTART;VALUE=DATE:20140608
SUMMARY:PAHI 2014 Final Version Due
DESCRIPTION:2nd European Workshop on Practical Aspects of Health Informat
 ics (PAHI 2014) 
URL:http://www.wikicfp.com/cfp/servlet/event.showcfp?eventid=34897&copyow
 nerid=71607
UID:cfp486124-N@wikicfp.com
END:VEVENT
BEGIN:VEVENT
DTSTAMP:20260421T011644Z
DTSTART;VALUE=DATE:20140727
DTEND;VALUE=DATE:20140728
SUMMARY:W3PHI 2014
DESCRIPTION: AAAI Workshop on the World Wide Web and Public Health Intell
 igence (W3PHI 2014)
URL:http://www.wikicfp.com/cfp/servlet/event.showcfp?eventid=35256&copyow
 nerid=71607
UID:cfp486126-E@wikicfp.com
END:VEVENT
BEGIN:VEVENT
DTSTAMP:20260421T011644Z
DTSTART;VALUE=DATE:20140410
SUMMARY:W3PHI 2014 Deadline
DESCRIPTION: AAAI Workshop on the World Wide Web and Public Health Intell
 igence (W3PHI 2014)
URL:http://www.wikicfp.com/cfp/servlet/event.showcfp?eventid=35256&copyow
 nerid=71607
UID:cfp486126-D@wikicfp.com
END:VEVENT
BEGIN:VEVENT
DTSTAMP:20260421T011644Z
DTSTART;VALUE=DATE:20140501
SUMMARY:W3PHI 2014 Notification Due
DESCRIPTION: AAAI Workshop on the World Wide Web and Public Health Intell
 igence (W3PHI 2014)
URL:http://www.wikicfp.com/cfp/servlet/event.showcfp?eventid=35256&copyow
 nerid=71607
UID:cfp486126-N@wikicfp.com
END:VEVENT
BEGIN:VEVENT
DTSTAMP:20260421T011644Z
DTSTART;VALUE=DATE:20140515
SUMMARY:W3PHI 2014 Final Version Due
DESCRIPTION: AAAI Workshop on the World Wide Web and Public Health Intell
 igence (W3PHI 2014)
URL:http://www.wikicfp.com/cfp/servlet/event.showcfp?eventid=35256&copyow
 nerid=71607
UID:cfp486126-N@wikicfp.com
END:VEVENT
BEGIN:VEVENT
DTSTAMP:20260421T011644Z
DTSTART;VALUE=DATE:20140907
DTEND;VALUE=DATE:20140911
SUMMARY:AIMA 2014
DESCRIPTION:International Workshop on Artificial Intelligence in Medical 
 Applications 
URL:http://www.wikicfp.com/cfp/servlet/event.showcfp?eventid=35072&copyow
 nerid=71607
UID:cfp486125-E@wikicfp.com
END:VEVENT
BEGIN:VEVENT
DTSTAMP:20260421T011644Z
DTSTART;VALUE=DATE:20140423
SUMMARY:AIMA 2014 Deadline
DESCRIPTION:International Workshop on Artificial Intelligence in Medical 
 Applications 
URL:http://www.wikicfp.com/cfp/servlet/event.showcfp?eventid=35072&copyow
 nerid=71607
UID:cfp486125-D@wikicfp.com
END:VEVENT
BEGIN:VEVENT
DTSTAMP:20260421T011644Z
DTSTART;VALUE=DATE:20140519
SUMMARY:AIMA 2014 Notification Due
DESCRIPTION:International Workshop on Artificial Intelligence in Medical 
 Applications 
URL:http://www.wikicfp.com/cfp/servlet/event.showcfp?eventid=35072&copyow
 nerid=71607
UID:cfp486125-N@wikicfp.com
END:VEVENT
BEGIN:VEVENT
DTSTAMP:20260421T011644Z
DTSTART;VALUE=DATE:20140617
SUMMARY:AIMA 2014 Final Version Due
DESCRIPTION:International Workshop on Artificial Intelligence in Medical 
 Applications 
URL:http://www.wikicfp.com/cfp/servlet/event.showcfp?eventid=35072&copyow
 nerid=71607
UID:cfp486125-N@wikicfp.com
END:VEVENT
BEGIN:VEVENT
DTSTAMP:20260421T011644Z
DTSTART;VALUE=DATE:20140831
DTEND;VALUE=DATE:20140901
SUMMARY:CBM-EHR4C&TR 2014
DESCRIPTION:Computers in Biology and Medicine Special Issue on Electronic
  Health Records for Clinical and Translational Research
URL:http://www.wikicfp.com/cfp/servlet/event.showcfp?eventid=36279&copyow
 nerid=71607
UID:cfp486127-E@wikicfp.com
END:VEVENT
BEGIN:VEVENT
DTSTAMP:20260421T011644Z
DTSTART;VALUE=DATE:20140430
SUMMARY:CBM-EHR4C&TR 2014 Deadline
DESCRIPTION:Computers in Biology and Medicine Special Issue on Electronic
  Health Records for Clinical and Translational Research
URL:http://www.wikicfp.com/cfp/servlet/event.showcfp?eventid=36279&copyow
 nerid=71607
UID:cfp486127-D@wikicfp.com
END:VEVENT
BEGIN:VEVENT
DTSTAMP:20260421T011644Z
DTSTART;VALUE=DATE:20140630
SUMMARY:CBM-EHR4C&TR 2014 Notification Due
DESCRIPTION:Computers in Biology and Medicine Special Issue on Electronic
  Health Records for Clinical and Translational Research
URL:http://www.wikicfp.com/cfp/servlet/event.showcfp?eventid=36279&copyow
 nerid=71607
UID:cfp486127-N@wikicfp.com
END:VEVENT
BEGIN:VEVENT
DTSTAMP:20260421T011644Z
DTSTART;VALUE=DATE:20140831
SUMMARY:CBM-EHR4C&TR 2014 Final Version Due
DESCRIPTION:Computers in Biology and Medicine Special Issue on Electronic
  Health Records for Clinical and Translational Research
URL:http://www.wikicfp.com/cfp/servlet/event.showcfp?eventid=36279&copyow
 nerid=71607
UID:cfp486127-N@wikicfp.com
END:VEVENT
BEGIN:VEVENT
DTSTAMP:20260421T011644Z
DTSTART;VALUE=DATE:20140710
DTEND;VALUE=DATE:20140712
SUMMARY:ICSH 2014
DESCRIPTION:The International Conference for Smart Health 2014
URL:http://www.wikicfp.com/cfp/servlet/event.showcfp?eventid=37466&copyow
 nerid=71607
UID:cfp486129-E@wikicfp.com
END:VEVENT
BEGIN:VEVENT
DTSTAMP:20260421T011644Z
DTSTART;VALUE=DATE:20140430
SUMMARY:ICSH 2014 Deadline
DESCRIPTION:The International Conference for Smart Health 2014
URL:http://www.wikicfp.com/cfp/servlet/event.showcfp?eventid=37466&copyow
 nerid=71607
UID:cfp486129-D@wikicfp.com
END:VEVENT
BEGIN:VEVENT
DTSTAMP:20260421T011644Z
DTSTART;VALUE=DATE:20140920
DTEND;VALUE=DATE:20140924
SUMMARY:BCB 2014
DESCRIPTION:Bioinformatics and Computational Biology
URL:http://www.wikicfp.com/cfp/servlet/event.showcfp?eventid=37898&copyow
 nerid=71607
UID:cfp486130-E@wikicfp.com
END:VEVENT
BEGIN:VEVENT
DTSTAMP:20260421T011644Z
DTSTART;VALUE=DATE:20140515
SUMMARY:BCB 2014 Deadline
DESCRIPTION:Bioinformatics and Computational Biology
URL:http://www.wikicfp.com/cfp/servlet/event.showcfp?eventid=37898&copyow
 nerid=71607
UID:cfp486130-D@wikicfp.com
END:VEVENT
BEGIN:VEVENT
DTSTAMP:20260421T011644Z
DTSTART;VALUE=DATE:20140715
SUMMARY:BCB 2014 Notification Due
DESCRIPTION:Bioinformatics and Computational Biology
URL:http://www.wikicfp.com/cfp/servlet/event.showcfp?eventid=37898&copyow
 nerid=71607
UID:cfp486130-N@wikicfp.com
END:VEVENT
BEGIN:VEVENT
DTSTAMP:20260421T011644Z
DTSTART;VALUE=DATE:20140729
SUMMARY:BCB 2014 Final Version Due
DESCRIPTION:Bioinformatics and Computational Biology
URL:http://www.wikicfp.com/cfp/servlet/event.showcfp?eventid=37898&copyow
 nerid=71607
UID:cfp486130-N@wikicfp.com
END:VEVENT
BEGIN:VEVENT
DTSTAMP:20260421T011644Z
DTSTART;VALUE=DATE:20140820
SUMMARY:BMDJ 1\,1 2014 Deadline
DESCRIPTION:Open Access to Experimental and Clinical Data
URL:http://www.wikicfp.com/cfp/servlet/event.showcfp?eventid=39857&copyow
 nerid=71607
UID:cfp486135-D@wikicfp.com
END:VEVENT
BEGIN:VEVENT
DTSTAMP:20260421T011644Z
DTSTART;VALUE=DATE:20140920
SUMMARY:BMDJ 1\,1 2014 Notification Due
DESCRIPTION:Open Access to Experimental and Clinical Data
URL:http://www.wikicfp.com/cfp/servlet/event.showcfp?eventid=39857&copyow
 nerid=71607
UID:cfp486135-N@wikicfp.com
END:VEVENT
BEGIN:VEVENT
DTSTAMP:20260421T011644Z
DTSTART;VALUE=DATE:20140930
SUMMARY:BMDJ 1\,1 2014 Final Version Due
DESCRIPTION:Open Access to Experimental and Clinical Data
URL:http://www.wikicfp.com/cfp/servlet/event.showcfp?eventid=39857&copyow
 nerid=71607
UID:cfp486135-N@wikicfp.com
END:VEVENT
BEGIN:VEVENT
DTSTAMP:20260421T011644Z
DTSTART;VALUE=DATE:20150112
DTEND;VALUE=DATE:20150116
SUMMARY:BIOSTEC 2015
DESCRIPTION:Biomedical Engineering Systems and Technologies
URL:http://www.wikicfp.com/cfp/servlet/event.showcfp?eventid=36927&copyow
 nerid=71607
UID:cfp486128-E@wikicfp.com
END:VEVENT
BEGIN:VEVENT
DTSTAMP:20260421T011644Z
DTSTART;VALUE=DATE:20140901
SUMMARY:BIOSTEC 2015 Deadline
DESCRIPTION:Biomedical Engineering Systems and Technologies
URL:http://www.wikicfp.com/cfp/servlet/event.showcfp?eventid=36927&copyow
 nerid=71607
UID:cfp486128-D@wikicfp.com
END:VEVENT
BEGIN:VEVENT
DTSTAMP:20260421T011644Z
DTSTART;VALUE=DATE:20141103
SUMMARY:BIOSTEC 2015 Notification Due
DESCRIPTION:Biomedical Engineering Systems and Technologies
URL:http://www.wikicfp.com/cfp/servlet/event.showcfp?eventid=36927&copyow
 nerid=71607
UID:cfp486128-N@wikicfp.com
END:VEVENT
BEGIN:VEVENT
DTSTAMP:20260421T011644Z
DTSTART;VALUE=DATE:20141117
SUMMARY:BIOSTEC 2015 Final Version Due
DESCRIPTION:Biomedical Engineering Systems and Technologies
URL:http://www.wikicfp.com/cfp/servlet/event.showcfp?eventid=36927&copyow
 nerid=71607
UID:cfp486128-N@wikicfp.com
END:VEVENT
BEGIN:VEVENT
DTSTAMP:20260421T011644Z
DTSTART;VALUE=DATE:20150112
DTEND;VALUE=DATE:20150116
SUMMARY:HEALTHINF 2015
DESCRIPTION:8th International Conference on Health Informatics
URL:http://www.wikicfp.com/cfp/servlet/event.showcfp?eventid=38205&copyow
 nerid=71607
UID:cfp486132-E@wikicfp.com
END:VEVENT
BEGIN:VEVENT
DTSTAMP:20260421T011644Z
DTSTART;VALUE=DATE:20140901
SUMMARY:HEALTHINF 2015 Deadline
DESCRIPTION:8th International Conference on Health Informatics
URL:http://www.wikicfp.com/cfp/servlet/event.showcfp?eventid=38205&copyow
 nerid=71607
UID:cfp486132-D@wikicfp.com
END:VEVENT
BEGIN:VEVENT
DTSTAMP:20260421T011644Z
DTSTART;VALUE=DATE:20141103
SUMMARY:HEALTHINF 2015 Notification Due
DESCRIPTION:8th International Conference on Health Informatics
URL:http://www.wikicfp.com/cfp/servlet/event.showcfp?eventid=38205&copyow
 nerid=71607
UID:cfp486132-N@wikicfp.com
END:VEVENT
BEGIN:VEVENT
DTSTAMP:20260421T011644Z
DTSTART;VALUE=DATE:20141117
SUMMARY:HEALTHINF 2015 Final Version Due
DESCRIPTION:8th International Conference on Health Informatics
URL:http://www.wikicfp.com/cfp/servlet/event.showcfp?eventid=38205&copyow
 nerid=71607
UID:cfp486132-N@wikicfp.com
END:VEVENT
BEGIN:VEVENT
DTSTAMP:20260421T011644Z
DTSTART;VALUE=DATE:20141010
SUMMARY:BMDJ 1\,2 2014 Deadline
DESCRIPTION:High Throughput Drug Screening
URL:http://www.wikicfp.com/cfp/servlet/event.showcfp?eventid=39856&copyow
 nerid=71607
UID:cfp486134-D@wikicfp.com
END:VEVENT
BEGIN:VEVENT
DTSTAMP:20260421T011644Z
DTSTART;VALUE=DATE:20141110
SUMMARY:BMDJ 1\,2 2014 Notification Due
DESCRIPTION:High Throughput Drug Screening
URL:http://www.wikicfp.com/cfp/servlet/event.showcfp?eventid=39856&copyow
 nerid=71607
UID:cfp486134-N@wikicfp.com
END:VEVENT
BEGIN:VEVENT
DTSTAMP:20260421T011644Z
DTSTART;VALUE=DATE:20141120
SUMMARY:BMDJ 1\,2 2014 Final Version Due
DESCRIPTION:High Throughput Drug Screening
URL:http://www.wikicfp.com/cfp/servlet/event.showcfp?eventid=39856&copyow
 nerid=71607
UID:cfp486134-N@wikicfp.com
END:VEVENT
BEGIN:VEVENT
DTSTAMP:20260421T011644Z
DTSTART;VALUE=DATE:20150125
DTEND;VALUE=DATE:20150130
SUMMARY:W3PHI 2015
DESCRIPTION:CFP: The 2nd AAAI International Workshop on the World Wide We
 b and Public Health Intelligence (W3PHI 2015)  
URL:http://www.wikicfp.com/cfp/servlet/event.showcfp?eventid=40471&copyow
 nerid=71607
UID:cfp486138-E@wikicfp.com
END:VEVENT
BEGIN:VEVENT
DTSTAMP:20260421T011644Z
DTSTART;VALUE=DATE:20141014
SUMMARY:W3PHI 2015 Deadline
DESCRIPTION:CFP: The 2nd AAAI International Workshop on the World Wide We
 b and Public Health Intelligence (W3PHI 2015)  
URL:http://www.wikicfp.com/cfp/servlet/event.showcfp?eventid=40471&copyow
 nerid=71607
UID:cfp486138-D@wikicfp.com
END:VEVENT
BEGIN:VEVENT
DTSTAMP:20260421T011644Z
DTSTART;VALUE=DATE:20141114
SUMMARY:W3PHI 2015 Notification Due
DESCRIPTION:CFP: The 2nd AAAI International Workshop on the World Wide We
 b and Public Health Intelligence (W3PHI 2015)  
URL:http://www.wikicfp.com/cfp/servlet/event.showcfp?eventid=40471&copyow
 nerid=71607
UID:cfp486138-N@wikicfp.com
END:VEVENT
BEGIN:VEVENT
DTSTAMP:20260421T011644Z
DTSTART;VALUE=DATE:20141125
SUMMARY:W3PHI 2015 Final Version Due
DESCRIPTION:CFP: The 2nd AAAI International Workshop on the World Wide We
 b and Public Health Intelligence (W3PHI 2015)  
URL:http://www.wikicfp.com/cfp/servlet/event.showcfp?eventid=40471&copyow
 nerid=71607
UID:cfp486138-N@wikicfp.com
END:VEVENT
BEGIN:VEVENT
DTSTAMP:20260421T011644Z
DTSTART;VALUE=DATE:20141015
SUMMARY:BMDJ 1\,3 2014 Deadline
DESCRIPTION:Biomedical Data Journal\, Standing Call
URL:http://www.wikicfp.com/cfp/servlet/event.showcfp?eventid=39858&copyow
 nerid=71607
UID:cfp486136-D@wikicfp.com
END:VEVENT
BEGIN:VEVENT
DTSTAMP:20260421T011644Z
DTSTART;VALUE=DATE:20141120
SUMMARY:BMDJ 1\,3 2014 Notification Due
DESCRIPTION:Biomedical Data Journal\, Standing Call
URL:http://www.wikicfp.com/cfp/servlet/event.showcfp?eventid=39858&copyow
 nerid=71607
UID:cfp486136-N@wikicfp.com
END:VEVENT
BEGIN:VEVENT
DTSTAMP:20260421T011644Z
DTSTART;VALUE=DATE:20141130
SUMMARY:BMDJ 1\,3 2014 Final Version Due
DESCRIPTION:Biomedical Data Journal\, Standing Call
URL:http://www.wikicfp.com/cfp/servlet/event.showcfp?eventid=39858&copyow
 nerid=71607
UID:cfp486136-N@wikicfp.com
END:VEVENT
BEGIN:VEVENT
DTSTAMP:20260421T011644Z
DTSTART;VALUE=DATE:20141030
SUMMARY:Mhealth-Eco 2014 Deadline
DESCRIPTION:mHealth Ecosystems [AoIS - Springer]
URL:http://www.wikicfp.com/cfp/servlet/event.showcfp?eventid=38352&copyow
 nerid=71607
UID:cfp486133-D@wikicfp.com
END:VEVENT
BEGIN:VEVENT
DTSTAMP:20260421T011644Z
DTSTART;VALUE=DATE:20141130
SUMMARY:Mhealth-Eco 2014 Notification Due
DESCRIPTION:mHealth Ecosystems [AoIS - Springer]
URL:http://www.wikicfp.com/cfp/servlet/event.showcfp?eventid=38352&copyow
 nerid=71607
UID:cfp486133-N@wikicfp.com
END:VEVENT
BEGIN:VEVENT
DTSTAMP:20260421T011644Z
DTSTART;VALUE=DATE:20141230
SUMMARY:Mhealth-Eco 2014 Final Version Due
DESCRIPTION:mHealth Ecosystems [AoIS - Springer]
URL:http://www.wikicfp.com/cfp/servlet/event.showcfp?eventid=38352&copyow
 nerid=71607
UID:cfp486133-N@wikicfp.com
END:VEVENT
BEGIN:VEVENT
DTSTAMP:20260421T011644Z
DTSTART;VALUE=DATE:20150819
DTEND;VALUE=DATE:20150824
SUMMARY:MEDINFO 2015
DESCRIPTION:MEDINFO 2015 - eHealth enabled Health
URL:http://www.wikicfp.com/cfp/servlet/event.showcfp?eventid=38074&copyow
 nerid=71607
UID:cfp486131-E@wikicfp.com
END:VEVENT
BEGIN:VEVENT
DTSTAMP:20260421T011644Z
DTSTART;VALUE=DATE:20141215
SUMMARY:MEDINFO 2015 Deadline
DESCRIPTION:MEDINFO 2015 - eHealth enabled Health
URL:http://www.wikicfp.com/cfp/servlet/event.showcfp?eventid=38074&copyow
 nerid=71607
UID:cfp486131-D@wikicfp.com
END:VEVENT
BEGIN:VEVENT
DTSTAMP:20260421T011644Z
DTSTART;VALUE=DATE:20150315
SUMMARY:MEDINFO 2015 Notification Due
DESCRIPTION:MEDINFO 2015 - eHealth enabled Health
URL:http://www.wikicfp.com/cfp/servlet/event.showcfp?eventid=38074&copyow
 nerid=71607
UID:cfp486131-N@wikicfp.com
END:VEVENT
BEGIN:VEVENT
DTSTAMP:20260421T011644Z
DTSTART;VALUE=DATE:20150410
SUMMARY:MEDINFO 2015 Final Version Due
DESCRIPTION:MEDINFO 2015 - eHealth enabled Health
URL:http://www.wikicfp.com/cfp/servlet/event.showcfp?eventid=38074&copyow
 nerid=71607
UID:cfp486131-N@wikicfp.com
END:VEVENT
BEGIN:VEVENT
DTSTAMP:20260421T011644Z
DTSTART;VALUE=DATE:20150625
DTEND;VALUE=DATE:20150627
SUMMARY:ISHIMR 2015
DESCRIPTION:17th International Symposium for Health Information Managemen
 t Research
URL:http://www.wikicfp.com/cfp/servlet/event.showcfp?eventid=40695&copyow
 nerid=71607
UID:cfp486139-E@wikicfp.com
END:VEVENT
BEGIN:VEVENT
DTSTAMP:20260421T011644Z
DTSTART;VALUE=DATE:20150115
SUMMARY:ISHIMR 2015 Deadline
DESCRIPTION:17th International Symposium for Health Information Managemen
 t Research
URL:http://www.wikicfp.com/cfp/servlet/event.showcfp?eventid=40695&copyow
 nerid=71607
UID:cfp486139-D@wikicfp.com
END:VEVENT
BEGIN:VEVENT
DTSTAMP:20260421T011644Z
DTSTART;VALUE=DATE:20150215
SUMMARY:BMDJ 1\,4 2015 Deadline
DESCRIPTION:Heart Failure and Stress Response
URL:http://www.wikicfp.com/cfp/servlet/event.showcfp?eventid=39859&copyow
 nerid=71607
UID:cfp486137-D@wikicfp.com
END:VEVENT
BEGIN:VEVENT
DTSTAMP:20260421T011644Z
DTSTART;VALUE=DATE:20150315
SUMMARY:BMDJ 1\,4 2015 Notification Due
DESCRIPTION:Heart Failure and Stress Response
URL:http://www.wikicfp.com/cfp/servlet/event.showcfp?eventid=39859&copyow
 nerid=71607
UID:cfp486137-N@wikicfp.com
END:VEVENT
BEGIN:VEVENT
DTSTAMP:20260421T011644Z
DTSTART;VALUE=DATE:20150430
SUMMARY:BMDJ 1\,4 2015 Final Version Due
DESCRIPTION:Heart Failure and Stress Response
URL:http://www.wikicfp.com/cfp/servlet/event.showcfp?eventid=39859&copyow
 nerid=71607
UID:cfp486137-N@wikicfp.com
END:VEVENT
END:VCALENDAR
