BEGIN:VCALENDAR
PRODID:-//WikiCFP//ffalchi 1.0//EN
VERSION:2.0
CALSCALE:GREGORIAN
BEGIN:VEVENT
DTSTAMP:20260421T024552Z
DTSTART;VALUE=DATE:20150607
DTEND;VALUE=DATE:20150613
SUMMARY:CVPR 2015
DESCRIPTION:28th IEEE Conference on Computer Vision and Pattern Recogniti
 on
URL:http://www.wikicfp.com/cfp/servlet/event.showcfp?eventid=36730&copyow
 nerid=71548
UID:cfp485763-E@wikicfp.com
END:VEVENT
BEGIN:VEVENT
DTSTAMP:20260421T024552Z
DTSTART;VALUE=DATE:20141114
SUMMARY:CVPR 2015 Deadline
DESCRIPTION:28th IEEE Conference on Computer Vision and Pattern Recogniti
 on
URL:http://www.wikicfp.com/cfp/servlet/event.showcfp?eventid=36730&copyow
 nerid=71548
UID:cfp485763-D@wikicfp.com
END:VEVENT
BEGIN:VEVENT
DTSTAMP:20260421T024552Z
DTSTART;VALUE=DATE:20150609
DTEND;VALUE=DATE:20150613
SUMMARY:ICMR 2015
DESCRIPTION:ACM International Conference on Multimedia Retrieval
URL:http://www.wikicfp.com/cfp/servlet/event.showcfp?eventid=38803&copyow
 nerid=71548
UID:cfp485764-E@wikicfp.com
END:VEVENT
BEGIN:VEVENT
DTSTAMP:20260421T024552Z
DTSTART;VALUE=DATE:20150115
SUMMARY:ICMR 2015 Deadline
DESCRIPTION:ACM International Conference on Multimedia Retrieval
URL:http://www.wikicfp.com/cfp/servlet/event.showcfp?eventid=38803&copyow
 nerid=71548
UID:cfp485764-D@wikicfp.com
END:VEVENT
BEGIN:VEVENT
DTSTAMP:20260421T024552Z
DTSTART;VALUE=DATE:20150315
SUMMARY:ICMR 2015 Notification Due
DESCRIPTION:ACM International Conference on Multimedia Retrieval
URL:http://www.wikicfp.com/cfp/servlet/event.showcfp?eventid=38803&copyow
 nerid=71548
UID:cfp485764-N@wikicfp.com
END:VEVENT
BEGIN:VEVENT
DTSTAMP:20260421T024552Z
DTSTART;VALUE=DATE:20150405
SUMMARY:ICMR 2015 Final Version Due
DESCRIPTION:ACM International Conference on Multimedia Retrieval
URL:http://www.wikicfp.com/cfp/servlet/event.showcfp?eventid=38803&copyow
 nerid=71548
UID:cfp485764-N@wikicfp.com
END:VEVENT
BEGIN:VEVENT
DTSTAMP:20260421T024552Z
DTSTART;VALUE=DATE:20150809
DTEND;VALUE=DATE:20150814
SUMMARY:SIGIR 2015
DESCRIPTION:ACM SIGIR Conference
URL:http://www.wikicfp.com/cfp/servlet/event.showcfp?eventid=40707&copyow
 nerid=71548
UID:cfp485766-E@wikicfp.com
END:VEVENT
BEGIN:VEVENT
DTSTAMP:20260421T024552Z
DTSTART;VALUE=DATE:20150128
SUMMARY:SIGIR 2015 Deadline
DESCRIPTION:ACM SIGIR Conference
URL:http://www.wikicfp.com/cfp/servlet/event.showcfp?eventid=40707&copyow
 nerid=71548
UID:cfp485766-D@wikicfp.com
END:VEVENT
BEGIN:VEVENT
DTSTAMP:20260421T024552Z
DTSTART;VALUE=DATE:20150610
DTEND;VALUE=DATE:20150613
SUMMARY:CBMI 2015
DESCRIPTION:13th International Workshop on Content-Based Multimedia Index
 ing
URL:http://www.wikicfp.com/cfp/servlet/event.showcfp?eventid=41435&copyow
 nerid=71548
UID:cfp485767-E@wikicfp.com
END:VEVENT
BEGIN:VEVENT
DTSTAMP:20260421T024552Z
DTSTART;VALUE=DATE:20150216
SUMMARY:CBMI 2015 Deadline
DESCRIPTION:13th International Workshop on Content-Based Multimedia Index
 ing
URL:http://www.wikicfp.com/cfp/servlet/event.showcfp?eventid=41435&copyow
 nerid=71548
UID:cfp485767-D@wikicfp.com
END:VEVENT
BEGIN:VEVENT
DTSTAMP:20260421T024552Z
DTSTART;VALUE=DATE:20151026
DTEND;VALUE=DATE:20151031
SUMMARY:MM 2015
DESCRIPTION:ACM Multimedia Conference
URL:http://www.wikicfp.com/cfp/servlet/event.showcfp?eventid=40705&copyow
 nerid=71548
UID:cfp485765-E@wikicfp.com
END:VEVENT
BEGIN:VEVENT
DTSTAMP:20260421T024552Z
DTSTART;VALUE=DATE:20150331
SUMMARY:MM 2015 Deadline
DESCRIPTION:ACM Multimedia Conference
URL:http://www.wikicfp.com/cfp/servlet/event.showcfp?eventid=40705&copyow
 nerid=71548
UID:cfp485765-D@wikicfp.com
END:VEVENT
BEGIN:VEVENT
DTSTAMP:20260421T024552Z
DTSTART;VALUE=DATE:20150706
SUMMARY:MM 2015 Notification Due
DESCRIPTION:ACM Multimedia Conference
URL:http://www.wikicfp.com/cfp/servlet/event.showcfp?eventid=40705&copyow
 nerid=71548
UID:cfp485765-N@wikicfp.com
END:VEVENT
BEGIN:VEVENT
DTSTAMP:20260421T024552Z
DTSTART;VALUE=DATE:20150815
SUMMARY:MM 2015 Final Version Due
DESCRIPTION:ACM Multimedia Conference
URL:http://www.wikicfp.com/cfp/servlet/event.showcfp?eventid=40705&copyow
 nerid=71548
UID:cfp485765-N@wikicfp.com
END:VEVENT
END:VCALENDAR
