BEGIN:VCALENDAR
PRODID:-//WikiCFP//kiranmai_24 1.0//EN
VERSION:2.0
CALSCALE:GREGORIAN
BEGIN:VEVENT
DTSTAMP:20260419T205651Z
DTSTART;VALUE=DATE:20150531
DTEND;VALUE=DATE:20150606
SUMMARY:NAACL 2015
DESCRIPTION:North American Chapter of the Association for Computational L
 inguistics (NAACL) 2015
URL:http://www.wikicfp.com/cfp/servlet/event.showcfp?eventid=39345&copyow
 nerid=71529
UID:cfp487037-E@wikicfp.com
END:VEVENT
BEGIN:VEVENT
DTSTAMP:20260419T205651Z
DTSTART;VALUE=DATE:20141204
SUMMARY:NAACL 2015 Deadline
DESCRIPTION:North American Chapter of the Association for Computational L
 inguistics (NAACL) 2015
URL:http://www.wikicfp.com/cfp/servlet/event.showcfp?eventid=39345&copyow
 nerid=71529
UID:cfp487037-D@wikicfp.com
END:VEVENT
END:VCALENDAR
