BEGIN:VCALENDAR
PRODID:-//WikiCFP//rjprathibha 1.0//EN
VERSION:2.0
CALSCALE:GREGORIAN
BEGIN:VEVENT
DTSTAMP:20260420T063818Z
DTSTART;VALUE=DATE:20150413
DTEND;VALUE=DATE:20150416
SUMMARY:NLPCL 2015
DESCRIPTION:Natural Language Processing and Comptational Linguistics
URL:http://www.wikicfp.com/cfp/servlet/event.showcfp?eventid=41377&copyow
 nerid=71111
UID:cfp482782-E@wikicfp.com
END:VEVENT
BEGIN:VEVENT
DTSTAMP:20260420T063818Z
DTSTART;VALUE=DATE:20151031
SUMMARY:NLPCL 2015 Deadline
DESCRIPTION:Natural Language Processing and Comptational Linguistics
URL:http://www.wikicfp.com/cfp/servlet/event.showcfp?eventid=41377&copyow
 nerid=71111
UID:cfp482782-D@wikicfp.com
END:VEVENT
BEGIN:VEVENT
DTSTAMP:20260420T063818Z
DTSTART;VALUE=DATE:20141219
SUMMARY:NLPCL 2015 Notification Due
DESCRIPTION:Natural Language Processing and Comptational Linguistics
URL:http://www.wikicfp.com/cfp/servlet/event.showcfp?eventid=41377&copyow
 nerid=71111
UID:cfp482782-N@wikicfp.com
END:VEVENT
BEGIN:VEVENT
DTSTAMP:20260420T063818Z
DTSTART;VALUE=DATE:20150213
SUMMARY:NLPCL 2015 Final Version Due
DESCRIPTION:Natural Language Processing and Comptational Linguistics
URL:http://www.wikicfp.com/cfp/servlet/event.showcfp?eventid=41377&copyow
 nerid=71111
UID:cfp482782-N@wikicfp.com
END:VEVENT
BEGIN:VEVENT
DTSTAMP:20260420T063818Z
DTSTART;VALUE=DATE:20151218
SUMMARY:IJNLC 2015 Deadline
DESCRIPTION:International Journal on Natural Language Computing
URL:http://www.wikicfp.com/cfp/servlet/event.showcfp?eventid=42789&copyow
 nerid=71111
UID:cfp506779-D@wikicfp.com
END:VEVENT
BEGIN:VEVENT
DTSTAMP:20260420T063818Z
DTSTART;VALUE=DATE:20160118
SUMMARY:IJNLC 2015 Notification Due
DESCRIPTION:International Journal on Natural Language Computing
URL:http://www.wikicfp.com/cfp/servlet/event.showcfp?eventid=42789&copyow
 nerid=71111
UID:cfp506779-N@wikicfp.com
END:VEVENT
BEGIN:VEVENT
DTSTAMP:20260420T063818Z
DTSTART;VALUE=DATE:20160126
SUMMARY:IJNLC 2015 Final Version Due
DESCRIPTION:International Journal on Natural Language Computing
URL:http://www.wikicfp.com/cfp/servlet/event.showcfp?eventid=42789&copyow
 nerid=71111
UID:cfp506779-N@wikicfp.com
END:VEVENT
END:VCALENDAR
