BEGIN:VCALENDAR
PRODID:-//WikiCFP//diefimov 1.0//EN
VERSION:2.0
CALSCALE:GREGORIAN
BEGIN:VEVENT
DTSTAMP:20260422T140310Z
DTSTART;VALUE=DATE:20150402
DTEND;VALUE=DATE:20150406
SUMMARY:AUS-ICMS 2015
DESCRIPTION:The Second International Conference on Mathematics and Statis
 tics AUS-ICMS'15
URL:http://www.wikicfp.com/cfp/servlet/event.showcfp?eventid=41322&copyow
 nerid=70969
UID:cfp481987-E@wikicfp.com
END:VEVENT
BEGIN:VEVENT
DTSTAMP:20260422T140310Z
DTSTART;VALUE=DATE:20141215
SUMMARY:AUS-ICMS 2015 Deadline
DESCRIPTION:The Second International Conference on Mathematics and Statis
 tics AUS-ICMS'15
URL:http://www.wikicfp.com/cfp/servlet/event.showcfp?eventid=41322&copyow
 nerid=70969
UID:cfp481987-D@wikicfp.com
END:VEVENT
BEGIN:VEVENT
DTSTAMP:20260422T140310Z
DTSTART;VALUE=DATE:20150115
SUMMARY:AUS-ICMS 2015 Notification Due
DESCRIPTION:The Second International Conference on Mathematics and Statis
 tics AUS-ICMS'15
URL:http://www.wikicfp.com/cfp/servlet/event.showcfp?eventid=41322&copyow
 nerid=70969
UID:cfp481987-N@wikicfp.com
END:VEVENT
BEGIN:VEVENT
DTSTAMP:20260422T140310Z
DTSTART;VALUE=DATE:20150215
SUMMARY:AUS-ICMS 2015 Final Version Due
DESCRIPTION:The Second International Conference on Mathematics and Statis
 tics AUS-ICMS'15
URL:http://www.wikicfp.com/cfp/servlet/event.showcfp?eventid=41322&copyow
 nerid=70969
UID:cfp481987-N@wikicfp.com
END:VEVENT
END:VCALENDAR
