BEGIN:VCALENDAR
PRODID:-//WikiCFP//pspachos 1.0//EN
VERSION:2.0
CALSCALE:GREGORIAN
BEGIN:VEVENT
DTSTAMP:20260424T075939Z
DTSTART;VALUE=DATE:20150426
DTEND;VALUE=DATE:20150502
SUMMARY:Infocom Wkshp  2015
DESCRIPTION:2nd Workshop on Communication and Networking Techniques for C
 ontemporary Video
URL:http://www.wikicfp.com/cfp/servlet/event.showcfp?eventid=41188&copyow
 nerid=70699
UID:cfp480653-E@wikicfp.com
END:VEVENT
BEGIN:VEVENT
DTSTAMP:20260424T075939Z
DTSTART;VALUE=DATE:20141215
SUMMARY:Infocom Wkshp  2015 Deadline
DESCRIPTION:2nd Workshop on Communication and Networking Techniques for C
 ontemporary Video
URL:http://www.wikicfp.com/cfp/servlet/event.showcfp?eventid=41188&copyow
 nerid=70699
UID:cfp480653-D@wikicfp.com
END:VEVENT
BEGIN:VEVENT
DTSTAMP:20260424T075939Z
DTSTART;VALUE=DATE:20150115
SUMMARY:Infocom Wkshp  2015 Notification Due
DESCRIPTION:2nd Workshop on Communication and Networking Techniques for C
 ontemporary Video
URL:http://www.wikicfp.com/cfp/servlet/event.showcfp?eventid=41188&copyow
 nerid=70699
UID:cfp480653-N@wikicfp.com
END:VEVENT
BEGIN:VEVENT
DTSTAMP:20260424T075939Z
DTSTART;VALUE=DATE:20150215
SUMMARY:Infocom Wkshp  2015 Final Version Due
DESCRIPTION:2nd Workshop on Communication and Networking Techniques for C
 ontemporary Video
URL:http://www.wikicfp.com/cfp/servlet/event.showcfp?eventid=41188&copyow
 nerid=70699
UID:cfp480653-N@wikicfp.com
END:VEVENT
BEGIN:VEVENT
DTSTAMP:20260424T075939Z
DTSTART;VALUE=DATE:20161023
DTEND;VALUE=DATE:20161026
SUMMARY:IEEE CAMAD 2016
DESCRIPTION:21st IEEE International Workshop on Computer Aided Modelling 
 and Design of Communication Links and Networks
URL:http://www.wikicfp.com/cfp/servlet/event.showcfp?eventid=54067&copyow
 nerid=70699
UID:cfp596788-E@wikicfp.com
END:VEVENT
BEGIN:VEVENT
DTSTAMP:20260424T075939Z
DTSTART;VALUE=DATE:20160605
SUMMARY:IEEE CAMAD 2016 Deadline
DESCRIPTION:21st IEEE International Workshop on Computer Aided Modelling 
 and Design of Communication Links and Networks
URL:http://www.wikicfp.com/cfp/servlet/event.showcfp?eventid=54067&copyow
 nerid=70699
UID:cfp596788-D@wikicfp.com
END:VEVENT
BEGIN:VEVENT
DTSTAMP:20260424T075939Z
DTSTART;VALUE=DATE:20161023
DTEND;VALUE=DATE:20161026
SUMMARY:IEEE CAMAD - SS  2016
DESCRIPTION:Special Session on Wireless Technologies for Smart Cities
URL:http://www.wikicfp.com/cfp/servlet/event.showcfp?eventid=54992&copyow
 nerid=70699
UID:cfp602339-E@wikicfp.com
END:VEVENT
BEGIN:VEVENT
DTSTAMP:20260424T075939Z
DTSTART;VALUE=DATE:20160615
SUMMARY:IEEE CAMAD - SS  2016 Deadline
DESCRIPTION:Special Session on Wireless Technologies for Smart Cities
URL:http://www.wikicfp.com/cfp/servlet/event.showcfp?eventid=54992&copyow
 nerid=70699
UID:cfp602339-D@wikicfp.com
END:VEVENT
BEGIN:VEVENT
DTSTAMP:20260424T075939Z
DTSTART;VALUE=DATE:20160716
SUMMARY:IEEE CAMAD - SS  2016 Notification Due
DESCRIPTION:Special Session on Wireless Technologies for Smart Cities
URL:http://www.wikicfp.com/cfp/servlet/event.showcfp?eventid=54992&copyow
 nerid=70699
UID:cfp602339-N@wikicfp.com
END:VEVENT
BEGIN:VEVENT
DTSTAMP:20260424T075939Z
DTSTART;VALUE=DATE:20160801
SUMMARY:IEEE CAMAD - SS  2016 Final Version Due
DESCRIPTION:Special Session on Wireless Technologies for Smart Cities
URL:http://www.wikicfp.com/cfp/servlet/event.showcfp?eventid=54992&copyow
 nerid=70699
UID:cfp602339-N@wikicfp.com
END:VEVENT
BEGIN:VEVENT
DTSTAMP:20260424T075939Z
DTSTART;VALUE=DATE:20171114
DTEND;VALUE=DATE:20171117
SUMMARY:SPSCIT 2017
DESCRIPTION:Symposium on Signal Processing for Smart Cities and Internet 
 of Things - IEEE GlobalSIP 2017
URL:http://www.wikicfp.com/cfp/servlet/event.showcfp?eventid=64179&copyow
 nerid=70699
UID:cfp666598-E@wikicfp.com
END:VEVENT
BEGIN:VEVENT
DTSTAMP:20260424T075939Z
DTSTART;VALUE=DATE:20170515
SUMMARY:SPSCIT 2017 Deadline
DESCRIPTION:Symposium on Signal Processing for Smart Cities and Internet 
 of Things - IEEE GlobalSIP 2017
URL:http://www.wikicfp.com/cfp/servlet/event.showcfp?eventid=64179&copyow
 nerid=70699
UID:cfp666598-D@wikicfp.com
END:VEVENT
BEGIN:VEVENT
DTSTAMP:20260424T075939Z
DTSTART;VALUE=DATE:20170630
SUMMARY:SPSCIT 2017 Notification Due
DESCRIPTION:Symposium on Signal Processing for Smart Cities and Internet 
 of Things - IEEE GlobalSIP 2017
URL:http://www.wikicfp.com/cfp/servlet/event.showcfp?eventid=64179&copyow
 nerid=70699
UID:cfp666598-N@wikicfp.com
END:VEVENT
BEGIN:VEVENT
DTSTAMP:20260424T075939Z
DTSTART;VALUE=DATE:20170722
SUMMARY:SPSCIT 2017 Final Version Due
DESCRIPTION:Symposium on Signal Processing for Smart Cities and Internet 
 of Things - IEEE GlobalSIP 2017
URL:http://www.wikicfp.com/cfp/servlet/event.showcfp?eventid=64179&copyow
 nerid=70699
UID:cfp666598-N@wikicfp.com
END:VEVENT
END:VCALENDAR
