BEGIN:VCALENDAR
PRODID:-//WikiCFP//eyob 1.0//EN
VERSION:2.0
CALSCALE:GREGORIAN
BEGIN:VEVENT
DTSTAMP:20260423T095653Z
DTSTART;VALUE=DATE:20150312
DTEND;VALUE=DATE:20150314
SUMMARY:SDNFlex 2015
DESCRIPTION:Workshop on Software-Defined Networking and Network Function 
 Virtualization for Flexible Network Management
URL:http://www.wikicfp.com/cfp/servlet/event.showcfp?eventid=39262&copyow
 nerid=70433
UID:cfp479142-E@wikicfp.com
END:VEVENT
BEGIN:VEVENT
DTSTAMP:20260423T095653Z
DTSTART;VALUE=DATE:20140926
SUMMARY:SDNFlex 2015 Deadline
DESCRIPTION:Workshop on Software-Defined Networking and Network Function 
 Virtualization for Flexible Network Management
URL:http://www.wikicfp.com/cfp/servlet/event.showcfp?eventid=39262&copyow
 nerid=70433
UID:cfp479142-D@wikicfp.com
END:VEVENT
BEGIN:VEVENT
DTSTAMP:20260423T095653Z
DTSTART;VALUE=DATE:20141126
SUMMARY:SDNFlex 2015 Notification Due
DESCRIPTION:Workshop on Software-Defined Networking and Network Function 
 Virtualization for Flexible Network Management
URL:http://www.wikicfp.com/cfp/servlet/event.showcfp?eventid=39262&copyow
 nerid=70433
UID:cfp479142-N@wikicfp.com
END:VEVENT
BEGIN:VEVENT
DTSTAMP:20260423T095653Z
DTSTART;VALUE=DATE:20141210
SUMMARY:SDNFlex 2015 Final Version Due
DESCRIPTION:Workshop on Software-Defined Networking and Network Function 
 Virtualization for Flexible Network Management
URL:http://www.wikicfp.com/cfp/servlet/event.showcfp?eventid=39262&copyow
 nerid=70433
UID:cfp479142-N@wikicfp.com
END:VEVENT
BEGIN:VEVENT
DTSTAMP:20260423T095653Z
DTSTART;VALUE=DATE:20150309
DTEND;VALUE=DATE:20150314
SUMMARY:SDS  2015
DESCRIPTION:2nd IEEE International Workshop on Software Defined Systems 
URL:http://www.wikicfp.com/cfp/servlet/event.showcfp?eventid=40991&copyow
 nerid=70433
UID:cfp479141-E@wikicfp.com
END:VEVENT
BEGIN:VEVENT
DTSTAMP:20260423T095653Z
DTSTART;VALUE=DATE:20141201
SUMMARY:SDS  2015 Deadline
DESCRIPTION:2nd IEEE International Workshop on Software Defined Systems 
URL:http://www.wikicfp.com/cfp/servlet/event.showcfp?eventid=40991&copyow
 nerid=70433
UID:cfp479141-D@wikicfp.com
END:VEVENT
BEGIN:VEVENT
DTSTAMP:20260423T095653Z
DTSTART;VALUE=DATE:20150103
SUMMARY:SDS  2015 Notification Due
DESCRIPTION:2nd IEEE International Workshop on Software Defined Systems 
URL:http://www.wikicfp.com/cfp/servlet/event.showcfp?eventid=40991&copyow
 nerid=70433
UID:cfp479141-N@wikicfp.com
END:VEVENT
BEGIN:VEVENT
DTSTAMP:20260423T095653Z
DTSTART;VALUE=DATE:20150117
SUMMARY:SDS  2015 Final Version Due
DESCRIPTION:2nd IEEE International Workshop on Software Defined Systems 
URL:http://www.wikicfp.com/cfp/servlet/event.showcfp?eventid=40991&copyow
 nerid=70433
UID:cfp479141-N@wikicfp.com
END:VEVENT
END:VCALENDAR
