BEGIN:VCALENDAR
PRODID:-//WikiCFP//jnolan 1.0//EN
VERSION:2.0
CALSCALE:GREGORIAN
BEGIN:VEVENT
DTSTAMP:20260423T124932Z
DTSTART;VALUE=DATE:20140330
DTEND;VALUE=DATE:20150404
SUMMARY:IEEE Mobile Cloud 2015
DESCRIPTION:The 3rd IEEE International Conference on Mobile Cloud Computi
 ng
URL:http://www.wikicfp.com/cfp/servlet/event.showcfp?eventid=39593&copyow
 nerid=70412
UID:cfp479042-E@wikicfp.com
END:VEVENT
BEGIN:VEVENT
DTSTAMP:20260423T124932Z
DTSTART;VALUE=DATE:21041015
SUMMARY:IEEE Mobile Cloud 2015 Abstract Due
DESCRIPTION:The 3rd IEEE International Conference on Mobile Cloud Computi
 ng
URL:http://www.wikicfp.com/cfp/servlet/event.showcfp?eventid=39593&copyow
 nerid=70412
UID:cfp479042-A@wikicfp.com
END:VEVENT
BEGIN:VEVENT
DTSTAMP:20260423T124932Z
DTSTART;VALUE=DATE:20141101
SUMMARY:IEEE Mobile Cloud 2015 Deadline
DESCRIPTION:The 3rd IEEE International Conference on Mobile Cloud Computi
 ng
URL:http://www.wikicfp.com/cfp/servlet/event.showcfp?eventid=39593&copyow
 nerid=70412
UID:cfp479042-D@wikicfp.com
END:VEVENT
BEGIN:VEVENT
DTSTAMP:20260423T124932Z
DTSTART;VALUE=DATE:20150109
SUMMARY:IEEE Mobile Cloud 2015 Notification Due
DESCRIPTION:The 3rd IEEE International Conference on Mobile Cloud Computi
 ng
URL:http://www.wikicfp.com/cfp/servlet/event.showcfp?eventid=39593&copyow
 nerid=70412
UID:cfp479042-N@wikicfp.com
END:VEVENT
BEGIN:VEVENT
DTSTAMP:20260423T124932Z
DTSTART;VALUE=DATE:20150131
SUMMARY:IEEE Mobile Cloud 2015 Final Version Due
DESCRIPTION:The 3rd IEEE International Conference on Mobile Cloud Computi
 ng
URL:http://www.wikicfp.com/cfp/servlet/event.showcfp?eventid=39593&copyow
 nerid=70412
UID:cfp479042-N@wikicfp.com
END:VEVENT
END:VCALENDAR
