BEGIN:VCALENDAR
PRODID:-//WikiCFP//peipeili 1.0//EN
VERSION:2.0
CALSCALE:GREGORIAN
BEGIN:VEVENT
DTSTAMP:20260424T183148Z
DTSTART;VALUE=DATE:20100613
DTEND;VALUE=DATE:20100618
SUMMARY:ICAISC 2010
DESCRIPTION:10th International Conference on Artificial Intelligence and 
 Soft Computing
URL:http://www.wikicfp.com/cfp/servlet/event.showcfp?eventid=6073&copyown
 erid=7040
UID:cfp52285-E@wikicfp.com
END:VEVENT
BEGIN:VEVENT
DTSTAMP:20260424T183148Z
DTSTART;VALUE=DATE:20091101
SUMMARY:ICAISC 2010 Deadline
DESCRIPTION:10th International Conference on Artificial Intelligence and 
 Soft Computing
URL:http://www.wikicfp.com/cfp/servlet/event.showcfp?eventid=6073&copyown
 erid=7040
UID:cfp52285-D@wikicfp.com
END:VEVENT
BEGIN:VEVENT
DTSTAMP:20260424T183148Z
DTSTART;VALUE=DATE:20100115
SUMMARY:ICAISC 2010 Notification Due
DESCRIPTION:10th International Conference on Artificial Intelligence and 
 Soft Computing
URL:http://www.wikicfp.com/cfp/servlet/event.showcfp?eventid=6073&copyown
 erid=7040
UID:cfp52285-N@wikicfp.com
END:VEVENT
BEGIN:VEVENT
DTSTAMP:20260424T183148Z
DTSTART;VALUE=DATE:20100215
SUMMARY:ICAISC 2010 Final Version Due
DESCRIPTION:10th International Conference on Artificial Intelligence and 
 Soft Computing
URL:http://www.wikicfp.com/cfp/servlet/event.showcfp?eventid=6073&copyown
 erid=7040
UID:cfp52285-N@wikicfp.com
END:VEVENT
BEGIN:VEVENT
DTSTAMP:20260424T183148Z
DTSTART;VALUE=DATE:20100407
DTEND;VALUE=DATE:20100410
SUMMARY:EVOBIO 2010
DESCRIPTION:The 8th annual European Conference on Evolutionary Computatio
 n\, Machine Learning and Data Mining in Bioinformatics
URL:http://www.wikicfp.com/cfp/servlet/event.showcfp?eventid=6842&copyown
 erid=7040
UID:cfp52292-E@wikicfp.com
END:VEVENT
BEGIN:VEVENT
DTSTAMP:20260424T183148Z
DTSTART;VALUE=DATE:20091104
SUMMARY:EVOBIO 2010 Deadline
DESCRIPTION:The 8th annual European Conference on Evolutionary Computatio
 n\, Machine Learning and Data Mining in Bioinformatics
URL:http://www.wikicfp.com/cfp/servlet/event.showcfp?eventid=6842&copyown
 erid=7040
UID:cfp52292-D@wikicfp.com
END:VEVENT
BEGIN:VEVENT
DTSTAMP:20260424T183148Z
DTSTART;VALUE=DATE:20100621
DTEND;VALUE=DATE:20100625
SUMMARY:PAKDD 2010
DESCRIPTION:The 14th Pacific-Asia Conference on Knowledge Discovery and D
 ata Mining
URL:http://www.wikicfp.com/cfp/servlet/event.showcfp?eventid=5491&copyown
 erid=7040
UID:cfp52287-E@wikicfp.com
END:VEVENT
BEGIN:VEVENT
DTSTAMP:20260424T183148Z
DTSTART;VALUE=DATE:20091130
SUMMARY:PAKDD 2010 Deadline
DESCRIPTION:The 14th Pacific-Asia Conference on Knowledge Discovery and D
 ata Mining
URL:http://www.wikicfp.com/cfp/servlet/event.showcfp?eventid=5491&copyown
 erid=7040
UID:cfp52287-D@wikicfp.com
END:VEVENT
BEGIN:VEVENT
DTSTAMP:20260424T183148Z
DTSTART;VALUE=DATE:20100130
SUMMARY:PAKDD 2010 Notification Due
DESCRIPTION:The 14th Pacific-Asia Conference on Knowledge Discovery and D
 ata Mining
URL:http://www.wikicfp.com/cfp/servlet/event.showcfp?eventid=5491&copyown
 erid=7040
UID:cfp52287-N@wikicfp.com
END:VEVENT
BEGIN:VEVENT
DTSTAMP:20260424T183148Z
DTSTART;VALUE=DATE:20100228
SUMMARY:PAKDD 2010 Final Version Due
DESCRIPTION:The 14th Pacific-Asia Conference on Knowledge Discovery and D
 ata Mining
URL:http://www.wikicfp.com/cfp/servlet/event.showcfp?eventid=5491&copyown
 erid=7040
UID:cfp52287-N@wikicfp.com
END:VEVENT
BEGIN:VEVENT
DTSTAMP:20260424T183148Z
DTSTART;VALUE=DATE:20100301
DTEND;VALUE=DATE:20100302
SUMMARY:MOUND 2010
DESCRIPTION:The 2nd Workshop on Management and mining Of UNcertain Data
URL:http://www.wikicfp.com/cfp/servlet/event.showcfp?eventid=6465&copyown
 erid=7040
UID:cfp52289-E@wikicfp.com
END:VEVENT
BEGIN:VEVENT
DTSTAMP:20260424T183148Z
DTSTART;VALUE=DATE:20091201
SUMMARY:MOUND 2010 Deadline
DESCRIPTION:The 2nd Workshop on Management and mining Of UNcertain Data
URL:http://www.wikicfp.com/cfp/servlet/event.showcfp?eventid=6465&copyown
 erid=7040
UID:cfp52289-D@wikicfp.com
END:VEVENT
BEGIN:VEVENT
DTSTAMP:20260424T183148Z
DTSTART;VALUE=DATE:20091221
SUMMARY:MOUND 2010 Notification Due
DESCRIPTION:The 2nd Workshop on Management and mining Of UNcertain Data
URL:http://www.wikicfp.com/cfp/servlet/event.showcfp?eventid=6465&copyown
 erid=7040
UID:cfp52289-N@wikicfp.com
END:VEVENT
BEGIN:VEVENT
DTSTAMP:20260424T183148Z
DTSTART;VALUE=DATE:20100106
SUMMARY:MOUND 2010 Final Version Due
DESCRIPTION:The 2nd Workshop on Management and mining Of UNcertain Data
URL:http://www.wikicfp.com/cfp/servlet/event.showcfp?eventid=6465&copyown
 erid=7040
UID:cfp52289-N@wikicfp.com
END:VEVENT
BEGIN:VEVENT
DTSTAMP:20260424T183148Z
DTSTART;VALUE=DATE:20100505
DTEND;VALUE=DATE:20100508
SUMMARY:SETN 2010
DESCRIPTION:6th Hellenic Conference on Artificial Intelligence
URL:http://www.wikicfp.com/cfp/servlet/event.showcfp?eventid=6601&copyown
 erid=7040
UID:cfp52284-E@wikicfp.com
END:VEVENT
BEGIN:VEVENT
DTSTAMP:20260424T183148Z
DTSTART;VALUE=DATE:20091218
SUMMARY:SETN 2010 Deadline
DESCRIPTION:6th Hellenic Conference on Artificial Intelligence
URL:http://www.wikicfp.com/cfp/servlet/event.showcfp?eventid=6601&copyown
 erid=7040
UID:cfp52284-D@wikicfp.com
END:VEVENT
BEGIN:VEVENT
DTSTAMP:20260424T183148Z
DTSTART;VALUE=DATE:20100205
SUMMARY:SETN 2010 Notification Due
DESCRIPTION:6th Hellenic Conference on Artificial Intelligence
URL:http://www.wikicfp.com/cfp/servlet/event.showcfp?eventid=6601&copyown
 erid=7040
UID:cfp52284-N@wikicfp.com
END:VEVENT
BEGIN:VEVENT
DTSTAMP:20260424T183148Z
DTSTART;VALUE=DATE:20100223
SUMMARY:SETN 2010 Final Version Due
DESCRIPTION:6th Hellenic Conference on Artificial Intelligence
URL:http://www.wikicfp.com/cfp/servlet/event.showcfp?eventid=6601&copyown
 erid=7040
UID:cfp52284-N@wikicfp.com
END:VEVENT
BEGIN:VEVENT
DTSTAMP:20260424T183148Z
DTSTART;VALUE=DATE:20100711
DTEND;VALUE=DATE:20100716
SUMMARY:AAAI 2010
DESCRIPTION:The Twenty-Fourth AAAI Conference on Artificial Intelligence
URL:http://www.wikicfp.com/cfp/servlet/event.showcfp?eventid=6149&copyown
 erid=7040
UID:cfp52283-E@wikicfp.com
END:VEVENT
BEGIN:VEVENT
DTSTAMP:20260424T183148Z
DTSTART;VALUE=DATE:20100118
SUMMARY:AAAI 2010 Abstract Due
DESCRIPTION:The Twenty-Fourth AAAI Conference on Artificial Intelligence
URL:http://www.wikicfp.com/cfp/servlet/event.showcfp?eventid=6149&copyown
 erid=7040
UID:cfp52283-A@wikicfp.com
END:VEVENT
BEGIN:VEVENT
DTSTAMP:20260424T183148Z
DTSTART;VALUE=DATE:20100121
SUMMARY:AAAI 2010 Deadline
DESCRIPTION:The Twenty-Fourth AAAI Conference on Artificial Intelligence
URL:http://www.wikicfp.com/cfp/servlet/event.showcfp?eventid=6149&copyown
 erid=7040
UID:cfp52283-D@wikicfp.com
END:VEVENT
BEGIN:VEVENT
DTSTAMP:20260424T183148Z
DTSTART;VALUE=DATE:20100326
SUMMARY:AAAI 2010 Notification Due
DESCRIPTION:The Twenty-Fourth AAAI Conference on Artificial Intelligence
URL:http://www.wikicfp.com/cfp/servlet/event.showcfp?eventid=6149&copyown
 erid=7040
UID:cfp52283-N@wikicfp.com
END:VEVENT
BEGIN:VEVENT
DTSTAMP:20260424T183148Z
DTSTART;VALUE=DATE:20100413
SUMMARY:AAAI 2010 Final Version Due
DESCRIPTION:The Twenty-Fourth AAAI Conference on Artificial Intelligence
URL:http://www.wikicfp.com/cfp/servlet/event.showcfp?eventid=6149&copyown
 erid=7040
UID:cfp52283-N@wikicfp.com
END:VEVENT
BEGIN:VEVENT
DTSTAMP:20260424T183148Z
DTSTART;VALUE=DATE:20100725
DTEND;VALUE=DATE:20100729
SUMMARY:KDD 2010
DESCRIPTION:The 16th ACM SIGKDD Conference on Knowledge Discovery and Dat
 a Mining
URL:http://www.wikicfp.com/cfp/servlet/event.showcfp?eventid=6690&copyown
 erid=7040
UID:cfp52290-E@wikicfp.com
END:VEVENT
BEGIN:VEVENT
DTSTAMP:20260424T183148Z
DTSTART;VALUE=DATE:20100202
SUMMARY:KDD 2010 Abstract Due
DESCRIPTION:The 16th ACM SIGKDD Conference on Knowledge Discovery and Dat
 a Mining
URL:http://www.wikicfp.com/cfp/servlet/event.showcfp?eventid=6690&copyown
 erid=7040
UID:cfp52290-A@wikicfp.com
END:VEVENT
BEGIN:VEVENT
DTSTAMP:20260424T183148Z
DTSTART;VALUE=DATE:20100205
SUMMARY:KDD 2010 Deadline
DESCRIPTION:The 16th ACM SIGKDD Conference on Knowledge Discovery and Dat
 a Mining
URL:http://www.wikicfp.com/cfp/servlet/event.showcfp?eventid=6690&copyown
 erid=7040
UID:cfp52290-D@wikicfp.com
END:VEVENT
BEGIN:VEVENT
DTSTAMP:20260424T183148Z
DTSTART;VALUE=DATE:20100430
SUMMARY:KDD 2010 Notification Due
DESCRIPTION:The 16th ACM SIGKDD Conference on Knowledge Discovery and Dat
 a Mining
URL:http://www.wikicfp.com/cfp/servlet/event.showcfp?eventid=6690&copyown
 erid=7040
UID:cfp52290-N@wikicfp.com
END:VEVENT
BEGIN:VEVENT
DTSTAMP:20260424T183148Z
DTSTART;VALUE=DATE:20100519
DTEND;VALUE=DATE:20100522
SUMMARY:IDA 2010
DESCRIPTION:The Ninth International Symposium on Intelligent Data Analysi
 s 
URL:http://www.wikicfp.com/cfp/servlet/event.showcfp?eventid=6861&copyown
 erid=7040
UID:cfp52282-E@wikicfp.com
END:VEVENT
BEGIN:VEVENT
DTSTAMP:20260424T183148Z
DTSTART;VALUE=DATE:20100205
SUMMARY:IDA 2010 Deadline
DESCRIPTION:The Ninth International Symposium on Intelligent Data Analysi
 s 
URL:http://www.wikicfp.com/cfp/servlet/event.showcfp?eventid=6861&copyown
 erid=7040
UID:cfp52282-D@wikicfp.com
END:VEVENT
BEGIN:VEVENT
DTSTAMP:20260424T183148Z
DTSTART;VALUE=DATE:20100301
SUMMARY:IDA 2010 Notification Due
DESCRIPTION:The Ninth International Symposium on Intelligent Data Analysi
 s 
URL:http://www.wikicfp.com/cfp/servlet/event.showcfp?eventid=6861&copyown
 erid=7040
UID:cfp52282-N@wikicfp.com
END:VEVENT
BEGIN:VEVENT
DTSTAMP:20260424T183148Z
DTSTART;VALUE=DATE:20100310
SUMMARY:IDA 2010 Final Version Due
DESCRIPTION:The Ninth International Symposium on Intelligent Data Analysi
 s 
URL:http://www.wikicfp.com/cfp/servlet/event.showcfp?eventid=6861&copyown
 erid=7040
UID:cfp52282-N@wikicfp.com
END:VEVENT
BEGIN:VEVENT
DTSTAMP:20260424T183148Z
DTSTART;VALUE=DATE:20100816
DTEND;VALUE=DATE:20100821
SUMMARY:ECAI 2010
DESCRIPTION:The 19th European Conference on Artificial Intelligence
URL:http://www.wikicfp.com/cfp/servlet/event.showcfp?eventid=5380&copyown
 erid=7040
UID:cfp52280-E@wikicfp.com
END:VEVENT
BEGIN:VEVENT
DTSTAMP:20260424T183148Z
DTSTART;VALUE=DATE:20100215
SUMMARY:ECAI 2010 Abstract Due
DESCRIPTION:The 19th European Conference on Artificial Intelligence
URL:http://www.wikicfp.com/cfp/servlet/event.showcfp?eventid=5380&copyown
 erid=7040
UID:cfp52280-A@wikicfp.com
END:VEVENT
BEGIN:VEVENT
DTSTAMP:20260424T183148Z
DTSTART;VALUE=DATE:20100222
SUMMARY:ECAI 2010 Deadline
DESCRIPTION:The 19th European Conference on Artificial Intelligence
URL:http://www.wikicfp.com/cfp/servlet/event.showcfp?eventid=5380&copyown
 erid=7040
UID:cfp52280-D@wikicfp.com
END:VEVENT
BEGIN:VEVENT
DTSTAMP:20260424T183148Z
DTSTART;VALUE=DATE:20100430
SUMMARY:ECAI 2010 Notification Due
DESCRIPTION:The 19th European Conference on Artificial Intelligence
URL:http://www.wikicfp.com/cfp/servlet/event.showcfp?eventid=5380&copyown
 erid=7040
UID:cfp52280-N@wikicfp.com
END:VEVENT
BEGIN:VEVENT
DTSTAMP:20260424T183148Z
DTSTART;VALUE=DATE:20100528
SUMMARY:ECAI 2010 Final Version Due
DESCRIPTION:The 19th European Conference on Artificial Intelligence
URL:http://www.wikicfp.com/cfp/servlet/event.showcfp?eventid=5380&copyown
 erid=7040
UID:cfp52280-N@wikicfp.com
END:VEVENT
BEGIN:VEVENT
DTSTAMP:20260424T183148Z
DTSTART;VALUE=DATE:20100830
DTEND;VALUE=DATE:20100904
SUMMARY:PRICAI 2010
DESCRIPTION:The 11th Pacific Rim International Conference on Artificial I
 ntelligence
URL:http://www.wikicfp.com/cfp/servlet/event.showcfp?eventid=5784&copyown
 erid=7040
UID:cfp52288-E@wikicfp.com
END:VEVENT
BEGIN:VEVENT
DTSTAMP:20260424T183148Z
DTSTART;VALUE=DATE:20100331
SUMMARY:PRICAI 2010 Deadline
DESCRIPTION:The 11th Pacific Rim International Conference on Artificial I
 ntelligence
URL:http://www.wikicfp.com/cfp/servlet/event.showcfp?eventid=5784&copyown
 erid=7040
UID:cfp52288-D@wikicfp.com
END:VEVENT
BEGIN:VEVENT
DTSTAMP:20260424T183148Z
DTSTART;VALUE=DATE:20100515
SUMMARY:PRICAI 2010 Notification Due
DESCRIPTION:The 11th Pacific Rim International Conference on Artificial I
 ntelligence
URL:http://www.wikicfp.com/cfp/servlet/event.showcfp?eventid=5784&copyown
 erid=7040
UID:cfp52288-N@wikicfp.com
END:VEVENT
BEGIN:VEVENT
DTSTAMP:20260424T183148Z
DTSTART;VALUE=DATE:20100531
SUMMARY:PRICAI 2010 Final Version Due
DESCRIPTION:The 11th Pacific Rim International Conference on Artificial I
 ntelligence
URL:http://www.wikicfp.com/cfp/servlet/event.showcfp?eventid=5784&copyown
 erid=7040
UID:cfp52288-N@wikicfp.com
END:VEVENT
BEGIN:VEVENT
DTSTAMP:20260424T183148Z
DTSTART;VALUE=DATE:20100920
DTEND;VALUE=DATE:20100925
SUMMARY:ECML PKDD 2010
DESCRIPTION:European Conference on Machine Learning and Principles and Pr
 actice of Knowledge Discovery in Databases
URL:http://www.wikicfp.com/cfp/servlet/event.showcfp?eventid=6826&copyown
 erid=7040
UID:cfp52291-E@wikicfp.com
END:VEVENT
BEGIN:VEVENT
DTSTAMP:20260424T183148Z
DTSTART;VALUE=DATE:20100423
SUMMARY:ECML PKDD 2010 Abstract Due
DESCRIPTION:European Conference on Machine Learning and Principles and Pr
 actice of Knowledge Discovery in Databases
URL:http://www.wikicfp.com/cfp/servlet/event.showcfp?eventid=6826&copyown
 erid=7040
UID:cfp52291-A@wikicfp.com
END:VEVENT
BEGIN:VEVENT
DTSTAMP:20260424T183148Z
DTSTART;VALUE=DATE:20100430
SUMMARY:ECML PKDD 2010 Deadline
DESCRIPTION:European Conference on Machine Learning and Principles and Pr
 actice of Knowledge Discovery in Databases
URL:http://www.wikicfp.com/cfp/servlet/event.showcfp?eventid=6826&copyown
 erid=7040
UID:cfp52291-D@wikicfp.com
END:VEVENT
BEGIN:VEVENT
DTSTAMP:20260424T183148Z
DTSTART;VALUE=DATE:20100621
SUMMARY:ECML PKDD 2010 Notification Due
DESCRIPTION:European Conference on Machine Learning and Principles and Pr
 actice of Knowledge Discovery in Databases
URL:http://www.wikicfp.com/cfp/servlet/event.showcfp?eventid=6826&copyown
 erid=7040
UID:cfp52291-N@wikicfp.com
END:VEVENT
BEGIN:VEVENT
DTSTAMP:20260424T183148Z
DTSTART;VALUE=DATE:20100704
SUMMARY:ECML PKDD 2010 Final Version Due
DESCRIPTION:European Conference on Machine Learning and Principles and Pr
 actice of Knowledge Discovery in Databases
URL:http://www.wikicfp.com/cfp/servlet/event.showcfp?eventid=6826&copyown
 erid=7040
UID:cfp52291-N@wikicfp.com
END:VEVENT
BEGIN:VEVENT
DTSTAMP:20260424T183148Z
DTSTART;VALUE=DATE:20110524
DTEND;VALUE=DATE:20110528
SUMMARY:PAKDD 2011
DESCRIPTION:The 15th Pacific-Asia Conference on Knowledge Discovery and D
 ata Mining 
URL:http://www.wikicfp.com/cfp/servlet/event.showcfp?eventid=10666&copyow
 nerid=7040
UID:cfp100348-E@wikicfp.com
END:VEVENT
BEGIN:VEVENT
DTSTAMP:20260424T183148Z
DTSTART;VALUE=DATE:20100919
SUMMARY:PAKDD 2011 Abstract Due
DESCRIPTION:The 15th Pacific-Asia Conference on Knowledge Discovery and D
 ata Mining 
URL:http://www.wikicfp.com/cfp/servlet/event.showcfp?eventid=10666&copyow
 nerid=7040
UID:cfp100348-A@wikicfp.com
END:VEVENT
BEGIN:VEVENT
DTSTAMP:20260424T183148Z
DTSTART;VALUE=DATE:20101010
SUMMARY:PAKDD 2011 Deadline
DESCRIPTION:The 15th Pacific-Asia Conference on Knowledge Discovery and D
 ata Mining 
URL:http://www.wikicfp.com/cfp/servlet/event.showcfp?eventid=10666&copyow
 nerid=7040
UID:cfp100348-D@wikicfp.com
END:VEVENT
BEGIN:VEVENT
DTSTAMP:20260424T183148Z
DTSTART;VALUE=DATE:20101229
SUMMARY:PAKDD 2011 Notification Due
DESCRIPTION:The 15th Pacific-Asia Conference on Knowledge Discovery and D
 ata Mining 
URL:http://www.wikicfp.com/cfp/servlet/event.showcfp?eventid=10666&copyow
 nerid=7040
UID:cfp100348-N@wikicfp.com
END:VEVENT
BEGIN:VEVENT
DTSTAMP:20260424T183148Z
DTSTART;VALUE=DATE:20110123
SUMMARY:PAKDD 2011 Final Version Due
DESCRIPTION:The 15th Pacific-Asia Conference on Knowledge Discovery and D
 ata Mining 
URL:http://www.wikicfp.com/cfp/servlet/event.showcfp?eventid=10666&copyow
 nerid=7040
UID:cfp100348-N@wikicfp.com
END:VEVENT
BEGIN:VEVENT
DTSTAMP:20260424T183148Z
DTSTART;VALUE=DATE:20100226
DTEND;VALUE=DATE:20100301
SUMMARY:ICMLC 2011
DESCRIPTION:2011 3rd International Conference on Machine Learning and Com
 puting (ICMLC 2011)
URL:http://www.wikicfp.com/cfp/servlet/event.showcfp?eventid=9823&copyown
 erid=7040
UID:cfp100349-E@wikicfp.com
END:VEVENT
BEGIN:VEVENT
DTSTAMP:20260424T183148Z
DTSTART;VALUE=DATE:20101201
SUMMARY:ICMLC 2011 Abstract Due
DESCRIPTION:2011 3rd International Conference on Machine Learning and Com
 puting (ICMLC 2011)
URL:http://www.wikicfp.com/cfp/servlet/event.showcfp?eventid=9823&copyown
 erid=7040
UID:cfp100349-A@wikicfp.com
END:VEVENT
BEGIN:VEVENT
DTSTAMP:20260424T183148Z
DTSTART;VALUE=DATE:20101015
SUMMARY:ICMLC 2011 Deadline
DESCRIPTION:2011 3rd International Conference on Machine Learning and Com
 puting (ICMLC 2011)
URL:http://www.wikicfp.com/cfp/servlet/event.showcfp?eventid=9823&copyown
 erid=7040
UID:cfp100349-D@wikicfp.com
END:VEVENT
BEGIN:VEVENT
DTSTAMP:20260424T183148Z
DTSTART;VALUE=DATE:20101115
SUMMARY:ICMLC 2011 Notification Due
DESCRIPTION:2011 3rd International Conference on Machine Learning and Com
 puting (ICMLC 2011)
URL:http://www.wikicfp.com/cfp/servlet/event.showcfp?eventid=9823&copyown
 erid=7040
UID:cfp100349-N@wikicfp.com
END:VEVENT
BEGIN:VEVENT
DTSTAMP:20260424T183148Z
DTSTART;VALUE=DATE:20101201
SUMMARY:ICMLC 2011 Final Version Due
DESCRIPTION:2011 3rd International Conference on Machine Learning and Com
 puting (ICMLC 2011)
URL:http://www.wikicfp.com/cfp/servlet/event.showcfp?eventid=9823&copyown
 erid=7040
UID:cfp100349-N@wikicfp.com
END:VEVENT
BEGIN:VEVENT
DTSTAMP:20260424T183148Z
DTSTART;VALUE=DATE:20110428
DTEND;VALUE=DATE:20110501
SUMMARY:SDM 2011
DESCRIPTION:Eleventh SIAM International Conference on Data Mining
URL:http://www.wikicfp.com/cfp/servlet/event.showcfp?eventid=10512&copyow
 nerid=7040
UID:cfp98864-E@wikicfp.com
END:VEVENT
BEGIN:VEVENT
DTSTAMP:20260424T183148Z
DTSTART;VALUE=DATE:20101015
SUMMARY:SDM 2011 Deadline
DESCRIPTION:Eleventh SIAM International Conference on Data Mining
URL:http://www.wikicfp.com/cfp/servlet/event.showcfp?eventid=10512&copyow
 nerid=7040
UID:cfp98864-D@wikicfp.com
END:VEVENT
BEGIN:VEVENT
DTSTAMP:20260424T183148Z
DTSTART;VALUE=DATE:20101222
SUMMARY:SDM 2011 Notification Due
DESCRIPTION:Eleventh SIAM International Conference on Data Mining
URL:http://www.wikicfp.com/cfp/servlet/event.showcfp?eventid=10512&copyow
 nerid=7040
UID:cfp98864-N@wikicfp.com
END:VEVENT
BEGIN:VEVENT
DTSTAMP:20260424T183148Z
DTSTART;VALUE=DATE:20110125
SUMMARY:SDM 2011 Final Version Due
DESCRIPTION:Eleventh SIAM International Conference on Data Mining
URL:http://www.wikicfp.com/cfp/servlet/event.showcfp?eventid=10512&copyow
 nerid=7040
UID:cfp98864-N@wikicfp.com
END:VEVENT
BEGIN:VEVENT
DTSTAMP:20260424T183148Z
DTSTART;VALUE=DATE:20101209
DTEND;VALUE=DATE:20101211
SUMMARY:MIWAI 2010
DESCRIPTION:The Fourth Mahasarakham International Workshop on Artificial 
 Intelligence
URL:http://www.wikicfp.com/cfp/servlet/event.showcfp?eventid=10850&copyow
 nerid=7040
UID:cfp100350-E@wikicfp.com
END:VEVENT
BEGIN:VEVENT
DTSTAMP:20260424T183148Z
DTSTART;VALUE=DATE:20101022
SUMMARY:MIWAI 2010 Deadline
DESCRIPTION:The Fourth Mahasarakham International Workshop on Artificial 
 Intelligence
URL:http://www.wikicfp.com/cfp/servlet/event.showcfp?eventid=10850&copyow
 nerid=7040
UID:cfp100350-D@wikicfp.com
END:VEVENT
BEGIN:VEVENT
DTSTAMP:20260424T183148Z
DTSTART;VALUE=DATE:20101112
SUMMARY:MIWAI 2010 Notification Due
DESCRIPTION:The Fourth Mahasarakham International Workshop on Artificial 
 Intelligence
URL:http://www.wikicfp.com/cfp/servlet/event.showcfp?eventid=10850&copyow
 nerid=7040
UID:cfp100350-N@wikicfp.com
END:VEVENT
BEGIN:VEVENT
DTSTAMP:20260424T183148Z
DTSTART;VALUE=DATE:20101122
SUMMARY:MIWAI 2010 Final Version Due
DESCRIPTION:The Fourth Mahasarakham International Workshop on Artificial 
 Intelligence
URL:http://www.wikicfp.com/cfp/servlet/event.showcfp?eventid=10850&copyow
 nerid=7040
UID:cfp100350-N@wikicfp.com
END:VEVENT
BEGIN:VEVENT
DTSTAMP:20260424T183148Z
DTSTART;VALUE=DATE:20110411
DTEND;VALUE=DATE:20110416
SUMMARY:CIDM 2011
DESCRIPTION:2011 IEEE Symposium on Computational Intelligence and Data Mi
 ning
URL:http://www.wikicfp.com/cfp/servlet/event.showcfp?eventid=9914&copyown
 erid=7040
UID:cfp98862-E@wikicfp.com
END:VEVENT
BEGIN:VEVENT
DTSTAMP:20260424T183148Z
DTSTART;VALUE=DATE:20101116
SUMMARY:CIDM 2011 Deadline
DESCRIPTION:2011 IEEE Symposium on Computational Intelligence and Data Mi
 ning
URL:http://www.wikicfp.com/cfp/servlet/event.showcfp?eventid=9914&copyown
 erid=7040
UID:cfp98862-D@wikicfp.com
END:VEVENT
BEGIN:VEVENT
DTSTAMP:20260424T183148Z
DTSTART;VALUE=DATE:20110115
SUMMARY:CIDM 2011 Notification Due
DESCRIPTION:2011 IEEE Symposium on Computational Intelligence and Data Mi
 ning
URL:http://www.wikicfp.com/cfp/servlet/event.showcfp?eventid=9914&copyown
 erid=7040
UID:cfp98862-N@wikicfp.com
END:VEVENT
BEGIN:VEVENT
DTSTAMP:20260424T183148Z
DTSTART;VALUE=DATE:20110210
SUMMARY:CIDM 2011 Final Version Due
DESCRIPTION:2011 IEEE Symposium on Computational Intelligence and Data Mi
 ning
URL:http://www.wikicfp.com/cfp/servlet/event.showcfp?eventid=9914&copyown
 erid=7040
UID:cfp98862-N@wikicfp.com
END:VEVENT
BEGIN:VEVENT
DTSTAMP:20260424T183148Z
DTSTART;VALUE=DATE:20110830
DTEND;VALUE=DATE:20110904
SUMMARY:MLDM 2011
DESCRIPTION:International Conference on Machine Learning and Data Mining
URL:http://www.wikicfp.com/cfp/servlet/event.showcfp?eventid=10788&copyow
 nerid=7040
UID:cfp98863-E@wikicfp.com
END:VEVENT
BEGIN:VEVENT
DTSTAMP:20260424T183148Z
DTSTART;VALUE=DATE:20110221
SUMMARY:MLDM 2011 Deadline
DESCRIPTION:International Conference on Machine Learning and Data Mining
URL:http://www.wikicfp.com/cfp/servlet/event.showcfp?eventid=10788&copyow
 nerid=7040
UID:cfp98863-D@wikicfp.com
END:VEVENT
BEGIN:VEVENT
DTSTAMP:20260424T183148Z
DTSTART;VALUE=DATE:20110414
SUMMARY:MLDM 2011 Notification Due
DESCRIPTION:International Conference on Machine Learning and Data Mining
URL:http://www.wikicfp.com/cfp/servlet/event.showcfp?eventid=10788&copyow
 nerid=7040
UID:cfp98863-N@wikicfp.com
END:VEVENT
BEGIN:VEVENT
DTSTAMP:20260424T183148Z
DTSTART;VALUE=DATE:20110527
SUMMARY:MLDM 2011 Final Version Due
DESCRIPTION:International Conference on Machine Learning and Data Mining
URL:http://www.wikicfp.com/cfp/servlet/event.showcfp?eventid=10788&copyow
 nerid=7040
UID:cfp98863-N@wikicfp.com
END:VEVENT
END:VCALENDAR
