BEGIN:VCALENDAR
PRODID:-//WikiCFP//mschneider 1.0//EN
VERSION:2.0
CALSCALE:GREGORIAN
BEGIN:VEVENT
DTSTAMP:20260421T123652Z
DTSTART;VALUE=DATE:20200531
DTEND;VALUE=DATE:20200605
SUMMARY:ICRA 2020
DESCRIPTION:International Conference on Robotics and Automation
URL:http://www.wikicfp.com/cfp/servlet/event.showcfp?eventid=85053&copyow
 nerid=7017
UID:cfp836830-E@wikicfp.com
END:VEVENT
BEGIN:VEVENT
DTSTAMP:20260421T123652Z
DTSTART;VALUE=DATE:20150921
DTEND;VALUE=DATE:20150926
SUMMARY:KI 2015
DESCRIPTION:KI 2015 - The 38th German Conference on Artificial Intelligen
 ce
URL:http://www.wikicfp.com/cfp/servlet/event.showcfp?eventid=44036&copyow
 nerid=7017
UID:cfp508847-E@wikicfp.com
END:VEVENT
BEGIN:VEVENT
DTSTAMP:20260421T123652Z
DTSTART;VALUE=DATE:20150501
SUMMARY:KI 2015 Deadline
DESCRIPTION:KI 2015 - The 38th German Conference on Artificial Intelligen
 ce
URL:http://www.wikicfp.com/cfp/servlet/event.showcfp?eventid=44036&copyow
 nerid=7017
UID:cfp508847-D@wikicfp.com
END:VEVENT
BEGIN:VEVENT
DTSTAMP:20260421T123652Z
DTSTART;VALUE=DATE:20150622
SUMMARY:KI 2015 Notification Due
DESCRIPTION:KI 2015 - The 38th German Conference on Artificial Intelligen
 ce
URL:http://www.wikicfp.com/cfp/servlet/event.showcfp?eventid=44036&copyow
 nerid=7017
UID:cfp508847-N@wikicfp.com
END:VEVENT
BEGIN:VEVENT
DTSTAMP:20260421T123652Z
DTSTART;VALUE=DATE:20150703
SUMMARY:KI 2015 Final Version Due
DESCRIPTION:KI 2015 - The 38th German Conference on Artificial Intelligen
 ce
URL:http://www.wikicfp.com/cfp/servlet/event.showcfp?eventid=44036&copyow
 nerid=7017
UID:cfp508847-N@wikicfp.com
END:VEVENT
BEGIN:VEVENT
DTSTAMP:20260421T123652Z
DTSTART;VALUE=DATE:20160212
DTEND;VALUE=DATE:20160218
SUMMARY:AAAI 2016
DESCRIPTION:Thirtieth AAAI Conference on Artificial Intelligence
URL:http://www.wikicfp.com/cfp/servlet/event.showcfp?eventid=45094&copyow
 nerid=7017
UID:cfp533614-E@wikicfp.com
END:VEVENT
BEGIN:VEVENT
DTSTAMP:20260421T123652Z
DTSTART;VALUE=DATE:20150910
SUMMARY:AAAI 2016 Abstract Due
DESCRIPTION:Thirtieth AAAI Conference on Artificial Intelligence
URL:http://www.wikicfp.com/cfp/servlet/event.showcfp?eventid=45094&copyow
 nerid=7017
UID:cfp533614-A@wikicfp.com
END:VEVENT
BEGIN:VEVENT
DTSTAMP:20260421T123652Z
DTSTART;VALUE=DATE:20150915
SUMMARY:AAAI 2016 Deadline
DESCRIPTION:Thirtieth AAAI Conference on Artificial Intelligence
URL:http://www.wikicfp.com/cfp/servlet/event.showcfp?eventid=45094&copyow
 nerid=7017
UID:cfp533614-D@wikicfp.com
END:VEVENT
BEGIN:VEVENT
DTSTAMP:20260421T123652Z
DTSTART;VALUE=DATE:20151112
SUMMARY:AAAI 2016 Notification Due
DESCRIPTION:Thirtieth AAAI Conference on Artificial Intelligence
URL:http://www.wikicfp.com/cfp/servlet/event.showcfp?eventid=45094&copyow
 nerid=7017
UID:cfp533614-N@wikicfp.com
END:VEVENT
BEGIN:VEVENT
DTSTAMP:20260421T123652Z
DTSTART;VALUE=DATE:20160217
DTEND;VALUE=DATE:20160221
SUMMARY:STACS 2016
DESCRIPTION:Symposium on Theoretical Aspects of Computer Science
URL:http://www.wikicfp.com/cfp/servlet/event.showcfp?eventid=46953&copyow
 nerid=7017
UID:cfp545702-E@wikicfp.com
END:VEVENT
BEGIN:VEVENT
DTSTAMP:20260421T123652Z
DTSTART;VALUE=DATE:20150918
SUMMARY:STACS 2016 Deadline
DESCRIPTION:Symposium on Theoretical Aspects of Computer Science
URL:http://www.wikicfp.com/cfp/servlet/event.showcfp?eventid=46953&copyow
 nerid=7017
UID:cfp545702-D@wikicfp.com
END:VEVENT
BEGIN:VEVENT
DTSTAMP:20260421T123652Z
DTSTART;VALUE=DATE:20151204
SUMMARY:STACS 2016 Notification Due
DESCRIPTION:Symposium on Theoretical Aspects of Computer Science
URL:http://www.wikicfp.com/cfp/servlet/event.showcfp?eventid=46953&copyow
 nerid=7017
UID:cfp545702-N@wikicfp.com
END:VEVENT
BEGIN:VEVENT
DTSTAMP:20260421T123652Z
DTSTART;VALUE=DATE:20160102
SUMMARY:STACS 2016 Final Version Due
DESCRIPTION:Symposium on Theoretical Aspects of Computer Science
URL:http://www.wikicfp.com/cfp/servlet/event.showcfp?eventid=46953&copyow
 nerid=7017
UID:cfp545702-N@wikicfp.com
END:VEVENT
BEGIN:VEVENT
DTSTAMP:20260421T123652Z
DTSTART;VALUE=DATE:20160507
DTEND;VALUE=DATE:20160512
SUMMARY:AISTATS 2016
DESCRIPTION:The 19th International Conference on  Artificial Intelligence
  and Statistics
URL:http://www.wikicfp.com/cfp/servlet/event.showcfp?eventid=46273&copyow
 nerid=7017
UID:cfp529838-E@wikicfp.com
END:VEVENT
BEGIN:VEVENT
DTSTAMP:20260421T123652Z
DTSTART;VALUE=DATE:20151009
SUMMARY:AISTATS 2016 Deadline
DESCRIPTION:The 19th International Conference on  Artificial Intelligence
  and Statistics
URL:http://www.wikicfp.com/cfp/servlet/event.showcfp?eventid=46273&copyow
 nerid=7017
UID:cfp529838-D@wikicfp.com
END:VEVENT
BEGIN:VEVENT
DTSTAMP:20260421T123652Z
DTSTART;VALUE=DATE:20151220
SUMMARY:AISTATS 2016 Notification Due
DESCRIPTION:The 19th International Conference on  Artificial Intelligence
  and Statistics
URL:http://www.wikicfp.com/cfp/servlet/event.showcfp?eventid=46273&copyow
 nerid=7017
UID:cfp529838-N@wikicfp.com
END:VEVENT
BEGIN:VEVENT
DTSTAMP:20260421T123652Z
DTSTART;VALUE=DATE:20160425
DTEND;VALUE=DATE:20160427
SUMMARY:L@S 2016
DESCRIPTION:L@S 2016: Third Annual ACM Conference on Learning at Scale
URL:http://www.wikicfp.com/cfp/servlet/event.showcfp?eventid=47275&copyow
 nerid=7017
UID:cfp554221-E@wikicfp.com
END:VEVENT
BEGIN:VEVENT
DTSTAMP:20260421T123652Z
DTSTART;VALUE=DATE:20151018
SUMMARY:L@S 2016 Deadline
DESCRIPTION:L@S 2016: Third Annual ACM Conference on Learning at Scale
URL:http://www.wikicfp.com/cfp/servlet/event.showcfp?eventid=47275&copyow
 nerid=7017
UID:cfp554221-D@wikicfp.com
END:VEVENT
BEGIN:VEVENT
DTSTAMP:20260421T123652Z
DTSTART;VALUE=DATE:20151214
SUMMARY:L@S 2016 Notification Due
DESCRIPTION:L@S 2016: Third Annual ACM Conference on Learning at Scale
URL:http://www.wikicfp.com/cfp/servlet/event.showcfp?eventid=47275&copyow
 nerid=7017
UID:cfp554221-N@wikicfp.com
END:VEVENT
BEGIN:VEVENT
DTSTAMP:20260421T123652Z
DTSTART;VALUE=DATE:20160114
SUMMARY:L@S 2016 Final Version Due
DESCRIPTION:L@S 2016: Third Annual ACM Conference on Learning at Scale
URL:http://www.wikicfp.com/cfp/servlet/event.showcfp?eventid=47275&copyow
 nerid=7017
UID:cfp554221-N@wikicfp.com
END:VEVENT
BEGIN:VEVENT
DTSTAMP:20260421T123652Z
DTSTART;VALUE=DATE:20160427
DTEND;VALUE=DATE:20160430
SUMMARY:ESANN 2016
DESCRIPTION:European Symposium on Artificial Neural Networks\, Computatio
 nal Intelligence and Machine Learning
URL:http://www.wikicfp.com/cfp/servlet/event.showcfp?eventid=48204&copyow
 nerid=7017
UID:cfp553015-E@wikicfp.com
END:VEVENT
BEGIN:VEVENT
DTSTAMP:20260421T123652Z
DTSTART;VALUE=DATE:20151120
SUMMARY:ESANN 2016 Deadline
DESCRIPTION:European Symposium on Artificial Neural Networks\, Computatio
 nal Intelligence and Machine Learning
URL:http://www.wikicfp.com/cfp/servlet/event.showcfp?eventid=48204&copyow
 nerid=7017
UID:cfp553015-D@wikicfp.com
END:VEVENT
BEGIN:VEVENT
DTSTAMP:20260421T123652Z
DTSTART;VALUE=DATE:20160131
SUMMARY:ESANN 2016 Notification Due
DESCRIPTION:European Symposium on Artificial Neural Networks\, Computatio
 nal Intelligence and Machine Learning
URL:http://www.wikicfp.com/cfp/servlet/event.showcfp?eventid=48204&copyow
 nerid=7017
UID:cfp553015-N@wikicfp.com
END:VEVENT
BEGIN:VEVENT
DTSTAMP:20260421T123652Z
DTSTART;VALUE=DATE:20160615
DTEND;VALUE=DATE:20160618
SUMMARY:KES-IDT  IS 04 2016
DESCRIPTION:Intelligent Data Analysis and Applications
URL:http://www.wikicfp.com/cfp/servlet/event.showcfp?eventid=49167&copyow
 nerid=7017
UID:cfp561298-E@wikicfp.com
END:VEVENT
BEGIN:VEVENT
DTSTAMP:20260421T123652Z
DTSTART;VALUE=DATE:20160110
SUMMARY:KES-IDT  IS 04 2016 Deadline
DESCRIPTION:Intelligent Data Analysis and Applications
URL:http://www.wikicfp.com/cfp/servlet/event.showcfp?eventid=49167&copyow
 nerid=7017
UID:cfp561298-D@wikicfp.com
END:VEVENT
BEGIN:VEVENT
DTSTAMP:20260421T123652Z
DTSTART;VALUE=DATE:20160215
SUMMARY:KES-IDT  IS 04 2016 Notification Due
DESCRIPTION:Intelligent Data Analysis and Applications
URL:http://www.wikicfp.com/cfp/servlet/event.showcfp?eventid=49167&copyow
 nerid=7017
UID:cfp561298-N@wikicfp.com
END:VEVENT
BEGIN:VEVENT
DTSTAMP:20260421T123652Z
DTSTART;VALUE=DATE:20160307
SUMMARY:KES-IDT  IS 04 2016 Final Version Due
DESCRIPTION:Intelligent Data Analysis and Applications
URL:http://www.wikicfp.com/cfp/servlet/event.showcfp?eventid=49167&copyow
 nerid=7017
UID:cfp561298-N@wikicfp.com
END:VEVENT
BEGIN:VEVENT
DTSTAMP:20260421T123652Z
DTSTART;VALUE=DATE:20160709
DTEND;VALUE=DATE:20160722
SUMMARY:MLDM 2016
DESCRIPTION:Machine Learning and Data Mining in Pattern Recognition
URL:http://www.wikicfp.com/cfp/servlet/event.showcfp?eventid=46140&copyow
 nerid=7017
UID:cfp529837-E@wikicfp.com
END:VEVENT
BEGIN:VEVENT
DTSTAMP:20260421T123652Z
DTSTART;VALUE=DATE:20160116
SUMMARY:MLDM 2016 Deadline
DESCRIPTION:Machine Learning and Data Mining in Pattern Recognition
URL:http://www.wikicfp.com/cfp/servlet/event.showcfp?eventid=46140&copyow
 nerid=7017
UID:cfp529837-D@wikicfp.com
END:VEVENT
BEGIN:VEVENT
DTSTAMP:20260421T123652Z
DTSTART;VALUE=DATE:20160318
SUMMARY:MLDM 2016 Notification Due
DESCRIPTION:Machine Learning and Data Mining in Pattern Recognition
URL:http://www.wikicfp.com/cfp/servlet/event.showcfp?eventid=46140&copyow
 nerid=7017
UID:cfp529837-N@wikicfp.com
END:VEVENT
BEGIN:VEVENT
DTSTAMP:20260421T123652Z
DTSTART;VALUE=DATE:20160505
SUMMARY:MLDM 2016 Final Version Due
DESCRIPTION:Machine Learning and Data Mining in Pattern Recognition
URL:http://www.wikicfp.com/cfp/servlet/event.showcfp?eventid=46140&copyow
 nerid=7017
UID:cfp529837-N@wikicfp.com
END:VEVENT
BEGIN:VEVENT
DTSTAMP:20260421T123652Z
DTSTART;VALUE=DATE:20160725
DTEND;VALUE=DATE:20160730
SUMMARY:WCCI 2016
DESCRIPTION:2016 IEEE World Congress on Computational Intelligence
URL:http://www.wikicfp.com/cfp/servlet/event.showcfp?eventid=36350&copyow
 nerid=7017
UID:cfp529839-E@wikicfp.com
END:VEVENT
BEGIN:VEVENT
DTSTAMP:20260421T123652Z
DTSTART;VALUE=DATE:20160131
SUMMARY:WCCI 2016 Deadline
DESCRIPTION:2016 IEEE World Congress on Computational Intelligence
URL:http://www.wikicfp.com/cfp/servlet/event.showcfp?eventid=36350&copyow
 nerid=7017
UID:cfp529839-D@wikicfp.com
END:VEVENT
BEGIN:VEVENT
DTSTAMP:20260421T123652Z
DTSTART;VALUE=DATE:20160315
SUMMARY:WCCI 2016 Notification Due
DESCRIPTION:2016 IEEE World Congress on Computational Intelligence
URL:http://www.wikicfp.com/cfp/servlet/event.showcfp?eventid=36350&copyow
 nerid=7017
UID:cfp529839-N@wikicfp.com
END:VEVENT
BEGIN:VEVENT
DTSTAMP:20260421T123652Z
DTSTART;VALUE=DATE:20160415
SUMMARY:WCCI 2016 Final Version Due
DESCRIPTION:2016 IEEE World Congress on Computational Intelligence
URL:http://www.wikicfp.com/cfp/servlet/event.showcfp?eventid=36350&copyow
 nerid=7017
UID:cfp529839-N@wikicfp.com
END:VEVENT
BEGIN:VEVENT
DTSTAMP:20260421T123652Z
DTSTART;VALUE=DATE:20160709
DTEND;VALUE=DATE:20160716
SUMMARY:IJCAI 2016
DESCRIPTION:Twenty-Fifth International Joint Conference on Artificial Int
 elligence
URL:http://www.wikicfp.com/cfp/servlet/event.showcfp?eventid=47559&copyow
 nerid=7017
UID:cfp542562-E@wikicfp.com
END:VEVENT
BEGIN:VEVENT
DTSTAMP:20260421T123652Z
DTSTART;VALUE=DATE:20160127
SUMMARY:IJCAI 2016 Abstract Due
DESCRIPTION:Twenty-Fifth International Joint Conference on Artificial Int
 elligence
URL:http://www.wikicfp.com/cfp/servlet/event.showcfp?eventid=47559&copyow
 nerid=7017
UID:cfp542562-A@wikicfp.com
END:VEVENT
BEGIN:VEVENT
DTSTAMP:20260421T123652Z
DTSTART;VALUE=DATE:20160202
SUMMARY:IJCAI 2016 Deadline
DESCRIPTION:Twenty-Fifth International Joint Conference on Artificial Int
 elligence
URL:http://www.wikicfp.com/cfp/servlet/event.showcfp?eventid=47559&copyow
 nerid=7017
UID:cfp542562-D@wikicfp.com
END:VEVENT
BEGIN:VEVENT
DTSTAMP:20260421T123652Z
DTSTART;VALUE=DATE:20160404
SUMMARY:IJCAI 2016 Notification Due
DESCRIPTION:Twenty-Fifth International Joint Conference on Artificial Int
 elligence
URL:http://www.wikicfp.com/cfp/servlet/event.showcfp?eventid=47559&copyow
 nerid=7017
UID:cfp542562-N@wikicfp.com
END:VEVENT
BEGIN:VEVENT
DTSTAMP:20260421T123652Z
DTSTART;VALUE=DATE:20160420
SUMMARY:IJCAI 2016 Final Version Due
DESCRIPTION:Twenty-Fifth International Joint Conference on Artificial Int
 elligence
URL:http://www.wikicfp.com/cfp/servlet/event.showcfp?eventid=47559&copyow
 nerid=7017
UID:cfp542562-N@wikicfp.com
END:VEVENT
BEGIN:VEVENT
DTSTAMP:20260421T123652Z
DTSTART;VALUE=DATE:20160619
DTEND;VALUE=DATE:20160625
SUMMARY:ICML 2016
DESCRIPTION:33rd International Conference on Machine Learning (ICML-2016)
 
URL:http://www.wikicfp.com/cfp/servlet/event.showcfp?eventid=46617&copyow
 nerid=7017
UID:cfp535185-E@wikicfp.com
END:VEVENT
BEGIN:VEVENT
DTSTAMP:20260421T123652Z
DTSTART;VALUE=DATE:20160205
SUMMARY:ICML 2016 Deadline
DESCRIPTION:33rd International Conference on Machine Learning (ICML-2016)
 
URL:http://www.wikicfp.com/cfp/servlet/event.showcfp?eventid=46617&copyow
 nerid=7017
UID:cfp535185-D@wikicfp.com
END:VEVENT
BEGIN:VEVENT
DTSTAMP:20260421T123652Z
DTSTART;VALUE=DATE:20160813
DTEND;VALUE=DATE:20160818
SUMMARY:KDD 2016
DESCRIPTION:22nd ACM SIGKDD international conference on knowledge discove
 ry and data mining
URL:http://www.wikicfp.com/cfp/servlet/event.showcfp?eventid=48652&copyow
 nerid=7017
UID:cfp555134-E@wikicfp.com
END:VEVENT
BEGIN:VEVENT
DTSTAMP:20260421T123652Z
DTSTART;VALUE=DATE:20160212
SUMMARY:KDD 2016 Deadline
DESCRIPTION:22nd ACM SIGKDD international conference on knowledge discove
 ry and data mining
URL:http://www.wikicfp.com/cfp/servlet/event.showcfp?eventid=48652&copyow
 nerid=7017
UID:cfp555134-D@wikicfp.com
END:VEVENT
BEGIN:VEVENT
DTSTAMP:20260421T123652Z
DTSTART;VALUE=DATE:20160623
DTEND;VALUE=DATE:20160627
SUMMARY:COLT 2016
DESCRIPTION:Conference on Learning Theory
URL:http://www.wikicfp.com/cfp/servlet/event.showcfp?eventid=50565&copyow
 nerid=7017
UID:cfp573494-E@wikicfp.com
END:VEVENT
BEGIN:VEVENT
DTSTAMP:20260421T123652Z
DTSTART;VALUE=DATE:20160212
SUMMARY:COLT 2016 Deadline
DESCRIPTION:Conference on Learning Theory
URL:http://www.wikicfp.com/cfp/servlet/event.showcfp?eventid=50565&copyow
 nerid=7017
UID:cfp573494-D@wikicfp.com
END:VEVENT
BEGIN:VEVENT
DTSTAMP:20260421T123652Z
DTSTART;VALUE=DATE:20150425
SUMMARY:COLT 2016 Notification Due
DESCRIPTION:Conference on Learning Theory
URL:http://www.wikicfp.com/cfp/servlet/event.showcfp?eventid=50565&copyow
 nerid=7017
UID:cfp573494-N@wikicfp.com
END:VEVENT
BEGIN:VEVENT
DTSTAMP:20260421T123652Z
DTSTART;VALUE=DATE:20160625
DTEND;VALUE=DATE:20160630
SUMMARY:UAI 2016
DESCRIPTION:Conference on Uncertainty in Artificial Intelligence
URL:http://www.wikicfp.com/cfp/servlet/event.showcfp?eventid=51354&copyow
 nerid=7017
UID:cfp586775-E@wikicfp.com
END:VEVENT
BEGIN:VEVENT
DTSTAMP:20260421T123652Z
DTSTART;VALUE=DATE:20160301
SUMMARY:UAI 2016 Deadline
DESCRIPTION:Conference on Uncertainty in Artificial Intelligence
URL:http://www.wikicfp.com/cfp/servlet/event.showcfp?eventid=51354&copyow
 nerid=7017
UID:cfp586775-D@wikicfp.com
END:VEVENT
BEGIN:VEVENT
DTSTAMP:20260421T123652Z
DTSTART;VALUE=DATE:20160419
SUMMARY:UAI 2016 Notification Due
DESCRIPTION:Conference on Uncertainty in Artificial Intelligence
URL:http://www.wikicfp.com/cfp/servlet/event.showcfp?eventid=51354&copyow
 nerid=7017
UID:cfp586775-N@wikicfp.com
END:VEVENT
BEGIN:VEVENT
DTSTAMP:20260421T123652Z
DTSTART;VALUE=DATE:20160523
SUMMARY:UAI 2016 Final Version Due
DESCRIPTION:Conference on Uncertainty in Artificial Intelligence
URL:http://www.wikicfp.com/cfp/servlet/event.showcfp?eventid=51354&copyow
 nerid=7017
UID:cfp586775-N@wikicfp.com
END:VEVENT
BEGIN:VEVENT
DTSTAMP:20260421T123652Z
DTSTART;VALUE=DATE:20160829
DTEND;VALUE=DATE:20160903
SUMMARY:PAML 2016
DESCRIPTION:Privacy Aware Machine Learning for Health Data Science
URL:http://www.wikicfp.com/cfp/servlet/event.showcfp?eventid=51279&copyow
 nerid=7017
UID:cfp579285-E@wikicfp.com
END:VEVENT
BEGIN:VEVENT
DTSTAMP:20260421T123652Z
DTSTART;VALUE=DATE:20160401
SUMMARY:PAML 2016 Deadline
DESCRIPTION:Privacy Aware Machine Learning for Health Data Science
URL:http://www.wikicfp.com/cfp/servlet/event.showcfp?eventid=51279&copyow
 nerid=7017
UID:cfp579285-D@wikicfp.com
END:VEVENT
BEGIN:VEVENT
DTSTAMP:20260421T123652Z
DTSTART;VALUE=DATE:20160608
SUMMARY:PAML 2016 Final Version Due
DESCRIPTION:Privacy Aware Machine Learning for Health Data Science
URL:http://www.wikicfp.com/cfp/servlet/event.showcfp?eventid=51279&copyow
 nerid=7017
UID:cfp579285-N@wikicfp.com
END:VEVENT
BEGIN:VEVENT
DTSTAMP:20260421T123652Z
DTSTART;VALUE=DATE:20160503
DTEND;VALUE=DATE:20160506
SUMMARY:Big Data  2016
DESCRIPTION:International Conference on Big Data
URL:http://www.wikicfp.com/cfp/servlet/event.showcfp?eventid=45715&copyow
 nerid=7017
UID:cfp526005-E@wikicfp.com
END:VEVENT
BEGIN:VEVENT
DTSTAMP:20260421T123652Z
DTSTART;VALUE=DATE:20160403
SUMMARY:Big Data  2016 Deadline
DESCRIPTION:International Conference on Big Data
URL:http://www.wikicfp.com/cfp/servlet/event.showcfp?eventid=45715&copyow
 nerid=7017
UID:cfp526005-D@wikicfp.com
END:VEVENT
BEGIN:VEVENT
DTSTAMP:20260421T123652Z
DTSTART;VALUE=DATE:20160919
DTEND;VALUE=DATE:20160924
SUMMARY:ECML-PKDD 2016
DESCRIPTION:European Conference on Machine Learning and Principles and Pr
 actice of Knowledge Discovery
URL:http://www.wikicfp.com/cfp/servlet/event.showcfp?eventid=48723&copyow
 nerid=7017
UID:cfp555133-E@wikicfp.com
END:VEVENT
BEGIN:VEVENT
DTSTAMP:20260421T123652Z
DTSTART;VALUE=DATE:20160401
SUMMARY:ECML-PKDD 2016 Abstract Due
DESCRIPTION:European Conference on Machine Learning and Principles and Pr
 actice of Knowledge Discovery
URL:http://www.wikicfp.com/cfp/servlet/event.showcfp?eventid=48723&copyow
 nerid=7017
UID:cfp555133-A@wikicfp.com
END:VEVENT
BEGIN:VEVENT
DTSTAMP:20260421T123652Z
DTSTART;VALUE=DATE:20160404
SUMMARY:ECML-PKDD 2016 Deadline
DESCRIPTION:European Conference on Machine Learning and Principles and Pr
 actice of Knowledge Discovery
URL:http://www.wikicfp.com/cfp/servlet/event.showcfp?eventid=48723&copyow
 nerid=7017
UID:cfp555133-D@wikicfp.com
END:VEVENT
BEGIN:VEVENT
DTSTAMP:20260421T123652Z
DTSTART;VALUE=DATE:20160829
DTEND;VALUE=DATE:20160903
SUMMARY:ECAI 2016
DESCRIPTION:European Conference on Artificial Intelligence
URL:http://www.wikicfp.com/cfp/servlet/event.showcfp?eventid=47470&copyow
 nerid=7017
UID:cfp542560-E@wikicfp.com
END:VEVENT
BEGIN:VEVENT
DTSTAMP:20260421T123652Z
DTSTART;VALUE=DATE:20160415
SUMMARY:ECAI 2016 Deadline
DESCRIPTION:European Conference on Artificial Intelligence
URL:http://www.wikicfp.com/cfp/servlet/event.showcfp?eventid=47470&copyow
 nerid=7017
UID:cfp542560-D@wikicfp.com
END:VEVENT
BEGIN:VEVENT
DTSTAMP:20260421T123652Z
DTSTART;VALUE=DATE:20160607
SUMMARY:ECAI 2016 Notification Due
DESCRIPTION:European Conference on Artificial Intelligence
URL:http://www.wikicfp.com/cfp/servlet/event.showcfp?eventid=47470&copyow
 nerid=7017
UID:cfp542560-N@wikicfp.com
END:VEVENT
BEGIN:VEVENT
DTSTAMP:20260421T123652Z
DTSTART;VALUE=DATE:20161016
DTEND;VALUE=DATE:20161022
SUMMARY:ICONIP 2016
DESCRIPTION:The 23rd International Conference on Neural Information Proce
 ssing
URL:http://www.wikicfp.com/cfp/servlet/event.showcfp?eventid=47928&copyow
 nerid=7017
UID:cfp545099-E@wikicfp.com
END:VEVENT
BEGIN:VEVENT
DTSTAMP:20260421T123652Z
DTSTART;VALUE=DATE:20160424
SUMMARY:ICONIP 2016 Deadline
DESCRIPTION:The 23rd International Conference on Neural Information Proce
 ssing
URL:http://www.wikicfp.com/cfp/servlet/event.showcfp?eventid=47928&copyow
 nerid=7017
UID:cfp545099-D@wikicfp.com
END:VEVENT
BEGIN:VEVENT
DTSTAMP:20260421T123652Z
DTSTART;VALUE=DATE:20160601
SUMMARY:ICONIP 2016 Notification Due
DESCRIPTION:The 23rd International Conference on Neural Information Proce
 ssing
URL:http://www.wikicfp.com/cfp/servlet/event.showcfp?eventid=47928&copyow
 nerid=7017
UID:cfp545099-N@wikicfp.com
END:VEVENT
BEGIN:VEVENT
DTSTAMP:20260421T123652Z
DTSTART;VALUE=DATE:20160926
DTEND;VALUE=DATE:20161001
SUMMARY:KI 2016
DESCRIPTION:39th German Conference on Artificial Intelligence / ÃGAI-Tag
 ung 2016
URL:http://www.wikicfp.com/cfp/servlet/event.showcfp?eventid=50555&copyow
 nerid=7017
UID:cfp579286-E@wikicfp.com
END:VEVENT
BEGIN:VEVENT
DTSTAMP:20260421T123652Z
DTSTART;VALUE=DATE:20160513
SUMMARY:KI 2016 Deadline
DESCRIPTION:39th German Conference on Artificial Intelligence / ÃGAI-Tag
 ung 2016
URL:http://www.wikicfp.com/cfp/servlet/event.showcfp?eventid=50555&copyow
 nerid=7017
UID:cfp579286-D@wikicfp.com
END:VEVENT
BEGIN:VEVENT
DTSTAMP:20260421T123652Z
DTSTART;VALUE=DATE:20160627
SUMMARY:KI 2016 Notification Due
DESCRIPTION:39th German Conference on Artificial Intelligence / ÃGAI-Tag
 ung 2016
URL:http://www.wikicfp.com/cfp/servlet/event.showcfp?eventid=50555&copyow
 nerid=7017
UID:cfp579286-N@wikicfp.com
END:VEVENT
BEGIN:VEVENT
DTSTAMP:20260421T123652Z
DTSTART;VALUE=DATE:20160708
SUMMARY:KI 2016 Final Version Due
DESCRIPTION:39th German Conference on Artificial Intelligence / ÃGAI-Tag
 ung 2016
URL:http://www.wikicfp.com/cfp/servlet/event.showcfp?eventid=50555&copyow
 nerid=7017
UID:cfp579286-N@wikicfp.com
END:VEVENT
BEGIN:VEVENT
DTSTAMP:20260421T123652Z
DTSTART;VALUE=DATE:20161212
DTEND;VALUE=DATE:20161216
SUMMARY:ICDM 2016
DESCRIPTION:The IEEE International Conference on Data Mining
URL:http://www.wikicfp.com/cfp/servlet/event.showcfp?eventid=50434&copyow
 nerid=7017
UID:cfp573784-E@wikicfp.com
END:VEVENT
BEGIN:VEVENT
DTSTAMP:20260421T123652Z
DTSTART;VALUE=DATE:20160617
SUMMARY:ICDM 2016 Deadline
DESCRIPTION:The IEEE International Conference on Data Mining
URL:http://www.wikicfp.com/cfp/servlet/event.showcfp?eventid=50434&copyow
 nerid=7017
UID:cfp573784-D@wikicfp.com
END:VEVENT
BEGIN:VEVENT
DTSTAMP:20260421T123652Z
DTSTART;VALUE=DATE:20160909
SUMMARY:ICDM 2016 Notification Due
DESCRIPTION:The IEEE International Conference on Data Mining
URL:http://www.wikicfp.com/cfp/servlet/event.showcfp?eventid=50434&copyow
 nerid=7017
UID:cfp573784-N@wikicfp.com
END:VEVENT
BEGIN:VEVENT
DTSTAMP:20260421T123652Z
DTSTART;VALUE=DATE:20200712
DTEND;VALUE=DATE:20200718
SUMMARY:RSS 2020
DESCRIPTION:Robotics: Science and Systems
URL:http://www.wikicfp.com/cfp/servlet/event.showcfp?eventid=95692&copyow
 nerid=7017
UID:cfp836829-E@wikicfp.com
END:VEVENT
BEGIN:VEVENT
DTSTAMP:20260421T123652Z
DTSTART;VALUE=DATE:20200130
SUMMARY:RSS 2020 Deadline
DESCRIPTION:Robotics: Science and Systems
URL:http://www.wikicfp.com/cfp/servlet/event.showcfp?eventid=95692&copyow
 nerid=7017
UID:cfp836829-D@wikicfp.com
END:VEVENT
BEGIN:VEVENT
DTSTAMP:20260421T123652Z
DTSTART;VALUE=DATE:20200416
SUMMARY:RSS 2020 Notification Due
DESCRIPTION:Robotics: Science and Systems
URL:http://www.wikicfp.com/cfp/servlet/event.showcfp?eventid=95692&copyow
 nerid=7017
UID:cfp836829-N@wikicfp.com
END:VEVENT
BEGIN:VEVENT
DTSTAMP:20260421T123652Z
DTSTART;VALUE=DATE:20200717
DTEND;VALUE=DATE:20200719
SUMMARY:ICML WS: Optimization for ML 2020
DESCRIPTION:ICML 2020 Workshop: Beyond First Order Methods in Machine Lea
 rning
URL:http://www.wikicfp.com/cfp/servlet/event.showcfp?eventid=102387&copyo
 wnerid=7017
UID:cfp836828-E@wikicfp.com
END:VEVENT
BEGIN:VEVENT
DTSTAMP:20260421T123652Z
DTSTART;VALUE=DATE:20200612
SUMMARY:ICML WS: Optimization for ML 2020 Deadline
DESCRIPTION:ICML 2020 Workshop: Beyond First Order Methods in Machine Lea
 rning
URL:http://www.wikicfp.com/cfp/servlet/event.showcfp?eventid=102387&copyo
 wnerid=7017
UID:cfp836828-D@wikicfp.com
END:VEVENT
BEGIN:VEVENT
DTSTAMP:20260421T123652Z
DTSTART;VALUE=DATE:20200619
SUMMARY:ICML WS: Optimization for ML 2020 Notification Due
DESCRIPTION:ICML 2020 Workshop: Beyond First Order Methods in Machine Lea
 rning
URL:http://www.wikicfp.com/cfp/servlet/event.showcfp?eventid=102387&copyo
 wnerid=7017
UID:cfp836828-N@wikicfp.com
END:VEVENT
BEGIN:VEVENT
DTSTAMP:20260421T123652Z
DTSTART;VALUE=DATE:20200703
SUMMARY:ICML WS: Optimization for ML 2020 Final Version Due
DESCRIPTION:ICML 2020 Workshop: Beyond First Order Methods in Machine Lea
 rning
URL:http://www.wikicfp.com/cfp/servlet/event.showcfp?eventid=102387&copyo
 wnerid=7017
UID:cfp836828-N@wikicfp.com
END:VEVENT
END:VCALENDAR
