BEGIN:VCALENDAR
PRODID:-//WikiCFP//renatapbitola 1.0//EN
VERSION:2.0
CALSCALE:GREGORIAN
BEGIN:VEVENT
DTSTAMP:20260420T065340Z
DTSTART;VALUE=DATE:20150610
DTEND;VALUE=DATE:20150613
SUMMARY:CAiSE 2015
DESCRIPTION:Conference on Advanced Information Systems Engineering
URL:http://www.wikicfp.com/cfp/servlet/event.showcfp?eventid=38053&copyow
 nerid=70155
UID:cfp477628-E@wikicfp.com
END:VEVENT
BEGIN:VEVENT
DTSTAMP:20260420T065340Z
DTSTART;VALUE=DATE:20141201
SUMMARY:CAiSE 2015 Deadline
DESCRIPTION:Conference on Advanced Information Systems Engineering
URL:http://www.wikicfp.com/cfp/servlet/event.showcfp?eventid=38053&copyow
 nerid=70155
UID:cfp477628-D@wikicfp.com
END:VEVENT
BEGIN:VEVENT
DTSTAMP:20260420T065340Z
DTSTART;VALUE=DATE:20150210
SUMMARY:CAiSE 2015 Notification Due
DESCRIPTION:Conference on Advanced Information Systems Engineering
URL:http://www.wikicfp.com/cfp/servlet/event.showcfp?eventid=38053&copyow
 nerid=70155
UID:cfp477628-N@wikicfp.com
END:VEVENT
BEGIN:VEVENT
DTSTAMP:20260420T065340Z
DTSTART;VALUE=DATE:20150320
SUMMARY:CAiSE 2015 Final Version Due
DESCRIPTION:Conference on Advanced Information Systems Engineering
URL:http://www.wikicfp.com/cfp/servlet/event.showcfp?eventid=38053&copyow
 nerid=70155
UID:cfp477628-N@wikicfp.com
END:VEVENT
END:VCALENDAR
