BEGIN:VCALENDAR
PRODID:-//WikiCFP//bbalion 1.0//EN
VERSION:2.0
CALSCALE:GREGORIAN
BEGIN:VEVENT
DTSTAMP:20260421T071108Z
DTSTART;VALUE=DATE:20090415
DTEND;VALUE=DATE:20090418
SUMMARY:EVOBIO 2009
DESCRIPTION:Seventh European Conference on Evolutionary Computation\, Mac
 hine Learning and Data Mining in Bioinformatics
URL:http://www.wikicfp.com/cfp/servlet/event.showcfp?eventid=3293&copyown
 erid=7006
UID:cfp75383-E@wikicfp.com
END:VEVENT
BEGIN:VEVENT
DTSTAMP:20260421T071108Z
DTSTART;VALUE=DATE:20081105
SUMMARY:EVOBIO 2009 Deadline
DESCRIPTION:Seventh European Conference on Evolutionary Computation\, Mac
 hine Learning and Data Mining in Bioinformatics
URL:http://www.wikicfp.com/cfp/servlet/event.showcfp?eventid=3293&copyown
 erid=7006
UID:cfp75383-D@wikicfp.com
END:VEVENT
BEGIN:VEVENT
DTSTAMP:20260421T071108Z
DTSTART;VALUE=DATE:20090416
DTEND;VALUE=DATE:20090419
SUMMARY:HIBIT 2009
DESCRIPTION:4th International Symposium on Health Informatics and Bioinfo
 rmatics
URL:http://www.wikicfp.com/cfp/servlet/event.showcfp?eventid=4376&copyown
 erid=7006
UID:cfp75384-E@wikicfp.com
END:VEVENT
BEGIN:VEVENT
DTSTAMP:20260421T071108Z
DTSTART;VALUE=DATE:20090220
SUMMARY:HIBIT 2009 Deadline
DESCRIPTION:4th International Symposium on Health Informatics and Bioinfo
 rmatics
URL:http://www.wikicfp.com/cfp/servlet/event.showcfp?eventid=4376&copyown
 erid=7006
UID:cfp75384-D@wikicfp.com
END:VEVENT
BEGIN:VEVENT
DTSTAMP:20260421T071108Z
DTSTART;VALUE=DATE:20090305
SUMMARY:HIBIT 2009 Notification Due
DESCRIPTION:4th International Symposium on Health Informatics and Bioinfo
 rmatics
URL:http://www.wikicfp.com/cfp/servlet/event.showcfp?eventid=4376&copyown
 erid=7006
UID:cfp75384-N@wikicfp.com
END:VEVENT
BEGIN:VEVENT
DTSTAMP:20260421T071108Z
DTSTART;VALUE=DATE:20090329
DTEND;VALUE=DATE:20090403
SUMMARY:PerHealth 2010
DESCRIPTION:First IEEE PerCom Workshop on Pervasive Healthcare 
URL:http://www.wikicfp.com/cfp/servlet/event.showcfp?eventid=6134&copyown
 erid=7006
UID:cfp75027-E@wikicfp.com
END:VEVENT
BEGIN:VEVENT
DTSTAMP:20260421T071108Z
DTSTART;VALUE=DATE:20091025
SUMMARY:PerHealth 2010 Deadline
DESCRIPTION:First IEEE PerCom Workshop on Pervasive Healthcare 
URL:http://www.wikicfp.com/cfp/servlet/event.showcfp?eventid=6134&copyown
 erid=7006
UID:cfp75027-D@wikicfp.com
END:VEVENT
BEGIN:VEVENT
DTSTAMP:20260421T071108Z
DTSTART;VALUE=DATE:20091221
SUMMARY:PerHealth 2010 Notification Due
DESCRIPTION:First IEEE PerCom Workshop on Pervasive Healthcare 
URL:http://www.wikicfp.com/cfp/servlet/event.showcfp?eventid=6134&copyown
 erid=7006
UID:cfp75027-N@wikicfp.com
END:VEVENT
BEGIN:VEVENT
DTSTAMP:20260421T071108Z
DTSTART;VALUE=DATE:20100129
SUMMARY:PerHealth 2010 Final Version Due
DESCRIPTION:First IEEE PerCom Workshop on Pervasive Healthcare 
URL:http://www.wikicfp.com/cfp/servlet/event.showcfp?eventid=6134&copyown
 erid=7006
UID:cfp75027-N@wikicfp.com
END:VEVENT
BEGIN:VEVENT
DTSTAMP:20260421T071108Z
DTSTART;VALUE=DATE:20100329
DTEND;VALUE=DATE:20100403
SUMMARY:IQ2S 2010
DESCRIPTION:International Workshop on Information Quality and Quality of 
 Service for Pervasive Computing
URL:http://www.wikicfp.com/cfp/servlet/event.showcfp?eventid=6151&copyown
 erid=7006
UID:cfp75023-E@wikicfp.com
END:VEVENT
BEGIN:VEVENT
DTSTAMP:20260421T071108Z
DTSTART;VALUE=DATE:20091115
SUMMARY:IQ2S 2010 Deadline
DESCRIPTION:International Workshop on Information Quality and Quality of 
 Service for Pervasive Computing
URL:http://www.wikicfp.com/cfp/servlet/event.showcfp?eventid=6151&copyown
 erid=7006
UID:cfp75023-D@wikicfp.com
END:VEVENT
BEGIN:VEVENT
DTSTAMP:20260421T071108Z
DTSTART;VALUE=DATE:20091223
SUMMARY:IQ2S 2010 Notification Due
DESCRIPTION:International Workshop on Information Quality and Quality of 
 Service for Pervasive Computing
URL:http://www.wikicfp.com/cfp/servlet/event.showcfp?eventid=6151&copyown
 erid=7006
UID:cfp75023-N@wikicfp.com
END:VEVENT
BEGIN:VEVENT
DTSTAMP:20260421T071108Z
DTSTART;VALUE=DATE:20100129
SUMMARY:IQ2S 2010 Final Version Due
DESCRIPTION:International Workshop on Information Quality and Quality of 
 Service for Pervasive Computing
URL:http://www.wikicfp.com/cfp/servlet/event.showcfp?eventid=6151&copyown
 erid=7006
UID:cfp75023-N@wikicfp.com
END:VEVENT
BEGIN:VEVENT
DTSTAMP:20260421T071108Z
DTSTART;VALUE=DATE:20100329
DTEND;VALUE=DATE:20100403
SUMMARY:PerCol 2010
DESCRIPTION:First International Workshop on Communication\, Collaboration
  and Social Networking in Pervasive Computing Environments 
URL:http://www.wikicfp.com/cfp/servlet/event.showcfp?eventid=6986&copyown
 erid=7006
UID:cfp75024-E@wikicfp.com
END:VEVENT
BEGIN:VEVENT
DTSTAMP:20260421T071108Z
DTSTART;VALUE=DATE:20091118
SUMMARY:PerCol 2010 Deadline
DESCRIPTION:First International Workshop on Communication\, Collaboration
  and Social Networking in Pervasive Computing Environments 
URL:http://www.wikicfp.com/cfp/servlet/event.showcfp?eventid=6986&copyown
 erid=7006
UID:cfp75024-D@wikicfp.com
END:VEVENT
BEGIN:VEVENT
DTSTAMP:20260421T071108Z
DTSTART;VALUE=DATE:20091221
SUMMARY:PerCol 2010 Notification Due
DESCRIPTION:First International Workshop on Communication\, Collaboration
  and Social Networking in Pervasive Computing Environments 
URL:http://www.wikicfp.com/cfp/servlet/event.showcfp?eventid=6986&copyown
 erid=7006
UID:cfp75024-N@wikicfp.com
END:VEVENT
BEGIN:VEVENT
DTSTAMP:20260421T071108Z
DTSTART;VALUE=DATE:20100129
SUMMARY:PerCol 2010 Final Version Due
DESCRIPTION:First International Workshop on Communication\, Collaboration
  and Social Networking in Pervasive Computing Environments 
URL:http://www.wikicfp.com/cfp/servlet/event.showcfp?eventid=6986&copyown
 erid=7006
UID:cfp75024-N@wikicfp.com
END:VEVENT
BEGIN:VEVENT
DTSTAMP:20260421T071108Z
DTSTART;VALUE=DATE:20100322
DTEND;VALUE=DATE:20100326
SUMMARY:PervasiveHealth 2010
DESCRIPTION:The 4th International ICST Conference on Pervasive Computing 
 Technologies for Healthcare 2010
URL:http://www.wikicfp.com/cfp/servlet/event.showcfp?eventid=5950&copyown
 erid=7006
UID:cfp52053-E@wikicfp.com
END:VEVENT
BEGIN:VEVENT
DTSTAMP:20260421T071108Z
DTSTART;VALUE=DATE:20091214
SUMMARY:PervasiveHealth 2010 Deadline
DESCRIPTION:The 4th International ICST Conference on Pervasive Computing 
 Technologies for Healthcare 2010
URL:http://www.wikicfp.com/cfp/servlet/event.showcfp?eventid=5950&copyown
 erid=7006
UID:cfp52053-D@wikicfp.com
END:VEVENT
BEGIN:VEVENT
DTSTAMP:20260421T071108Z
DTSTART;VALUE=DATE:20100208
SUMMARY:PervasiveHealth 2010 Notification Due
DESCRIPTION:The 4th International ICST Conference on Pervasive Computing 
 Technologies for Healthcare 2010
URL:http://www.wikicfp.com/cfp/servlet/event.showcfp?eventid=5950&copyown
 erid=7006
UID:cfp52053-N@wikicfp.com
END:VEVENT
BEGIN:VEVENT
DTSTAMP:20260421T071108Z
DTSTART;VALUE=DATE:20100226
SUMMARY:PervasiveHealth 2010 Final Version Due
DESCRIPTION:The 4th International ICST Conference on Pervasive Computing 
 Technologies for Healthcare 2010
URL:http://www.wikicfp.com/cfp/servlet/event.showcfp?eventid=5950&copyown
 erid=7006
UID:cfp52053-N@wikicfp.com
END:VEVENT
BEGIN:VEVENT
DTSTAMP:20260421T071108Z
DTSTART;VALUE=DATE:20100411
DTEND;VALUE=DATE:20100412
SUMMARY:WISH@CHI 2010
DESCRIPTION:Workshop on Interactive Systems in Healthcare
URL:http://www.wikicfp.com/cfp/servlet/event.showcfp?eventid=6977&copyown
 erid=7006
UID:cfp75019-E@wikicfp.com
END:VEVENT
BEGIN:VEVENT
DTSTAMP:20260421T071108Z
DTSTART;VALUE=DATE:20100106
SUMMARY:WISH@CHI 2010 Deadline
DESCRIPTION:Workshop on Interactive Systems in Healthcare
URL:http://www.wikicfp.com/cfp/servlet/event.showcfp?eventid=6977&copyown
 erid=7006
UID:cfp75019-D@wikicfp.com
END:VEVENT
BEGIN:VEVENT
DTSTAMP:20260421T071108Z
DTSTART;VALUE=DATE:20100130
SUMMARY:WISH@CHI 2010 Notification Due
DESCRIPTION:Workshop on Interactive Systems in Healthcare
URL:http://www.wikicfp.com/cfp/servlet/event.showcfp?eventid=6977&copyown
 erid=7006
UID:cfp75019-N@wikicfp.com
END:VEVENT
BEGIN:VEVENT
DTSTAMP:20260421T071108Z
DTSTART;VALUE=DATE:20100428
DTEND;VALUE=DATE:20100501
SUMMARY:AHIC 2010
DESCRIPTION:1st Advances in Health Informatics Conference 2010
URL:http://www.wikicfp.com/cfp/servlet/event.showcfp?eventid=7540&copyown
 erid=7006
UID:cfp75025-E@wikicfp.com
END:VEVENT
BEGIN:VEVENT
DTSTAMP:20260421T071108Z
DTSTART;VALUE=DATE:20100111
SUMMARY:AHIC 2010 Deadline
DESCRIPTION:1st Advances in Health Informatics Conference 2010
URL:http://www.wikicfp.com/cfp/servlet/event.showcfp?eventid=7540&copyown
 erid=7006
UID:cfp75025-D@wikicfp.com
END:VEVENT
BEGIN:VEVENT
DTSTAMP:20260421T071108Z
DTSTART;VALUE=DATE:20100131
SUMMARY:AHIC 2010 Notification Due
DESCRIPTION:1st Advances in Health Informatics Conference 2010
URL:http://www.wikicfp.com/cfp/servlet/event.showcfp?eventid=7540&copyown
 erid=7006
UID:cfp75025-N@wikicfp.com
END:VEVENT
BEGIN:VEVENT
DTSTAMP:20260421T071108Z
DTSTART;VALUE=DATE:20100228
SUMMARY:AHIC 2010 Final Version Due
DESCRIPTION:1st Advances in Health Informatics Conference 2010
URL:http://www.wikicfp.com/cfp/servlet/event.showcfp?eventid=7540&copyown
 erid=7006
UID:cfp75025-N@wikicfp.com
END:VEVENT
BEGIN:VEVENT
DTSTAMP:20260421T071108Z
DTSTART;VALUE=DATE:20100420
DTEND;VALUE=DATE:20100423
SUMMARY:HIBIT 2010
DESCRIPTION:5th International Symposium on Health Informatics and Bioinfo
 rmatics
URL:http://www.wikicfp.com/cfp/servlet/event.showcfp?eventid=7987&copyown
 erid=7006
UID:cfp75026-E@wikicfp.com
END:VEVENT
BEGIN:VEVENT
DTSTAMP:20260421T071108Z
DTSTART;VALUE=DATE:20100114
SUMMARY:HIBIT 2010 Deadline
DESCRIPTION:5th International Symposium on Health Informatics and Bioinfo
 rmatics
URL:http://www.wikicfp.com/cfp/servlet/event.showcfp?eventid=7987&copyown
 erid=7006
UID:cfp75026-D@wikicfp.com
END:VEVENT
BEGIN:VEVENT
DTSTAMP:20260421T071108Z
DTSTART;VALUE=DATE:20100201
SUMMARY:HIBIT 2010 Notification Due
DESCRIPTION:5th International Symposium on Health Informatics and Bioinfo
 rmatics
URL:http://www.wikicfp.com/cfp/servlet/event.showcfp?eventid=7987&copyown
 erid=7006
UID:cfp75026-N@wikicfp.com
END:VEVENT
BEGIN:VEVENT
DTSTAMP:20260421T071108Z
DTSTART;VALUE=DATE:20100219
SUMMARY:HIBIT 2010 Final Version Due
DESCRIPTION:5th International Symposium on Health Informatics and Bioinfo
 rmatics
URL:http://www.wikicfp.com/cfp/servlet/event.showcfp?eventid=7987&copyown
 erid=7006
UID:cfp75026-N@wikicfp.com
END:VEVENT
BEGIN:VEVENT
DTSTAMP:20260421T071108Z
DTSTART;VALUE=DATE:20100328
DTEND;VALUE=DATE:20100331
SUMMARY:MedTech 2010
DESCRIPTION:First AMA-IEEE EMBS Medical Technology Conference on Individu
 alized Healthcare
URL:http://www.wikicfp.com/cfp/servlet/event.showcfp?eventid=7030&copyown
 erid=7006
UID:cfp75018-E@wikicfp.com
END:VEVENT
BEGIN:VEVENT
DTSTAMP:20260421T071108Z
DTSTART;VALUE=DATE:20100115
SUMMARY:MedTech 2010 Deadline
DESCRIPTION:First AMA-IEEE EMBS Medical Technology Conference on Individu
 alized Healthcare
URL:http://www.wikicfp.com/cfp/servlet/event.showcfp?eventid=7030&copyown
 erid=7006
UID:cfp75018-D@wikicfp.com
END:VEVENT
BEGIN:VEVENT
DTSTAMP:20260421T071108Z
DTSTART;VALUE=DATE:20100129
SUMMARY:MedTech 2010 Notification Due
DESCRIPTION:First AMA-IEEE EMBS Medical Technology Conference on Individu
 alized Healthcare
URL:http://www.wikicfp.com/cfp/servlet/event.showcfp?eventid=7030&copyown
 erid=7006
UID:cfp75018-N@wikicfp.com
END:VEVENT
END:VCALENDAR
