BEGIN:VCALENDAR
PRODID:-//WikiCFP//MtnFranke 1.0//EN
VERSION:2.0
CALSCALE:GREGORIAN
BEGIN:VEVENT
DTSTAMP:20260420T211650Z
DTSTART;VALUE=DATE:20141027
DTEND;VALUE=DATE:20141030
SUMMARY:ICSR 2014
DESCRIPTION:International Conference on Social Robotics
URL:http://www.wikicfp.com/cfp/servlet/event.showcfp?eventid=35701&copyow
 nerid=69061
UID:cfp470688-E@wikicfp.com
END:VEVENT
BEGIN:VEVENT
DTSTAMP:20260420T211650Z
DTSTART;VALUE=DATE:20140618
SUMMARY:ICSR 2014 Deadline
DESCRIPTION:International Conference on Social Robotics
URL:http://www.wikicfp.com/cfp/servlet/event.showcfp?eventid=35701&copyow
 nerid=69061
UID:cfp470688-D@wikicfp.com
END:VEVENT
BEGIN:VEVENT
DTSTAMP:20260420T211650Z
DTSTART;VALUE=DATE:20140716
SUMMARY:ICSR 2014 Notification Due
DESCRIPTION:International Conference on Social Robotics
URL:http://www.wikicfp.com/cfp/servlet/event.showcfp?eventid=35701&copyow
 nerid=69061
UID:cfp470688-N@wikicfp.com
END:VEVENT
BEGIN:VEVENT
DTSTAMP:20260420T211650Z
DTSTART;VALUE=DATE:20140730
SUMMARY:ICSR 2014 Final Version Due
DESCRIPTION:International Conference on Social Robotics
URL:http://www.wikicfp.com/cfp/servlet/event.showcfp?eventid=35701&copyow
 nerid=69061
UID:cfp470688-N@wikicfp.com
END:VEVENT
BEGIN:VEVENT
DTSTAMP:20260420T211650Z
DTSTART;VALUE=DATE:20141125
DTEND;VALUE=DATE:20141129
SUMMARY:MUM 2014
DESCRIPTION:The International Conference on Mobile and Ubiquitous Multime
 dia
URL:http://www.wikicfp.com/cfp/servlet/event.showcfp?eventid=35829&copyow
 nerid=69061
UID:cfp470690-E@wikicfp.com
END:VEVENT
BEGIN:VEVENT
DTSTAMP:20260420T211650Z
DTSTART;VALUE=DATE:20140801
SUMMARY:MUM 2014 Deadline
DESCRIPTION:The International Conference on Mobile and Ubiquitous Multime
 dia
URL:http://www.wikicfp.com/cfp/servlet/event.showcfp?eventid=35829&copyow
 nerid=69061
UID:cfp470690-D@wikicfp.com
END:VEVENT
BEGIN:VEVENT
DTSTAMP:20260420T211650Z
DTSTART;VALUE=DATE:20150928
DTEND;VALUE=DATE:20151003
SUMMARY:IROS 2015
DESCRIPTION:Intelligent RObots and Systems
URL:http://www.wikicfp.com/cfp/servlet/event.showcfp?eventid=37848&copyow
 nerid=69061
UID:cfp470689-E@wikicfp.com
END:VEVENT
BEGIN:VEVENT
DTSTAMP:20260420T211650Z
DTSTART;VALUE=DATE:20150301
SUMMARY:IROS 2015 Deadline
DESCRIPTION:Intelligent RObots and Systems
URL:http://www.wikicfp.com/cfp/servlet/event.showcfp?eventid=37848&copyow
 nerid=69061
UID:cfp470689-D@wikicfp.com
END:VEVENT
BEGIN:VEVENT
DTSTAMP:20260420T211650Z
DTSTART;VALUE=DATE:20150617
SUMMARY:IROS 2015 Notification Due
DESCRIPTION:Intelligent RObots and Systems
URL:http://www.wikicfp.com/cfp/servlet/event.showcfp?eventid=37848&copyow
 nerid=69061
UID:cfp470689-N@wikicfp.com
END:VEVENT
BEGIN:VEVENT
DTSTAMP:20260420T211650Z
DTSTART;VALUE=DATE:20150724
SUMMARY:IROS 2015 Final Version Due
DESCRIPTION:Intelligent RObots and Systems
URL:http://www.wikicfp.com/cfp/servlet/event.showcfp?eventid=37848&copyow
 nerid=69061
UID:cfp470689-N@wikicfp.com
END:VEVENT
END:VCALENDAR
