BEGIN:VCALENDAR
PRODID:-//WikiCFP//Kumar_Prajapati 1.0//EN
VERSION:2.0
CALSCALE:GREGORIAN
BEGIN:VEVENT
DTSTAMP:20260424T151232Z
DTSTART;VALUE=DATE:20141024
DTEND;VALUE=DATE:20141028
SUMMARY:ASH 2014
DESCRIPTION: Workshop on Advances in Software and Hardware for Big Data t
 o Knowledge Discovery (ASH) in Conjunction with 2014 IEEE Conference on 
 Big Data
URL:http://www.wikicfp.com/cfp/servlet/event.showcfp?eventid=40278&copyow
 nerid=69042
UID:cfp470596-E@wikicfp.com
END:VEVENT
BEGIN:VEVENT
DTSTAMP:20260424T151232Z
DTSTART;VALUE=DATE:20140830
SUMMARY:ASH 2014 Deadline
DESCRIPTION: Workshop on Advances in Software and Hardware for Big Data t
 o Knowledge Discovery (ASH) in Conjunction with 2014 IEEE Conference on 
 Big Data
URL:http://www.wikicfp.com/cfp/servlet/event.showcfp?eventid=40278&copyow
 nerid=69042
UID:cfp470596-D@wikicfp.com
END:VEVENT
BEGIN:VEVENT
DTSTAMP:20260424T151232Z
DTSTART;VALUE=DATE:20141110
DTEND;VALUE=DATE:20141113
SUMMARY:e-HISec 2014
DESCRIPTION:The Fifth International Workshop in e-Healthcare Information 
 Security
URL:http://www.wikicfp.com/cfp/servlet/event.showcfp?eventid=40274&copyow
 nerid=69042
UID:cfp470592-E@wikicfp.com
END:VEVENT
BEGIN:VEVENT
DTSTAMP:20260424T151232Z
DTSTART;VALUE=DATE:20140831
SUMMARY:e-HISec 2014 Deadline
DESCRIPTION:The Fifth International Workshop in e-Healthcare Information 
 Security
URL:http://www.wikicfp.com/cfp/servlet/event.showcfp?eventid=40274&copyow
 nerid=69042
UID:cfp470592-D@wikicfp.com
END:VEVENT
BEGIN:VEVENT
DTSTAMP:20260424T151232Z
DTSTART;VALUE=DATE:20140915
SUMMARY:e-HISec 2014 Notification Due
DESCRIPTION:The Fifth International Workshop in e-Healthcare Information 
 Security
URL:http://www.wikicfp.com/cfp/servlet/event.showcfp?eventid=40274&copyow
 nerid=69042
UID:cfp470592-N@wikicfp.com
END:VEVENT
BEGIN:VEVENT
DTSTAMP:20260424T151232Z
DTSTART;VALUE=DATE:20141010
SUMMARY:e-HISec 2014 Final Version Due
DESCRIPTION:The Fifth International Workshop in e-Healthcare Information 
 Security
URL:http://www.wikicfp.com/cfp/servlet/event.showcfp?eventid=40274&copyow
 nerid=69042
UID:cfp470592-N@wikicfp.com
END:VEVENT
BEGIN:VEVENT
DTSTAMP:20260424T151232Z
DTSTART;VALUE=DATE:20141027
DTEND;VALUE=DATE:20141031
SUMMARY:SCDM 2014
DESCRIPTION:2nd Scalable Cloud Data Management Workshop
URL:http://www.wikicfp.com/cfp/servlet/event.showcfp?eventid=40275&copyow
 nerid=69042
UID:cfp470593-E@wikicfp.com
END:VEVENT
BEGIN:VEVENT
DTSTAMP:20260424T151232Z
DTSTART;VALUE=DATE:20140907
SUMMARY:SCDM 2014 Deadline
DESCRIPTION:2nd Scalable Cloud Data Management Workshop
URL:http://www.wikicfp.com/cfp/servlet/event.showcfp?eventid=40275&copyow
 nerid=69042
UID:cfp470593-D@wikicfp.com
END:VEVENT
BEGIN:VEVENT
DTSTAMP:20260424T151232Z
DTSTART;VALUE=DATE:20140920
SUMMARY:SCDM 2014 Notification Due
DESCRIPTION:2nd Scalable Cloud Data Management Workshop
URL:http://www.wikicfp.com/cfp/servlet/event.showcfp?eventid=40275&copyow
 nerid=69042
UID:cfp470593-N@wikicfp.com
END:VEVENT
BEGIN:VEVENT
DTSTAMP:20260424T151232Z
DTSTART;VALUE=DATE:20141005
SUMMARY:SCDM 2014 Final Version Due
DESCRIPTION:2nd Scalable Cloud Data Management Workshop
URL:http://www.wikicfp.com/cfp/servlet/event.showcfp?eventid=40275&copyow
 nerid=69042
UID:cfp470593-N@wikicfp.com
END:VEVENT
BEGIN:VEVENT
DTSTAMP:20260424T151232Z
DTSTART;VALUE=DATE:20141124
DTEND;VALUE=DATE:20141126
SUMMARY:ARCOE-Logic  2014
DESCRIPTION:Acquisition\, Representation and Reasoning about Context with
  Logic\, the 6th International Workshop
URL:http://www.wikicfp.com/cfp/servlet/event.showcfp?eventid=40267&copyow
 nerid=69042
UID:cfp470587-E@wikicfp.com
END:VEVENT
BEGIN:VEVENT
DTSTAMP:20260424T151232Z
DTSTART;VALUE=DATE:20140922
SUMMARY:ARCOE-Logic  2014 Abstract Due
DESCRIPTION:Acquisition\, Representation and Reasoning about Context with
  Logic\, the 6th International Workshop
URL:http://www.wikicfp.com/cfp/servlet/event.showcfp?eventid=40267&copyow
 nerid=69042
UID:cfp470587-A@wikicfp.com
END:VEVENT
BEGIN:VEVENT
DTSTAMP:20260424T151232Z
DTSTART;VALUE=DATE:20140929
SUMMARY:ARCOE-Logic  2014 Deadline
DESCRIPTION:Acquisition\, Representation and Reasoning about Context with
  Logic\, the 6th International Workshop
URL:http://www.wikicfp.com/cfp/servlet/event.showcfp?eventid=40267&copyow
 nerid=69042
UID:cfp470587-D@wikicfp.com
END:VEVENT
BEGIN:VEVENT
DTSTAMP:20260424T151232Z
DTSTART;VALUE=DATE:20141017
SUMMARY:ARCOE-Logic  2014 Notification Due
DESCRIPTION:Acquisition\, Representation and Reasoning about Context with
  Logic\, the 6th International Workshop
URL:http://www.wikicfp.com/cfp/servlet/event.showcfp?eventid=40267&copyow
 nerid=69042
UID:cfp470587-N@wikicfp.com
END:VEVENT
BEGIN:VEVENT
DTSTAMP:20260424T151232Z
DTSTART;VALUE=DATE:20141107
SUMMARY:ARCOE-Logic  2014 Final Version Due
DESCRIPTION:Acquisition\, Representation and Reasoning about Context with
  Logic\, the 6th International Workshop
URL:http://www.wikicfp.com/cfp/servlet/event.showcfp?eventid=40267&copyow
 nerid=69042
UID:cfp470587-N@wikicfp.com
END:VEVENT
BEGIN:VEVENT
DTSTAMP:20260424T151232Z
DTSTART;VALUE=DATE:20141025
DTEND;VALUE=DATE:20141027
SUMMARY:ADCO 2014
DESCRIPTION:International Conference on Advanced Computing
URL:http://www.wikicfp.com/cfp/servlet/event.showcfp?eventid=40272&copyow
 nerid=69042
UID:cfp470591-E@wikicfp.com
END:VEVENT
BEGIN:VEVENT
DTSTAMP:20260424T151232Z
DTSTART;VALUE=DATE:20140930
SUMMARY:ADCO 2014 Deadline
DESCRIPTION:International Conference on Advanced Computing
URL:http://www.wikicfp.com/cfp/servlet/event.showcfp?eventid=40272&copyow
 nerid=69042
UID:cfp470591-D@wikicfp.com
END:VEVENT
BEGIN:VEVENT
DTSTAMP:20260424T151232Z
DTSTART;VALUE=DATE:20141020
SUMMARY:ADCO 2014 Notification Due
DESCRIPTION:International Conference on Advanced Computing
URL:http://www.wikicfp.com/cfp/servlet/event.showcfp?eventid=40272&copyow
 nerid=69042
UID:cfp470591-N@wikicfp.com
END:VEVENT
BEGIN:VEVENT
DTSTAMP:20260424T151232Z
DTSTART;VALUE=DATE:20141022
SUMMARY:ADCO 2014 Final Version Due
DESCRIPTION:International Conference on Advanced Computing
URL:http://www.wikicfp.com/cfp/servlet/event.showcfp?eventid=40272&copyow
 nerid=69042
UID:cfp470591-N@wikicfp.com
END:VEVENT
BEGIN:VEVENT
DTSTAMP:20260424T151232Z
DTSTART;VALUE=DATE:20150504
DTEND;VALUE=DATE:20150509
SUMMARY:FG 2015
DESCRIPTION:IEEE International Conference on Automatic Face and Gesture R
 ecognition
URL:http://www.wikicfp.com/cfp/servlet/event.showcfp?eventid=40284&copyow
 nerid=69042
UID:cfp470601-E@wikicfp.com
END:VEVENT
BEGIN:VEVENT
DTSTAMP:20260424T151232Z
DTSTART;VALUE=DATE:20140930
SUMMARY:FG 2015 Deadline
DESCRIPTION:IEEE International Conference on Automatic Face and Gesture R
 ecognition
URL:http://www.wikicfp.com/cfp/servlet/event.showcfp?eventid=40284&copyow
 nerid=69042
UID:cfp470601-D@wikicfp.com
END:VEVENT
BEGIN:VEVENT
DTSTAMP:20260424T151232Z
DTSTART;VALUE=DATE:20150109
SUMMARY:FG 2015 Notification Due
DESCRIPTION:IEEE International Conference on Automatic Face and Gesture R
 ecognition
URL:http://www.wikicfp.com/cfp/servlet/event.showcfp?eventid=40284&copyow
 nerid=69042
UID:cfp470601-N@wikicfp.com
END:VEVENT
BEGIN:VEVENT
DTSTAMP:20260424T151232Z
DTSTART;VALUE=DATE:20150127
SUMMARY:FG 2015 Final Version Due
DESCRIPTION:IEEE International Conference on Automatic Face and Gesture R
 ecognition
URL:http://www.wikicfp.com/cfp/servlet/event.showcfp?eventid=40284&copyow
 nerid=69042
UID:cfp470601-N@wikicfp.com
END:VEVENT
BEGIN:VEVENT
DTSTAMP:20260424T151232Z
DTSTART;VALUE=DATE:20141226
DTEND;VALUE=DATE:20141228
SUMMARY:IWSEB 2014
DESCRIPTION:2014 International Workshop on Sports Engineering and Biotech
 nology
URL:http://www.wikicfp.com/cfp/servlet/event.showcfp?eventid=40277&copyow
 nerid=69042
UID:cfp470595-E@wikicfp.com
END:VEVENT
BEGIN:VEVENT
DTSTAMP:20260424T151232Z
DTSTART;VALUE=DATE:20140925
SUMMARY:IWSEB 2014 Abstract Due
DESCRIPTION:2014 International Workshop on Sports Engineering and Biotech
 nology
URL:http://www.wikicfp.com/cfp/servlet/event.showcfp?eventid=40277&copyow
 nerid=69042
UID:cfp470595-A@wikicfp.com
END:VEVENT
BEGIN:VEVENT
DTSTAMP:20260424T151232Z
DTSTART;VALUE=DATE:20141001
SUMMARY:IWSEB 2014 Deadline
DESCRIPTION:2014 International Workshop on Sports Engineering and Biotech
 nology
URL:http://www.wikicfp.com/cfp/servlet/event.showcfp?eventid=40277&copyow
 nerid=69042
UID:cfp470595-D@wikicfp.com
END:VEVENT
BEGIN:VEVENT
DTSTAMP:20260424T151232Z
DTSTART;VALUE=DATE:20141010
SUMMARY:IWSEB 2014 Notification Due
DESCRIPTION:2014 International Workshop on Sports Engineering and Biotech
 nology
URL:http://www.wikicfp.com/cfp/servlet/event.showcfp?eventid=40277&copyow
 nerid=69042
UID:cfp470595-N@wikicfp.com
END:VEVENT
BEGIN:VEVENT
DTSTAMP:20260424T151232Z
DTSTART;VALUE=DATE:20141015
SUMMARY:IWSEB 2014 Final Version Due
DESCRIPTION:2014 International Workshop on Sports Engineering and Biotech
 nology
URL:http://www.wikicfp.com/cfp/servlet/event.showcfp?eventid=40277&copyow
 nerid=69042
UID:cfp470595-N@wikicfp.com
END:VEVENT
BEGIN:VEVENT
DTSTAMP:20260424T151232Z
DTSTART;VALUE=DATE:20150420
DTEND;VALUE=DATE:20150425
SUMMARY:ATR 2015
DESCRIPTION:Automatic Target Recognition XXV (SPIE)
URL:http://www.wikicfp.com/cfp/servlet/event.showcfp?eventid=40279&copyow
 nerid=69042
UID:cfp470597-E@wikicfp.com
END:VEVENT
BEGIN:VEVENT
DTSTAMP:20260424T151232Z
DTSTART;VALUE=DATE:20141006
SUMMARY:ATR 2015 Deadline
DESCRIPTION:Automatic Target Recognition XXV (SPIE)
URL:http://www.wikicfp.com/cfp/servlet/event.showcfp?eventid=40279&copyow
 nerid=69042
UID:cfp470597-D@wikicfp.com
END:VEVENT
BEGIN:VEVENT
DTSTAMP:20260424T151232Z
DTSTART;VALUE=DATE:20141215
SUMMARY:ATR 2015 Notification Due
DESCRIPTION:Automatic Target Recognition XXV (SPIE)
URL:http://www.wikicfp.com/cfp/servlet/event.showcfp?eventid=40279&copyow
 nerid=69042
UID:cfp470597-N@wikicfp.com
END:VEVENT
BEGIN:VEVENT
DTSTAMP:20260424T151232Z
DTSTART;VALUE=DATE:20150323
SUMMARY:ATR 2015 Final Version Due
DESCRIPTION:Automatic Target Recognition XXV (SPIE)
URL:http://www.wikicfp.com/cfp/servlet/event.showcfp?eventid=40279&copyow
 nerid=69042
UID:cfp470597-N@wikicfp.com
END:VEVENT
BEGIN:VEVENT
DTSTAMP:20260424T151232Z
DTSTART;VALUE=DATE:20150125
DTEND;VALUE=DATE:20150127
SUMMARY:WIT-EC 2015
DESCRIPTION:AAAI 2015 WORKSHOP ON INCENTIVE AND TRUST IN E-COMMUNITIES  (
 WIT-EC'15)
URL:http://www.wikicfp.com/cfp/servlet/event.showcfp?eventid=40271&copyow
 nerid=69042
UID:cfp470590-E@wikicfp.com
END:VEVENT
BEGIN:VEVENT
DTSTAMP:20260424T151232Z
DTSTART;VALUE=DATE:20141007
SUMMARY:WIT-EC 2015 Deadline
DESCRIPTION:AAAI 2015 WORKSHOP ON INCENTIVE AND TRUST IN E-COMMUNITIES  (
 WIT-EC'15)
URL:http://www.wikicfp.com/cfp/servlet/event.showcfp?eventid=40271&copyow
 nerid=69042
UID:cfp470590-D@wikicfp.com
END:VEVENT
BEGIN:VEVENT
DTSTAMP:20260424T151232Z
DTSTART;VALUE=DATE:20141114
SUMMARY:WIT-EC 2015 Notification Due
DESCRIPTION:AAAI 2015 WORKSHOP ON INCENTIVE AND TRUST IN E-COMMUNITIES  (
 WIT-EC'15)
URL:http://www.wikicfp.com/cfp/servlet/event.showcfp?eventid=40271&copyow
 nerid=69042
UID:cfp470590-N@wikicfp.com
END:VEVENT
BEGIN:VEVENT
DTSTAMP:20260424T151232Z
DTSTART;VALUE=DATE:20141121
SUMMARY:WIT-EC 2015 Final Version Due
DESCRIPTION:AAAI 2015 WORKSHOP ON INCENTIVE AND TRUST IN E-COMMUNITIES  (
 WIT-EC'15)
URL:http://www.wikicfp.com/cfp/servlet/event.showcfp?eventid=40271&copyow
 nerid=69042
UID:cfp470590-N@wikicfp.com
END:VEVENT
BEGIN:VEVENT
DTSTAMP:20260424T151232Z
DTSTART;VALUE=DATE:20150125
DTEND;VALUE=DATE:20150127
SUMMARY:WIT-EC 2015
DESCRIPTION:AAAI 2015 WORKSHOP ON INCENTIVE AND TRUST IN E-COMMUNITIES 
URL:http://www.wikicfp.com/cfp/servlet/event.showcfp?eventid=40282&copyow
 nerid=69042
UID:cfp470599-E@wikicfp.com
END:VEVENT
BEGIN:VEVENT
DTSTAMP:20260424T151232Z
DTSTART;VALUE=DATE:20141007
SUMMARY:WIT-EC 2015 Deadline
DESCRIPTION:AAAI 2015 WORKSHOP ON INCENTIVE AND TRUST IN E-COMMUNITIES 
URL:http://www.wikicfp.com/cfp/servlet/event.showcfp?eventid=40282&copyow
 nerid=69042
UID:cfp470599-D@wikicfp.com
END:VEVENT
BEGIN:VEVENT
DTSTAMP:20260424T151232Z
DTSTART;VALUE=DATE:20141114
SUMMARY:WIT-EC 2015 Notification Due
DESCRIPTION:AAAI 2015 WORKSHOP ON INCENTIVE AND TRUST IN E-COMMUNITIES 
URL:http://www.wikicfp.com/cfp/servlet/event.showcfp?eventid=40282&copyow
 nerid=69042
UID:cfp470599-N@wikicfp.com
END:VEVENT
BEGIN:VEVENT
DTSTAMP:20260424T151232Z
DTSTART;VALUE=DATE:20141121
SUMMARY:WIT-EC 2015 Final Version Due
DESCRIPTION:AAAI 2015 WORKSHOP ON INCENTIVE AND TRUST IN E-COMMUNITIES 
URL:http://www.wikicfp.com/cfp/servlet/event.showcfp?eventid=40282&copyow
 nerid=69042
UID:cfp470599-N@wikicfp.com
END:VEVENT
BEGIN:VEVENT
DTSTAMP:20260424T151232Z
DTSTART;VALUE=DATE:20150423
DTEND;VALUE=DATE:20150425
SUMMARY:WInTeSys 2015
DESCRIPTION:Wissenschafts- und Industrieforum Intelligente Technische Sys
 teme
URL:http://www.wikicfp.com/cfp/servlet/event.showcfp?eventid=40276&copyow
 nerid=69042
UID:cfp470594-E@wikicfp.com
END:VEVENT
BEGIN:VEVENT
DTSTAMP:20260424T151232Z
DTSTART;VALUE=DATE:20141001
SUMMARY:WInTeSys 2015 Abstract Due
DESCRIPTION:Wissenschafts- und Industrieforum Intelligente Technische Sys
 teme
URL:http://www.wikicfp.com/cfp/servlet/event.showcfp?eventid=40276&copyow
 nerid=69042
UID:cfp470594-A@wikicfp.com
END:VEVENT
BEGIN:VEVENT
DTSTAMP:20260424T151232Z
DTSTART;VALUE=DATE:20141201
SUMMARY:WInTeSys 2015 Deadline
DESCRIPTION:Wissenschafts- und Industrieforum Intelligente Technische Sys
 teme
URL:http://www.wikicfp.com/cfp/servlet/event.showcfp?eventid=40276&copyow
 nerid=69042
UID:cfp470594-D@wikicfp.com
END:VEVENT
BEGIN:VEVENT
DTSTAMP:20260424T151232Z
DTSTART;VALUE=DATE:20150208
SUMMARY:WInTeSys 2015 Notification Due
DESCRIPTION:Wissenschafts- und Industrieforum Intelligente Technische Sys
 teme
URL:http://www.wikicfp.com/cfp/servlet/event.showcfp?eventid=40276&copyow
 nerid=69042
UID:cfp470594-N@wikicfp.com
END:VEVENT
BEGIN:VEVENT
DTSTAMP:20260424T151232Z
DTSTART;VALUE=DATE:20150221
SUMMARY:WInTeSys 2015 Final Version Due
DESCRIPTION:Wissenschafts- und Industrieforum Intelligente Technische Sys
 teme
URL:http://www.wikicfp.com/cfp/servlet/event.showcfp?eventid=40276&copyow
 nerid=69042
UID:cfp470594-N@wikicfp.com
END:VEVENT
BEGIN:VEVENT
DTSTAMP:20260424T151232Z
DTSTART;VALUE=DATE:20150716
DTEND;VALUE=DATE:20150718
SUMMARY:LIWLRA  2015
DESCRIPTION:LauraPalooza 2015: Through Laura's Eyes
URL:http://www.wikicfp.com/cfp/servlet/event.showcfp?eventid=40280&copyow
 nerid=69042
UID:cfp470598-E@wikicfp.com
END:VEVENT
BEGIN:VEVENT
DTSTAMP:20260424T151232Z
DTSTART;VALUE=DATE:20141205
SUMMARY:LIWLRA  2015 Deadline
DESCRIPTION:LauraPalooza 2015: Through Laura's Eyes
URL:http://www.wikicfp.com/cfp/servlet/event.showcfp?eventid=40280&copyow
 nerid=69042
UID:cfp470598-D@wikicfp.com
END:VEVENT
BEGIN:VEVENT
DTSTAMP:20260424T151232Z
DTSTART;VALUE=DATE:20150402
DTEND;VALUE=DATE:20150404
SUMMARY:ICSMA 2015
DESCRIPTION:2015 International Conference on Sensors and Mechanical Autom
 ation
URL:http://www.wikicfp.com/cfp/servlet/event.showcfp?eventid=40250&copyow
 nerid=69042
UID:cfp470583-E@wikicfp.com
END:VEVENT
BEGIN:VEVENT
DTSTAMP:20260424T151232Z
DTSTART;VALUE=DATE:20150120
SUMMARY:ICSMA 2015 Deadline
DESCRIPTION:2015 International Conference on Sensors and Mechanical Autom
 ation
URL:http://www.wikicfp.com/cfp/servlet/event.showcfp?eventid=40250&copyow
 nerid=69042
UID:cfp470583-D@wikicfp.com
END:VEVENT
BEGIN:VEVENT
DTSTAMP:20260424T151232Z
DTSTART;VALUE=DATE:20150210
SUMMARY:ICSMA 2015 Notification Due
DESCRIPTION:2015 International Conference on Sensors and Mechanical Autom
 ation
URL:http://www.wikicfp.com/cfp/servlet/event.showcfp?eventid=40250&copyow
 nerid=69042
UID:cfp470583-N@wikicfp.com
END:VEVENT
BEGIN:VEVENT
DTSTAMP:20260424T151232Z
DTSTART;VALUE=DATE:20150225
SUMMARY:ICSMA 2015 Final Version Due
DESCRIPTION:2015 International Conference on Sensors and Mechanical Autom
 ation
URL:http://www.wikicfp.com/cfp/servlet/event.showcfp?eventid=40250&copyow
 nerid=69042
UID:cfp470583-N@wikicfp.com
END:VEVENT
BEGIN:VEVENT
DTSTAMP:20260424T151232Z
DTSTART;VALUE=DATE:20150420
DTEND;VALUE=DATE:20150423
SUMMARY:IICE 2015
DESCRIPTION:Ireland International Conference on Education (IICE-2015)
URL:http://www.wikicfp.com/cfp/servlet/event.showcfp?eventid=40283&copyow
 nerid=69042
UID:cfp470600-E@wikicfp.com
END:VEVENT
BEGIN:VEVENT
DTSTAMP:20260424T151232Z
DTSTART;VALUE=DATE:20150125
SUMMARY:IICE 2015 Abstract Due
DESCRIPTION:Ireland International Conference on Education (IICE-2015)
URL:http://www.wikicfp.com/cfp/servlet/event.showcfp?eventid=40283&copyow
 nerid=69042
UID:cfp470600-A@wikicfp.com
END:VEVENT
BEGIN:VEVENT
DTSTAMP:20260424T151232Z
DTSTART;VALUE=DATE:20150130
SUMMARY:IICE 2015 Deadline
DESCRIPTION:Ireland International Conference on Education (IICE-2015)
URL:http://www.wikicfp.com/cfp/servlet/event.showcfp?eventid=40283&copyow
 nerid=69042
UID:cfp470600-D@wikicfp.com
END:VEVENT
BEGIN:VEVENT
DTSTAMP:20260424T151232Z
DTSTART;VALUE=DATE:20150215
SUMMARY:IICE 2015 Notification Due
DESCRIPTION:Ireland International Conference on Education (IICE-2015)
URL:http://www.wikicfp.com/cfp/servlet/event.showcfp?eventid=40283&copyow
 nerid=69042
UID:cfp470600-N@wikicfp.com
END:VEVENT
BEGIN:VEVENT
DTSTAMP:20260424T151232Z
DTSTART;VALUE=DATE:20150301
SUMMARY:IICE 2015 Final Version Due
DESCRIPTION:Ireland International Conference on Education (IICE-2015)
URL:http://www.wikicfp.com/cfp/servlet/event.showcfp?eventid=40283&copyow
 nerid=69042
UID:cfp470600-N@wikicfp.com
END:VEVENT
BEGIN:VEVENT
DTSTAMP:20260424T151232Z
DTSTART;VALUE=DATE:20150413
DTEND;VALUE=DATE:20150415
SUMMARY:ICMAS 2015
DESCRIPTION:2015 International Conference on Mechatronics and Automation 
 Science
URL:http://www.wikicfp.com/cfp/servlet/event.showcfp?eventid=40268&copyow
 nerid=69042
UID:cfp470588-E@wikicfp.com
END:VEVENT
BEGIN:VEVENT
DTSTAMP:20260424T151232Z
DTSTART;VALUE=DATE:20150201
SUMMARY:ICMAS 2015 Deadline
DESCRIPTION:2015 International Conference on Mechatronics and Automation 
 Science
URL:http://www.wikicfp.com/cfp/servlet/event.showcfp?eventid=40268&copyow
 nerid=69042
UID:cfp470588-D@wikicfp.com
END:VEVENT
BEGIN:VEVENT
DTSTAMP:20260424T151232Z
DTSTART;VALUE=DATE:20150215
SUMMARY:ICMAS 2015 Notification Due
DESCRIPTION:2015 International Conference on Mechatronics and Automation 
 Science
URL:http://www.wikicfp.com/cfp/servlet/event.showcfp?eventid=40268&copyow
 nerid=69042
UID:cfp470588-N@wikicfp.com
END:VEVENT
BEGIN:VEVENT
DTSTAMP:20260424T151232Z
DTSTART;VALUE=DATE:20140305
SUMMARY:ICMAS 2015 Final Version Due
DESCRIPTION:2015 International Conference on Mechatronics and Automation 
 Science
URL:http://www.wikicfp.com/cfp/servlet/event.showcfp?eventid=40268&copyow
 nerid=69042
UID:cfp470588-N@wikicfp.com
END:VEVENT
BEGIN:VEVENT
DTSTAMP:20260424T151232Z
DTSTART;VALUE=DATE:20150417
DTEND;VALUE=DATE:20150420
SUMMARY:ICIPCE 2015
DESCRIPTION:2015 International Conference on Information Processing and C
 ontrol Engineering
URL:http://www.wikicfp.com/cfp/servlet/event.showcfp?eventid=40269&copyow
 nerid=69042
UID:cfp470589-E@wikicfp.com
END:VEVENT
BEGIN:VEVENT
DTSTAMP:20260424T151232Z
DTSTART;VALUE=DATE:20150201
SUMMARY:ICIPCE 2015 Deadline
DESCRIPTION:2015 International Conference on Information Processing and C
 ontrol Engineering
URL:http://www.wikicfp.com/cfp/servlet/event.showcfp?eventid=40269&copyow
 nerid=69042
UID:cfp470589-D@wikicfp.com
END:VEVENT
BEGIN:VEVENT
DTSTAMP:20260424T151232Z
DTSTART;VALUE=DATE:20150216
SUMMARY:ICIPCE 2015 Notification Due
DESCRIPTION:2015 International Conference on Information Processing and C
 ontrol Engineering
URL:http://www.wikicfp.com/cfp/servlet/event.showcfp?eventid=40269&copyow
 nerid=69042
UID:cfp470589-N@wikicfp.com
END:VEVENT
BEGIN:VEVENT
DTSTAMP:20260424T151232Z
DTSTART;VALUE=DATE:20150228
SUMMARY:ICIPCE 2015 Final Version Due
DESCRIPTION:2015 International Conference on Information Processing and C
 ontrol Engineering
URL:http://www.wikicfp.com/cfp/servlet/event.showcfp?eventid=40269&copyow
 nerid=69042
UID:cfp470589-N@wikicfp.com
END:VEVENT
BEGIN:VEVENT
DTSTAMP:20260424T151232Z
DTSTART;VALUE=DATE:20150418
DTEND;VALUE=DATE:20150420
SUMMARY:ICBCE 2015
DESCRIPTION:2015 International Conference on Bioinformatics and Computer 
 Engineering
URL:http://www.wikicfp.com/cfp/servlet/event.showcfp?eventid=40251&copyow
 nerid=69042
UID:cfp470584-E@wikicfp.com
END:VEVENT
BEGIN:VEVENT
DTSTAMP:20260424T151232Z
DTSTART;VALUE=DATE:20150206
SUMMARY:ICBCE 2015 Deadline
DESCRIPTION:2015 International Conference on Bioinformatics and Computer 
 Engineering
URL:http://www.wikicfp.com/cfp/servlet/event.showcfp?eventid=40251&copyow
 nerid=69042
UID:cfp470584-D@wikicfp.com
END:VEVENT
BEGIN:VEVENT
DTSTAMP:20260424T151232Z
DTSTART;VALUE=DATE:20150216
SUMMARY:ICBCE 2015 Notification Due
DESCRIPTION:2015 International Conference on Bioinformatics and Computer 
 Engineering
URL:http://www.wikicfp.com/cfp/servlet/event.showcfp?eventid=40251&copyow
 nerid=69042
UID:cfp470584-N@wikicfp.com
END:VEVENT
BEGIN:VEVENT
DTSTAMP:20260424T151232Z
DTSTART;VALUE=DATE:20150309
SUMMARY:ICBCE 2015 Final Version Due
DESCRIPTION:2015 International Conference on Bioinformatics and Computer 
 Engineering
URL:http://www.wikicfp.com/cfp/servlet/event.showcfp?eventid=40251&copyow
 nerid=69042
UID:cfp470584-N@wikicfp.com
END:VEVENT
BEGIN:VEVENT
DTSTAMP:20260424T151232Z
DTSTART;VALUE=DATE:20150418
DTEND;VALUE=DATE:20150420
SUMMARY:ICPCO 2015
DESCRIPTION:2015 International Conference on Power Control and Optimizati
 on
URL:http://www.wikicfp.com/cfp/servlet/event.showcfp?eventid=40252&copyow
 nerid=69042
UID:cfp470585-E@wikicfp.com
END:VEVENT
BEGIN:VEVENT
DTSTAMP:20260424T151232Z
DTSTART;VALUE=DATE:20150206
SUMMARY:ICPCO 2015 Deadline
DESCRIPTION:2015 International Conference on Power Control and Optimizati
 on
URL:http://www.wikicfp.com/cfp/servlet/event.showcfp?eventid=40252&copyow
 nerid=69042
UID:cfp470585-D@wikicfp.com
END:VEVENT
BEGIN:VEVENT
DTSTAMP:20260424T151232Z
DTSTART;VALUE=DATE:20150216
SUMMARY:ICPCO 2015 Notification Due
DESCRIPTION:2015 International Conference on Power Control and Optimizati
 on
URL:http://www.wikicfp.com/cfp/servlet/event.showcfp?eventid=40252&copyow
 nerid=69042
UID:cfp470585-N@wikicfp.com
END:VEVENT
BEGIN:VEVENT
DTSTAMP:20260424T151232Z
DTSTART;VALUE=DATE:20150309
SUMMARY:ICPCO 2015 Final Version Due
DESCRIPTION:2015 International Conference on Power Control and Optimizati
 on
URL:http://www.wikicfp.com/cfp/servlet/event.showcfp?eventid=40252&copyow
 nerid=69042
UID:cfp470585-N@wikicfp.com
END:VEVENT
BEGIN:VEVENT
DTSTAMP:20260424T151232Z
DTSTART;VALUE=DATE:20150520
DTEND;VALUE=DATE:20150523
SUMMARY:TQC 2015
DESCRIPTION:Theory of Quantum Computation\, Communication\, and Cryptogra
 phy
URL:http://www.wikicfp.com/cfp/servlet/event.showcfp?eventid=40253&copyow
 nerid=69042
UID:cfp470586-E@wikicfp.com
END:VEVENT
BEGIN:VEVENT
DTSTAMP:20260424T151232Z
DTSTART;VALUE=DATE:20150206
SUMMARY:TQC 2015 Deadline
DESCRIPTION:Theory of Quantum Computation\, Communication\, and Cryptogra
 phy
URL:http://www.wikicfp.com/cfp/servlet/event.showcfp?eventid=40253&copyow
 nerid=69042
UID:cfp470586-D@wikicfp.com
END:VEVENT
BEGIN:VEVENT
DTSTAMP:20260424T151232Z
DTSTART;VALUE=DATE:20150316
SUMMARY:TQC 2015 Notification Due
DESCRIPTION:Theory of Quantum Computation\, Communication\, and Cryptogra
 phy
URL:http://www.wikicfp.com/cfp/servlet/event.showcfp?eventid=40253&copyow
 nerid=69042
UID:cfp470586-N@wikicfp.com
END:VEVENT
BEGIN:VEVENT
DTSTAMP:20260424T151232Z
DTSTART;VALUE=DATE:20150428
DTEND;VALUE=DATE:20150430
SUMMARY:ICOAC 2015
DESCRIPTION:2015 International Conference on Automatic Control
URL:http://www.wikicfp.com/cfp/servlet/event.showcfp?eventid=40249&copyow
 nerid=69042
UID:cfp470582-E@wikicfp.com
END:VEVENT
BEGIN:VEVENT
DTSTAMP:20260424T151232Z
DTSTART;VALUE=DATE:20150305
SUMMARY:ICOAC 2015 Deadline
DESCRIPTION:2015 International Conference on Automatic Control
URL:http://www.wikicfp.com/cfp/servlet/event.showcfp?eventid=40249&copyow
 nerid=69042
UID:cfp470582-D@wikicfp.com
END:VEVENT
BEGIN:VEVENT
DTSTAMP:20260424T151232Z
DTSTART;VALUE=DATE:20150320
SUMMARY:ICOAC 2015 Notification Due
DESCRIPTION:2015 International Conference on Automatic Control
URL:http://www.wikicfp.com/cfp/servlet/event.showcfp?eventid=40249&copyow
 nerid=69042
UID:cfp470582-N@wikicfp.com
END:VEVENT
BEGIN:VEVENT
DTSTAMP:20260424T151232Z
DTSTART;VALUE=DATE:20150328
SUMMARY:ICOAC 2015 Final Version Due
DESCRIPTION:2015 International Conference on Automatic Control
URL:http://www.wikicfp.com/cfp/servlet/event.showcfp?eventid=40249&copyow
 nerid=69042
UID:cfp470582-N@wikicfp.com
END:VEVENT
END:VCALENDAR
