BEGIN:VCALENDAR
PRODID:-//WikiCFP//luizsuraty 1.0//EN
VERSION:2.0
CALSCALE:GREGORIAN
BEGIN:VEVENT
DTSTAMP:20260420T063946Z
DTSTART;VALUE=DATE:20150309
DTEND;VALUE=DATE:20150313
SUMMARY:WCNC 2015
DESCRIPTION:IEEE Wireless Communications and Networking Conference (WCNC)
 
URL:http://www.wikicfp.com/cfp/servlet/event.showcfp?eventid=39482&copyow
 nerid=68853
UID:cfp469208-E@wikicfp.com
END:VEVENT
BEGIN:VEVENT
DTSTAMP:20260420T063946Z
DTSTART;VALUE=DATE:20140824
SUMMARY:WCNC 2015 Deadline
DESCRIPTION:IEEE Wireless Communications and Networking Conference (WCNC)
 
URL:http://www.wikicfp.com/cfp/servlet/event.showcfp?eventid=39482&copyow
 nerid=68853
UID:cfp469208-D@wikicfp.com
END:VEVENT
BEGIN:VEVENT
DTSTAMP:20260420T063946Z
DTSTART;VALUE=DATE:20141201
SUMMARY:WCNC 2015 Notification Due
DESCRIPTION:IEEE Wireless Communications and Networking Conference (WCNC)
 
URL:http://www.wikicfp.com/cfp/servlet/event.showcfp?eventid=39482&copyow
 nerid=68853
UID:cfp469208-N@wikicfp.com
END:VEVENT
BEGIN:VEVENT
DTSTAMP:20260420T063946Z
DTSTART;VALUE=DATE:20150105
SUMMARY:WCNC 2015 Final Version Due
DESCRIPTION:IEEE Wireless Communications and Networking Conference (WCNC)
 
URL:http://www.wikicfp.com/cfp/servlet/event.showcfp?eventid=39482&copyow
 nerid=68853
UID:cfp469208-N@wikicfp.com
END:VEVENT
BEGIN:VEVENT
DTSTAMP:20260420T063946Z
DTSTART;VALUE=DATE:20150211
DTEND;VALUE=DATE:20150214
SUMMARY:PECCS 2015
DESCRIPTION:International Conference on Pervasive and Embedded Computing 
 and Communication Systems
URL:http://www.wikicfp.com/cfp/servlet/event.showcfp?eventid=39088&copyow
 nerid=68853
UID:cfp469209-E@wikicfp.com
END:VEVENT
BEGIN:VEVENT
DTSTAMP:20260420T063946Z
DTSTART;VALUE=DATE:20140909
SUMMARY:PECCS 2015 Deadline
DESCRIPTION:International Conference on Pervasive and Embedded Computing 
 and Communication Systems
URL:http://www.wikicfp.com/cfp/servlet/event.showcfp?eventid=39088&copyow
 nerid=68853
UID:cfp469209-D@wikicfp.com
END:VEVENT
BEGIN:VEVENT
DTSTAMP:20260420T063946Z
DTSTART;VALUE=DATE:20141125
SUMMARY:PECCS 2015 Notification Due
DESCRIPTION:International Conference on Pervasive and Embedded Computing 
 and Communication Systems
URL:http://www.wikicfp.com/cfp/servlet/event.showcfp?eventid=39088&copyow
 nerid=68853
UID:cfp469209-N@wikicfp.com
END:VEVENT
BEGIN:VEVENT
DTSTAMP:20260420T063946Z
DTSTART;VALUE=DATE:20141210
SUMMARY:PECCS 2015 Final Version Due
DESCRIPTION:International Conference on Pervasive and Embedded Computing 
 and Communication Systems
URL:http://www.wikicfp.com/cfp/servlet/event.showcfp?eventid=39088&copyow
 nerid=68853
UID:cfp469209-N@wikicfp.com
END:VEVENT
BEGIN:VEVENT
DTSTAMP:20260420T063946Z
DTSTART;VALUE=DATE:20150608
DTEND;VALUE=DATE:20150613
SUMMARY:ICC 2015
DESCRIPTION:IEEE International Conference on Communications
URL:http://www.wikicfp.com/cfp/servlet/event.showcfp?eventid=37101&copyow
 nerid=68853
UID:cfp469210-E@wikicfp.com
END:VEVENT
BEGIN:VEVENT
DTSTAMP:20260420T063946Z
DTSTART;VALUE=DATE:20141015
SUMMARY:ICC 2015 Deadline
DESCRIPTION:IEEE International Conference on Communications
URL:http://www.wikicfp.com/cfp/servlet/event.showcfp?eventid=37101&copyow
 nerid=68853
UID:cfp469210-D@wikicfp.com
END:VEVENT
END:VCALENDAR
