BEGIN:VCALENDAR
PRODID:-//WikiCFP//fmohr 1.0//EN
VERSION:2.0
CALSCALE:GREGORIAN
BEGIN:VEVENT
DTSTAMP:20260425T211224Z
DTSTART;VALUE=DATE:20141019
DTEND;VALUE=DATE:20141024
SUMMARY:ISWC 2014
DESCRIPTION:International Semantic Web Conference 2014 - First Call for R
 esearch Track
URL:http://www.wikicfp.com/cfp/servlet/event.showcfp?eventid=35595&copyow
 nerid=68516
UID:cfp480296-E@wikicfp.com
END:VEVENT
BEGIN:VEVENT
DTSTAMP:20260425T211224Z
DTSTART;VALUE=DATE:20140501
SUMMARY:ISWC 2014 Abstract Due
DESCRIPTION:International Semantic Web Conference 2014 - First Call for R
 esearch Track
URL:http://www.wikicfp.com/cfp/servlet/event.showcfp?eventid=35595&copyow
 nerid=68516
UID:cfp480296-A@wikicfp.com
END:VEVENT
BEGIN:VEVENT
DTSTAMP:20260425T211224Z
DTSTART;VALUE=DATE:20140509
SUMMARY:ISWC 2014 Deadline
DESCRIPTION:International Semantic Web Conference 2014 - First Call for R
 esearch Track
URL:http://www.wikicfp.com/cfp/servlet/event.showcfp?eventid=35595&copyow
 nerid=68516
UID:cfp480296-D@wikicfp.com
END:VEVENT
BEGIN:VEVENT
DTSTAMP:20260425T211224Z
DTSTART;VALUE=DATE:20140703
SUMMARY:ISWC 2014 Notification Due
DESCRIPTION:International Semantic Web Conference 2014 - First Call for R
 esearch Track
URL:http://www.wikicfp.com/cfp/servlet/event.showcfp?eventid=35595&copyow
 nerid=68516
UID:cfp480296-N@wikicfp.com
END:VEVENT
BEGIN:VEVENT
DTSTAMP:20260425T211224Z
DTSTART;VALUE=DATE:20140801
SUMMARY:ISWC 2014 Final Version Due
DESCRIPTION:International Semantic Web Conference 2014 - First Call for R
 esearch Track
URL:http://www.wikicfp.com/cfp/servlet/event.showcfp?eventid=35595&copyow
 nerid=68516
UID:cfp480296-N@wikicfp.com
END:VEVENT
BEGIN:VEVENT
DTSTAMP:20260425T211224Z
DTSTART;VALUE=DATE:20150104
DTEND;VALUE=DATE:20150107
SUMMARY:ICSR 2015
DESCRIPTION:14th International Conference on Software Reuse
URL:http://www.wikicfp.com/cfp/servlet/event.showcfp?eventid=37321&copyow
 nerid=68516
UID:cfp466581-E@wikicfp.com
END:VEVENT
BEGIN:VEVENT
DTSTAMP:20260425T211224Z
DTSTART;VALUE=DATE:20140815
SUMMARY:ICSR 2015 Deadline
DESCRIPTION:14th International Conference on Software Reuse
URL:http://www.wikicfp.com/cfp/servlet/event.showcfp?eventid=37321&copyow
 nerid=68516
UID:cfp466581-D@wikicfp.com
END:VEVENT
BEGIN:VEVENT
DTSTAMP:20260425T211224Z
DTSTART;VALUE=DATE:20140926
SUMMARY:ICSR 2015 Notification Due
DESCRIPTION:14th International Conference on Software Reuse
URL:http://www.wikicfp.com/cfp/servlet/event.showcfp?eventid=37321&copyow
 nerid=68516
UID:cfp466581-N@wikicfp.com
END:VEVENT
BEGIN:VEVENT
DTSTAMP:20260425T211224Z
DTSTART;VALUE=DATE:20141005
SUMMARY:ICSR 2015 Final Version Due
DESCRIPTION:14th International Conference on Software Reuse
URL:http://www.wikicfp.com/cfp/servlet/event.showcfp?eventid=37321&copyow
 nerid=68516
UID:cfp466581-N@wikicfp.com
END:VEVENT
BEGIN:VEVENT
DTSTAMP:20260425T211224Z
DTSTART;VALUE=DATE:20150125
DTEND;VALUE=DATE:20150130
SUMMARY:AAAI 2015
DESCRIPTION:29th AAAI Conference on Artificial Intelligence
URL:http://www.wikicfp.com/cfp/servlet/event.showcfp?eventid=37497&copyow
 nerid=68516
UID:cfp466580-E@wikicfp.com
END:VEVENT
BEGIN:VEVENT
DTSTAMP:20260425T211224Z
DTSTART;VALUE=DATE:20140910
SUMMARY:AAAI 2015 Abstract Due
DESCRIPTION:29th AAAI Conference on Artificial Intelligence
URL:http://www.wikicfp.com/cfp/servlet/event.showcfp?eventid=37497&copyow
 nerid=68516
UID:cfp466580-A@wikicfp.com
END:VEVENT
BEGIN:VEVENT
DTSTAMP:20260425T211224Z
DTSTART;VALUE=DATE:20140915
SUMMARY:AAAI 2015 Deadline
DESCRIPTION:29th AAAI Conference on Artificial Intelligence
URL:http://www.wikicfp.com/cfp/servlet/event.showcfp?eventid=37497&copyow
 nerid=68516
UID:cfp466580-D@wikicfp.com
END:VEVENT
BEGIN:VEVENT
DTSTAMP:20260425T211224Z
DTSTART;VALUE=DATE:20141107
SUMMARY:AAAI 2015 Notification Due
DESCRIPTION:29th AAAI Conference on Artificial Intelligence
URL:http://www.wikicfp.com/cfp/servlet/event.showcfp?eventid=37497&copyow
 nerid=68516
UID:cfp466580-N@wikicfp.com
END:VEVENT
BEGIN:VEVENT
DTSTAMP:20260425T211224Z
DTSTART;VALUE=DATE:20141120
SUMMARY:AAAI 2015 Final Version Due
DESCRIPTION:29th AAAI Conference on Artificial Intelligence
URL:http://www.wikicfp.com/cfp/servlet/event.showcfp?eventid=37497&copyow
 nerid=68516
UID:cfp466580-N@wikicfp.com
END:VEVENT
END:VCALENDAR
