BEGIN:VCALENDAR
PRODID:-//WikiCFP//lcynjuse 1.0//EN
VERSION:2.0
CALSCALE:GREGORIAN
BEGIN:VEVENT
DTSTAMP:20260422T115238Z
DTSTART;VALUE=DATE:20140723
DTEND;VALUE=DATE:20140726
SUMMARY:SIROCCO 2014
DESCRIPTION:International Colloquium on Structural Information and Commun
 ication Complexity
URL:http://www.wikicfp.com/cfp/servlet/event.showcfp?eventid=39977&copyow
 nerid=68503
UID:cfp466515-E@wikicfp.com
END:VEVENT
BEGIN:VEVENT
DTSTAMP:20260422T115238Z
DTSTART;VALUE=DATE:20140428
SUMMARY:SIROCCO 2014 Deadline
DESCRIPTION:International Colloquium on Structural Information and Commun
 ication Complexity
URL:http://www.wikicfp.com/cfp/servlet/event.showcfp?eventid=39977&copyow
 nerid=68503
UID:cfp466515-D@wikicfp.com
END:VEVENT
BEGIN:VEVENT
DTSTAMP:20260422T115238Z
DTSTART;VALUE=DATE:20140525
SUMMARY:SIROCCO 2014 Notification Due
DESCRIPTION:International Colloquium on Structural Information and Commun
 ication Complexity
URL:http://www.wikicfp.com/cfp/servlet/event.showcfp?eventid=39977&copyow
 nerid=68503
UID:cfp466515-N@wikicfp.com
END:VEVENT
BEGIN:VEVENT
DTSTAMP:20260422T115238Z
DTSTART;VALUE=DATE:20140609
SUMMARY:SIROCCO 2014 Final Version Due
DESCRIPTION:International Colloquium on Structural Information and Commun
 ication Complexity
URL:http://www.wikicfp.com/cfp/servlet/event.showcfp?eventid=39977&copyow
 nerid=68503
UID:cfp466515-N@wikicfp.com
END:VEVENT
BEGIN:VEVENT
DTSTAMP:20260422T115238Z
DTSTART;VALUE=DATE:20141027
DTEND;VALUE=DATE:20141031
SUMMARY:BigGraph 2014
DESCRIPTION:International Workshop on High Performance Big Graph Data Man
 agement\, Analysis\, and Mining (in Conjunction with IEEE BigData'14)
URL:http://www.wikicfp.com/cfp/servlet/event.showcfp?eventid=40001&copyow
 nerid=68503
UID:cfp466519-E@wikicfp.com
END:VEVENT
BEGIN:VEVENT
DTSTAMP:20260422T115238Z
DTSTART;VALUE=DATE:20140906
SUMMARY:BigGraph 2014 Deadline
DESCRIPTION:International Workshop on High Performance Big Graph Data Man
 agement\, Analysis\, and Mining (in Conjunction with IEEE BigData'14)
URL:http://www.wikicfp.com/cfp/servlet/event.showcfp?eventid=40001&copyow
 nerid=68503
UID:cfp466519-D@wikicfp.com
END:VEVENT
BEGIN:VEVENT
DTSTAMP:20260422T115238Z
DTSTART;VALUE=DATE:20140920
SUMMARY:BigGraph 2014 Notification Due
DESCRIPTION:International Workshop on High Performance Big Graph Data Man
 agement\, Analysis\, and Mining (in Conjunction with IEEE BigData'14)
URL:http://www.wikicfp.com/cfp/servlet/event.showcfp?eventid=40001&copyow
 nerid=68503
UID:cfp466519-N@wikicfp.com
END:VEVENT
BEGIN:VEVENT
DTSTAMP:20260422T115238Z
DTSTART;VALUE=DATE:20141005
SUMMARY:BigGraph 2014 Final Version Due
DESCRIPTION:International Workshop on High Performance Big Graph Data Man
 agement\, Analysis\, and Mining (in Conjunction with IEEE BigData'14)
URL:http://www.wikicfp.com/cfp/servlet/event.showcfp?eventid=40001&copyow
 nerid=68503
UID:cfp466519-N@wikicfp.com
END:VEVENT
BEGIN:VEVENT
DTSTAMP:20260422T115238Z
DTSTART;VALUE=DATE:20150109
DTEND;VALUE=DATE:20150113
SUMMARY:IEEE CCAN 2015
DESCRIPTION:IEEE International Workshop on Cloud-assisted Context-Aware a
 nd Cognitive Networks 2015
URL:http://www.wikicfp.com/cfp/servlet/event.showcfp?eventid=39980&copyow
 nerid=68503
UID:cfp466516-E@wikicfp.com
END:VEVENT
BEGIN:VEVENT
DTSTAMP:20260422T115238Z
DTSTART;VALUE=DATE:20140910
SUMMARY:IEEE CCAN 2015 Abstract Due
DESCRIPTION:IEEE International Workshop on Cloud-assisted Context-Aware a
 nd Cognitive Networks 2015
URL:http://www.wikicfp.com/cfp/servlet/event.showcfp?eventid=39980&copyow
 nerid=68503
UID:cfp466516-A@wikicfp.com
END:VEVENT
BEGIN:VEVENT
DTSTAMP:20260422T115238Z
DTSTART;VALUE=DATE:20141004
SUMMARY:IEEE CCAN 2015 Deadline
DESCRIPTION:IEEE International Workshop on Cloud-assisted Context-Aware a
 nd Cognitive Networks 2015
URL:http://www.wikicfp.com/cfp/servlet/event.showcfp?eventid=39980&copyow
 nerid=68503
UID:cfp466516-D@wikicfp.com
END:VEVENT
BEGIN:VEVENT
DTSTAMP:20260422T115238Z
DTSTART;VALUE=DATE:20141101
SUMMARY:IEEE CCAN 2015 Notification Due
DESCRIPTION:IEEE International Workshop on Cloud-assisted Context-Aware a
 nd Cognitive Networks 2015
URL:http://www.wikicfp.com/cfp/servlet/event.showcfp?eventid=39980&copyow
 nerid=68503
UID:cfp466516-N@wikicfp.com
END:VEVENT
BEGIN:VEVENT
DTSTAMP:20260422T115238Z
DTSTART;VALUE=DATE:20141101
SUMMARY:IEEE CCAN 2015 Final Version Due
DESCRIPTION:IEEE International Workshop on Cloud-assisted Context-Aware a
 nd Cognitive Networks 2015
URL:http://www.wikicfp.com/cfp/servlet/event.showcfp?eventid=39980&copyow
 nerid=68503
UID:cfp466516-N@wikicfp.com
END:VEVENT
BEGIN:VEVENT
DTSTAMP:20260422T115238Z
DTSTART;VALUE=DATE:20150104
DTEND;VALUE=DATE:20150108
SUMMARY:ComNet-IoT 2015
DESCRIPTION:The 4th International Workshop on Computing and Networking fo
 r Internet of Things
URL:http://www.wikicfp.com/cfp/servlet/event.showcfp?eventid=39970&copyow
 nerid=68503
UID:cfp466513-E@wikicfp.com
END:VEVENT
BEGIN:VEVENT
DTSTAMP:20260422T115238Z
DTSTART;VALUE=DATE:20141019
SUMMARY:ComNet-IoT 2015 Deadline
DESCRIPTION:The 4th International Workshop on Computing and Networking fo
 r Internet of Things
URL:http://www.wikicfp.com/cfp/servlet/event.showcfp?eventid=39970&copyow
 nerid=68503
UID:cfp466513-D@wikicfp.com
END:VEVENT
BEGIN:VEVENT
DTSTAMP:20260422T115238Z
DTSTART;VALUE=DATE:20141116
SUMMARY:ComNet-IoT 2015 Notification Due
DESCRIPTION:The 4th International Workshop on Computing and Networking fo
 r Internet of Things
URL:http://www.wikicfp.com/cfp/servlet/event.showcfp?eventid=39970&copyow
 nerid=68503
UID:cfp466513-N@wikicfp.com
END:VEVENT
BEGIN:VEVENT
DTSTAMP:20260422T115238Z
DTSTART;VALUE=DATE:20141201
SUMMARY:ComNet-IoT 2015 Final Version Due
DESCRIPTION:The 4th International Workshop on Computing and Networking fo
 r Internet of Things
URL:http://www.wikicfp.com/cfp/servlet/event.showcfp?eventid=39970&copyow
 nerid=68503
UID:cfp466513-N@wikicfp.com
END:VEVENT
BEGIN:VEVENT
DTSTAMP:20260422T115238Z
DTSTART;VALUE=DATE:20150518
DTEND;VALUE=DATE:20150521
SUMMARY:TAMC 2015
DESCRIPTION:Theory and Applications of Models of Computation
URL:http://www.wikicfp.com/cfp/servlet/event.showcfp?eventid=39976&copyow
 nerid=68503
UID:cfp466514-E@wikicfp.com
END:VEVENT
BEGIN:VEVENT
DTSTAMP:20260422T115238Z
DTSTART;VALUE=DATE:20141127
SUMMARY:TAMC 2015 Deadline
DESCRIPTION:Theory and Applications of Models of Computation
URL:http://www.wikicfp.com/cfp/servlet/event.showcfp?eventid=39976&copyow
 nerid=68503
UID:cfp466514-D@wikicfp.com
END:VEVENT
BEGIN:VEVENT
DTSTAMP:20260422T115238Z
DTSTART;VALUE=DATE:20150519
DTEND;VALUE=DATE:20150523
SUMMARY:PAKDD 2015
DESCRIPTION:Pacific-Asia Conference on Knowledge Discovery and Data Minin
 g
URL:http://www.wikicfp.com/cfp/servlet/event.showcfp?eventid=40000&copyow
 nerid=68503
UID:cfp466518-E@wikicfp.com
END:VEVENT
BEGIN:VEVENT
DTSTAMP:20260422T115238Z
DTSTART;VALUE=DATE:20141128
SUMMARY:PAKDD 2015 Deadline
DESCRIPTION:Pacific-Asia Conference on Knowledge Discovery and Data Minin
 g
URL:http://www.wikicfp.com/cfp/servlet/event.showcfp?eventid=40000&copyow
 nerid=68503
UID:cfp466518-D@wikicfp.com
END:VEVENT
BEGIN:VEVENT
DTSTAMP:20260422T115238Z
DTSTART;VALUE=DATE:20150130
SUMMARY:PAKDD 2015 Notification Due
DESCRIPTION:Pacific-Asia Conference on Knowledge Discovery and Data Minin
 g
URL:http://www.wikicfp.com/cfp/servlet/event.showcfp?eventid=40000&copyow
 nerid=68503
UID:cfp466518-N@wikicfp.com
END:VEVENT
BEGIN:VEVENT
DTSTAMP:20260422T115238Z
DTSTART;VALUE=DATE:20150220
SUMMARY:PAKDD 2015 Final Version Due
DESCRIPTION:Pacific-Asia Conference on Knowledge Discovery and Data Minin
 g
URL:http://www.wikicfp.com/cfp/servlet/event.showcfp?eventid=40000&copyow
 nerid=68503
UID:cfp466518-N@wikicfp.com
END:VEVENT
BEGIN:VEVENT
DTSTAMP:20260422T115238Z
DTSTART;VALUE=DATE:20150516
DTEND;VALUE=DATE:20150519
SUMMARY:ICCMTD 2015
DESCRIPTION:International Conference of Communication\, Media\, Technolog
 y and Design
URL:http://www.wikicfp.com/cfp/servlet/event.showcfp?eventid=39993&copyow
 nerid=68503
UID:cfp466517-E@wikicfp.com
END:VEVENT
BEGIN:VEVENT
DTSTAMP:20260422T115238Z
DTSTART;VALUE=DATE:20150415
SUMMARY:ICCMTD 2015 Abstract Due
DESCRIPTION:International Conference of Communication\, Media\, Technolog
 y and Design
URL:http://www.wikicfp.com/cfp/servlet/event.showcfp?eventid=39993&copyow
 nerid=68503
UID:cfp466517-A@wikicfp.com
END:VEVENT
BEGIN:VEVENT
DTSTAMP:20260422T115238Z
DTSTART;VALUE=DATE:20150430
SUMMARY:ICCMTD 2015 Deadline
DESCRIPTION:International Conference of Communication\, Media\, Technolog
 y and Design
URL:http://www.wikicfp.com/cfp/servlet/event.showcfp?eventid=39993&copyow
 nerid=68503
UID:cfp466517-D@wikicfp.com
END:VEVENT
END:VCALENDAR
