BEGIN:VCALENDAR
PRODID:-//WikiCFP//Omkumar 1.0//EN
VERSION:2.0
CALSCALE:GREGORIAN
BEGIN:VEVENT
DTSTAMP:20260420T075428Z
DTSTART;VALUE=DATE:20141203
DTEND;VALUE=DATE:20141206
SUMMARY:ICICT 2014
DESCRIPTION:International Conference on Information and Communication Tec
 hnologies (Proceedings - Elsevierâs Procedia Computer Science)   
URL:http://www.wikicfp.com/cfp/servlet/event.showcfp?eventid=39121&copyow
 nerid=68342
UID:cfp465453-E@wikicfp.com
END:VEVENT
BEGIN:VEVENT
DTSTAMP:20260420T075428Z
DTSTART;VALUE=DATE:20140815
SUMMARY:ICICT 2014 Deadline
DESCRIPTION:International Conference on Information and Communication Tec
 hnologies (Proceedings - Elsevierâs Procedia Computer Science)   
URL:http://www.wikicfp.com/cfp/servlet/event.showcfp?eventid=39121&copyow
 nerid=68342
UID:cfp465453-D@wikicfp.com
END:VEVENT
END:VCALENDAR
