BEGIN:VCALENDAR
PRODID:-//WikiCFP//VTC2015_Spring 1.0//EN
VERSION:2.0
CALSCALE:GREGORIAN
BEGIN:VEVENT
DTSTAMP:20260424T110007Z
DTSTART;VALUE=DATE:20150511
DTEND;VALUE=DATE:20150515
SUMMARY:VTC 2015
DESCRIPTION:2015 IEEE 81st Vehicular Technology Conference: VTC2015-Sprin
 g
URL:http://www.wikicfp.com/cfp/servlet/event.showcfp?eventid=38723&copyow
 nerid=68177
UID:cfp465426-E@wikicfp.com
END:VEVENT
BEGIN:VEVENT
DTSTAMP:20260424T110007Z
DTSTART;VALUE=DATE:20141217
SUMMARY:VTC 2015 Deadline
DESCRIPTION:2015 IEEE 81st Vehicular Technology Conference: VTC2015-Sprin
 g
URL:http://www.wikicfp.com/cfp/servlet/event.showcfp?eventid=38723&copyow
 nerid=68177
UID:cfp465426-D@wikicfp.com
END:VEVENT
BEGIN:VEVENT
DTSTAMP:20260424T110007Z
DTSTART;VALUE=DATE:20150126
SUMMARY:VTC 2015 Notification Due
DESCRIPTION:2015 IEEE 81st Vehicular Technology Conference: VTC2015-Sprin
 g
URL:http://www.wikicfp.com/cfp/servlet/event.showcfp?eventid=38723&copyow
 nerid=68177
UID:cfp465426-N@wikicfp.com
END:VEVENT
BEGIN:VEVENT
DTSTAMP:20260424T110007Z
DTSTART;VALUE=DATE:20150216
SUMMARY:VTC 2015 Final Version Due
DESCRIPTION:2015 IEEE 81st Vehicular Technology Conference: VTC2015-Sprin
 g
URL:http://www.wikicfp.com/cfp/servlet/event.showcfp?eventid=38723&copyow
 nerid=68177
UID:cfp465426-N@wikicfp.com
END:VEVENT
BEGIN:VEVENT
DTSTAMP:20260424T110007Z
DTSTART;VALUE=DATE:20160904
DTEND;VALUE=DATE:20160908
SUMMARY:IEEE PIMRC 2016
DESCRIPTION:27th IEEE International Symposium on Personal\, Indoor and Mo
 bile Radio Communications 
URL:http://www.wikicfp.com/cfp/servlet/event.showcfp?eventid=48966&copyow
 nerid=68177
UID:cfp556190-E@wikicfp.com
END:VEVENT
BEGIN:VEVENT
DTSTAMP:20260424T110007Z
DTSTART;VALUE=DATE:20160401
SUMMARY:IEEE PIMRC 2016 Deadline
DESCRIPTION:27th IEEE International Symposium on Personal\, Indoor and Mo
 bile Radio Communications 
URL:http://www.wikicfp.com/cfp/servlet/event.showcfp?eventid=48966&copyow
 nerid=68177
UID:cfp556190-D@wikicfp.com
END:VEVENT
BEGIN:VEVENT
DTSTAMP:20260424T110007Z
DTSTART;VALUE=DATE:20160527
SUMMARY:IEEE PIMRC 2016 Notification Due
DESCRIPTION:27th IEEE International Symposium on Personal\, Indoor and Mo
 bile Radio Communications 
URL:http://www.wikicfp.com/cfp/servlet/event.showcfp?eventid=48966&copyow
 nerid=68177
UID:cfp556190-N@wikicfp.com
END:VEVENT
BEGIN:VEVENT
DTSTAMP:20260424T110007Z
DTSTART;VALUE=DATE:20160624
SUMMARY:IEEE PIMRC 2016 Final Version Due
DESCRIPTION:27th IEEE International Symposium on Personal\, Indoor and Mo
 bile Radio Communications 
URL:http://www.wikicfp.com/cfp/servlet/event.showcfp?eventid=48966&copyow
 nerid=68177
UID:cfp556190-N@wikicfp.com
END:VEVENT
BEGIN:VEVENT
DTSTAMP:20260424T110007Z
DTSTART;VALUE=DATE:20180603
DTEND;VALUE=DATE:20180607
SUMMARY:IEEE VTC-Spring: Recent Results 2018
DESCRIPTION:IEEE Vehicular Technology Conference 2018-Spring: Recent Resu
 lts
URL:http://www.wikicfp.com/cfp/servlet/event.showcfp?eventid=70987&copyow
 nerid=68177
UID:cfp701545-E@wikicfp.com
END:VEVENT
BEGIN:VEVENT
DTSTAMP:20260424T110007Z
DTSTART;VALUE=DATE:20180119
SUMMARY:IEEE VTC-Spring: Recent Results 2018 Deadline
DESCRIPTION:IEEE Vehicular Technology Conference 2018-Spring: Recent Resu
 lts
URL:http://www.wikicfp.com/cfp/servlet/event.showcfp?eventid=70987&copyow
 nerid=68177
UID:cfp701545-D@wikicfp.com
END:VEVENT
BEGIN:VEVENT
DTSTAMP:20260424T110007Z
DTSTART;VALUE=DATE:20180212
SUMMARY:IEEE VTC-Spring: Recent Results 2018 Notification Due
DESCRIPTION:IEEE Vehicular Technology Conference 2018-Spring: Recent Resu
 lts
URL:http://www.wikicfp.com/cfp/servlet/event.showcfp?eventid=70987&copyow
 nerid=68177
UID:cfp701545-N@wikicfp.com
END:VEVENT
BEGIN:VEVENT
DTSTAMP:20260424T110007Z
DTSTART;VALUE=DATE:20180228
SUMMARY:IEEE VTC-Spring: Recent Results 2018 Final Version Due
DESCRIPTION:IEEE Vehicular Technology Conference 2018-Spring: Recent Resu
 lts
URL:http://www.wikicfp.com/cfp/servlet/event.showcfp?eventid=70987&copyow
 nerid=68177
UID:cfp701545-N@wikicfp.com
END:VEVENT
BEGIN:VEVENT
DTSTAMP:20260424T110007Z
DTSTART;VALUE=DATE:20180709
DTEND;VALUE=DATE:20180712
SUMMARY:IEEE WF-5G 2018
DESCRIPTION:IEEE 5G World Forum 2018
URL:http://www.wikicfp.com/cfp/servlet/event.showcfp?eventid=68610&copyow
 nerid=68177
UID:cfp688795-E@wikicfp.com
END:VEVENT
BEGIN:VEVENT
DTSTAMP:20260424T110007Z
DTSTART;VALUE=DATE:20180228
SUMMARY:IEEE WF-5G 2018 Deadline
DESCRIPTION:IEEE 5G World Forum 2018
URL:http://www.wikicfp.com/cfp/servlet/event.showcfp?eventid=68610&copyow
 nerid=68177
UID:cfp688795-D@wikicfp.com
END:VEVENT
BEGIN:VEVENT
DTSTAMP:20260424T110007Z
DTSTART;VALUE=DATE:20180430
SUMMARY:IEEE WF-5G 2018 Notification Due
DESCRIPTION:IEEE 5G World Forum 2018
URL:http://www.wikicfp.com/cfp/servlet/event.showcfp?eventid=68610&copyow
 nerid=68177
UID:cfp688795-N@wikicfp.com
END:VEVENT
BEGIN:VEVENT
DTSTAMP:20260424T110007Z
DTSTART;VALUE=DATE:20180515
SUMMARY:IEEE WF-5G 2018 Final Version Due
DESCRIPTION:IEEE 5G World Forum 2018
URL:http://www.wikicfp.com/cfp/servlet/event.showcfp?eventid=68610&copyow
 nerid=68177
UID:cfp688795-N@wikicfp.com
END:VEVENT
BEGIN:VEVENT
DTSTAMP:20260424T110007Z
DTSTART;VALUE=DATE:20180827
DTEND;VALUE=DATE:20180828
SUMMARY:IEEE CAVS 2018
DESCRIPTION:IEEE Connected and Automated Vehicles Symposium 2018
URL:http://www.wikicfp.com/cfp/servlet/event.showcfp?eventid=75672&copyow
 nerid=68177
UID:cfp722976-E@wikicfp.com
END:VEVENT
BEGIN:VEVENT
DTSTAMP:20260424T110007Z
DTSTART;VALUE=DATE:20180430
SUMMARY:IEEE CAVS 2018 Deadline
DESCRIPTION:IEEE Connected and Automated Vehicles Symposium 2018
URL:http://www.wikicfp.com/cfp/servlet/event.showcfp?eventid=75672&copyow
 nerid=68177
UID:cfp722976-D@wikicfp.com
END:VEVENT
BEGIN:VEVENT
DTSTAMP:20260424T110007Z
DTSTART;VALUE=DATE:20180611
SUMMARY:IEEE CAVS 2018 Notification Due
DESCRIPTION:IEEE Connected and Automated Vehicles Symposium 2018
URL:http://www.wikicfp.com/cfp/servlet/event.showcfp?eventid=75672&copyow
 nerid=68177
UID:cfp722976-N@wikicfp.com
END:VEVENT
BEGIN:VEVENT
DTSTAMP:20260424T110007Z
DTSTART;VALUE=DATE:20180622
SUMMARY:IEEE CAVS 2018 Final Version Due
DESCRIPTION:IEEE Connected and Automated Vehicles Symposium 2018
URL:http://www.wikicfp.com/cfp/servlet/event.showcfp?eventid=75672&copyow
 nerid=68177
UID:cfp722976-N@wikicfp.com
END:VEVENT
BEGIN:VEVENT
DTSTAMP:20260424T110007Z
DTSTART;VALUE=DATE:20190618
DTEND;VALUE=DATE:20190622
SUMMARY:EUCNC 2019
DESCRIPTION:European Conference on Networks and Communications
URL:http://www.wikicfp.com/cfp/servlet/event.showcfp?eventid=81625&copyow
 nerid=68177
UID:cfp749957-E@wikicfp.com
END:VEVENT
BEGIN:VEVENT
DTSTAMP:20260424T110007Z
DTSTART;VALUE=DATE:20190208
SUMMARY:EUCNC 2019 Deadline
DESCRIPTION:European Conference on Networks and Communications
URL:http://www.wikicfp.com/cfp/servlet/event.showcfp?eventid=81625&copyow
 nerid=68177
UID:cfp749957-D@wikicfp.com
END:VEVENT
BEGIN:VEVENT
DTSTAMP:20260424T110007Z
DTSTART;VALUE=DATE:20190415
SUMMARY:EUCNC 2019 Notification Due
DESCRIPTION:European Conference on Networks and Communications
URL:http://www.wikicfp.com/cfp/servlet/event.showcfp?eventid=81625&copyow
 nerid=68177
UID:cfp749957-N@wikicfp.com
END:VEVENT
BEGIN:VEVENT
DTSTAMP:20260424T110007Z
DTSTART;VALUE=DATE:20190426
SUMMARY:EUCNC 2019 Final Version Due
DESCRIPTION:European Conference on Networks and Communications
URL:http://www.wikicfp.com/cfp/servlet/event.showcfp?eventid=81625&copyow
 nerid=68177
UID:cfp749957-N@wikicfp.com
END:VEVENT
BEGIN:VEVENT
DTSTAMP:20260424T110007Z
DTSTART;VALUE=DATE:20190922
DTEND;VALUE=DATE:20190924
SUMMARY:IEEE CAVS 2019
DESCRIPTION:2nd IEEE Connected and Automated Vehicles Symposium
URL:http://www.wikicfp.com/cfp/servlet/event.showcfp?eventid=88156&copyow
 nerid=68177
UID:cfp780475-E@wikicfp.com
END:VEVENT
BEGIN:VEVENT
DTSTAMP:20260424T110007Z
DTSTART;VALUE=DATE:20190520
SUMMARY:IEEE CAVS 2019 Deadline
DESCRIPTION:2nd IEEE Connected and Automated Vehicles Symposium
URL:http://www.wikicfp.com/cfp/servlet/event.showcfp?eventid=88156&copyow
 nerid=68177
UID:cfp780475-D@wikicfp.com
END:VEVENT
BEGIN:VEVENT
DTSTAMP:20260424T110007Z
DTSTART;VALUE=DATE:20201004
DTEND;VALUE=DATE:20201006
SUMMARY:IEEE CAVS 2020
DESCRIPTION:3rd IEEE Connected and Automated Vehicles Symposium
URL:http://www.wikicfp.com/cfp/servlet/event.showcfp?eventid=105392&copyo
 wnerid=68177
UID:cfp838008-E@wikicfp.com
END:VEVENT
BEGIN:VEVENT
DTSTAMP:20260424T110007Z
DTSTART;VALUE=DATE:20200630
SUMMARY:IEEE CAVS 2020 Deadline
DESCRIPTION:3rd IEEE Connected and Automated Vehicles Symposium
URL:http://www.wikicfp.com/cfp/servlet/event.showcfp?eventid=105392&copyo
 wnerid=68177
UID:cfp838008-D@wikicfp.com
END:VEVENT
END:VCALENDAR
