BEGIN:VCALENDAR
PRODID:-//WikiCFP//wkbgregg 1.0//EN
VERSION:2.0
CALSCALE:GREGORIAN
BEGIN:VEVENT
DTSTAMP:20260422T115134Z
DTSTART;VALUE=DATE:20141215
DTEND;VALUE=DATE:20141219
SUMMARY:CloudCom 2014
DESCRIPTION:The 2014 IEEE International Conference on Cloud Computing Tec
 hnology and Science 
URL:http://www.wikicfp.com/cfp/servlet/event.showcfp?eventid=34632&copyow
 nerid=68080
UID:cfp464180-E@wikicfp.com
END:VEVENT
BEGIN:VEVENT
DTSTAMP:20260422T115134Z
DTSTART;VALUE=DATE:20140731
SUMMARY:CloudCom 2014 Deadline
DESCRIPTION:The 2014 IEEE International Conference on Cloud Computing Tec
 hnology and Science 
URL:http://www.wikicfp.com/cfp/servlet/event.showcfp?eventid=34632&copyow
 nerid=68080
UID:cfp464180-D@wikicfp.com
END:VEVENT
BEGIN:VEVENT
DTSTAMP:20260422T115134Z
DTSTART;VALUE=DATE:20140902
SUMMARY:CloudCom 2014 Notification Due
DESCRIPTION:The 2014 IEEE International Conference on Cloud Computing Tec
 hnology and Science 
URL:http://www.wikicfp.com/cfp/servlet/event.showcfp?eventid=34632&copyow
 nerid=68080
UID:cfp464180-N@wikicfp.com
END:VEVENT
BEGIN:VEVENT
DTSTAMP:20260422T115134Z
DTSTART;VALUE=DATE:20140916
SUMMARY:CloudCom 2014 Final Version Due
DESCRIPTION:The 2014 IEEE International Conference on Cloud Computing Tec
 hnology and Science 
URL:http://www.wikicfp.com/cfp/servlet/event.showcfp?eventid=34632&copyow
 nerid=68080
UID:cfp464180-N@wikicfp.com
END:VEVENT
END:VCALENDAR
