BEGIN:VCALENDAR
PRODID:-//WikiCFP//trauma 1.0//EN
VERSION:2.0
CALSCALE:GREGORIAN
BEGIN:VEVENT
DTSTAMP:20260422T111919Z
DTSTART;VALUE=DATE:20100209
DTEND;VALUE=DATE:20100212
SUMMARY:ICBFS  2010
DESCRIPTION:The 2010 International Conference on Biotechnology and Food S
 cience (ICBFS 2010)
URL:http://www.wikicfp.com/cfp/servlet/event.showcfp?eventid=6522&copyown
 erid=6806
UID:cfp50856-E@wikicfp.com
END:VEVENT
BEGIN:VEVENT
DTSTAMP:20260422T111919Z
DTSTART;VALUE=DATE:20091015
SUMMARY:ICBFS  2010 Deadline
DESCRIPTION:The 2010 International Conference on Biotechnology and Food S
 cience (ICBFS 2010)
URL:http://www.wikicfp.com/cfp/servlet/event.showcfp?eventid=6522&copyown
 erid=6806
UID:cfp50856-D@wikicfp.com
END:VEVENT
BEGIN:VEVENT
DTSTAMP:20260422T111919Z
DTSTART;VALUE=DATE:20091110
SUMMARY:ICBFS  2010 Notification Due
DESCRIPTION:The 2010 International Conference on Biotechnology and Food S
 cience (ICBFS 2010)
URL:http://www.wikicfp.com/cfp/servlet/event.showcfp?eventid=6522&copyown
 erid=6806
UID:cfp50856-N@wikicfp.com
END:VEVENT
BEGIN:VEVENT
DTSTAMP:20260422T111919Z
DTSTART;VALUE=DATE:20091201
SUMMARY:ICBFS  2010 Final Version Due
DESCRIPTION:The 2010 International Conference on Biotechnology and Food S
 cience (ICBFS 2010)
URL:http://www.wikicfp.com/cfp/servlet/event.showcfp?eventid=6522&copyown
 erid=6806
UID:cfp50856-N@wikicfp.com
END:VEVENT
BEGIN:VEVENT
DTSTAMP:20260422T111919Z
DTSTART;VALUE=DATE:20091101
SUMMARY:IEEE-PC-LTW 2009 Deadline
DESCRIPTION:IEEE Pervasive Computing Special Issue on Labeling the World
URL:http://www.wikicfp.com/cfp/servlet/event.showcfp?eventid=6593&copyown
 erid=6806
UID:cfp50861-D@wikicfp.com
END:VEVENT
BEGIN:VEVENT
DTSTAMP:20260422T111919Z
DTSTART;VALUE=DATE:20100402
DTEND;VALUE=DATE:20100405
SUMMARY:AH 2010
DESCRIPTION:CFP: ACM Augmented Human International Conference
URL:http://www.wikicfp.com/cfp/servlet/event.showcfp?eventid=6766&copyown
 erid=6806
UID:cfp50859-E@wikicfp.com
END:VEVENT
BEGIN:VEVENT
DTSTAMP:20260422T111919Z
DTSTART;VALUE=DATE:20091220
SUMMARY:AH 2010 Abstract Due
DESCRIPTION:CFP: ACM Augmented Human International Conference
URL:http://www.wikicfp.com/cfp/servlet/event.showcfp?eventid=6766&copyown
 erid=6806
UID:cfp50859-A@wikicfp.com
END:VEVENT
BEGIN:VEVENT
DTSTAMP:20260422T111919Z
DTSTART;VALUE=DATE:20100110
SUMMARY:AH 2010 Deadline
DESCRIPTION:CFP: ACM Augmented Human International Conference
URL:http://www.wikicfp.com/cfp/servlet/event.showcfp?eventid=6766&copyown
 erid=6806
UID:cfp50859-D@wikicfp.com
END:VEVENT
BEGIN:VEVENT
DTSTAMP:20260422T111919Z
DTSTART;VALUE=DATE:20100210
SUMMARY:AH 2010 Notification Due
DESCRIPTION:CFP: ACM Augmented Human International Conference
URL:http://www.wikicfp.com/cfp/servlet/event.showcfp?eventid=6766&copyown
 erid=6806
UID:cfp50859-N@wikicfp.com
END:VEVENT
BEGIN:VEVENT
DTSTAMP:20260422T111919Z
DTSTART;VALUE=DATE:20100222
SUMMARY:AH 2010 Final Version Due
DESCRIPTION:CFP: ACM Augmented Human International Conference
URL:http://www.wikicfp.com/cfp/servlet/event.showcfp?eventid=6766&copyown
 erid=6806
UID:cfp50859-N@wikicfp.com
END:VEVENT
BEGIN:VEVENT
DTSTAMP:20260422T111919Z
DTSTART;VALUE=DATE:20100823
DTEND;VALUE=DATE:20100827
SUMMARY:ICPR 2010
DESCRIPTION:20th IAPR International Conference on Pattern Recognition
URL:http://www.wikicfp.com/cfp/servlet/event.showcfp?eventid=4312&copyown
 erid=6806
UID:cfp50862-E@wikicfp.com
END:VEVENT
BEGIN:VEVENT
DTSTAMP:20260422T111919Z
DTSTART;VALUE=DATE:20100115
SUMMARY:ICPR 2010 Deadline
DESCRIPTION:20th IAPR International Conference on Pattern Recognition
URL:http://www.wikicfp.com/cfp/servlet/event.showcfp?eventid=4312&copyown
 erid=6806
UID:cfp50862-D@wikicfp.com
END:VEVENT
BEGIN:VEVENT
DTSTAMP:20260422T111919Z
DTSTART;VALUE=DATE:20100330
SUMMARY:ICPR 2010 Notification Due
DESCRIPTION:20th IAPR International Conference on Pattern Recognition
URL:http://www.wikicfp.com/cfp/servlet/event.showcfp?eventid=4312&copyown
 erid=6806
UID:cfp50862-N@wikicfp.com
END:VEVENT
BEGIN:VEVENT
DTSTAMP:20260422T111919Z
DTSTART;VALUE=DATE:20100430
SUMMARY:ICPR 2010 Final Version Due
DESCRIPTION:20th IAPR International Conference on Pattern Recognition
URL:http://www.wikicfp.com/cfp/servlet/event.showcfp?eventid=4312&copyown
 erid=6806
UID:cfp50862-N@wikicfp.com
END:VEVENT
BEGIN:VEVENT
DTSTAMP:20260422T111919Z
DTSTART;VALUE=DATE:20100926
DTEND;VALUE=DATE:20100930
SUMMARY:Ubicomp 2010
DESCRIPTION:ACM Conference on Ubiquitous Computing
URL:http://www.wikicfp.com/cfp/servlet/event.showcfp?eventid=6726&copyown
 erid=6806
UID:cfp50858-E@wikicfp.com
END:VEVENT
BEGIN:VEVENT
DTSTAMP:20260422T111919Z
DTSTART;VALUE=DATE:20100312
SUMMARY:Ubicomp 2010 Deadline
DESCRIPTION:ACM Conference on Ubiquitous Computing
URL:http://www.wikicfp.com/cfp/servlet/event.showcfp?eventid=6726&copyown
 erid=6806
UID:cfp50858-D@wikicfp.com
END:VEVENT
BEGIN:VEVENT
DTSTAMP:20260422T111919Z
DTSTART;VALUE=DATE:20100525
SUMMARY:Ubicomp 2010 Notification Due
DESCRIPTION:ACM Conference on Ubiquitous Computing
URL:http://www.wikicfp.com/cfp/servlet/event.showcfp?eventid=6726&copyown
 erid=6806
UID:cfp50858-N@wikicfp.com
END:VEVENT
BEGIN:VEVENT
DTSTAMP:20260422T111919Z
DTSTART;VALUE=DATE:20100624
DTEND;VALUE=DATE:20100627
SUMMARY:ubic 2010
DESCRIPTION:The Second International Workshop on Ubiquitous Computing 
URL:http://www.wikicfp.com/cfp/servlet/event.showcfp?eventid=6595&copyown
 erid=6806
UID:cfp50857-E@wikicfp.com
END:VEVENT
BEGIN:VEVENT
DTSTAMP:20260422T111919Z
DTSTART;VALUE=DATE:20100507
SUMMARY:ubic 2010 Deadline
DESCRIPTION:The Second International Workshop on Ubiquitous Computing 
URL:http://www.wikicfp.com/cfp/servlet/event.showcfp?eventid=6595&copyown
 erid=6806
UID:cfp50857-D@wikicfp.com
END:VEVENT
BEGIN:VEVENT
DTSTAMP:20260422T111919Z
DTSTART;VALUE=DATE:20100526
SUMMARY:ubic 2010 Notification Due
DESCRIPTION:The Second International Workshop on Ubiquitous Computing 
URL:http://www.wikicfp.com/cfp/servlet/event.showcfp?eventid=6595&copyown
 erid=6806
UID:cfp50857-N@wikicfp.com
END:VEVENT
END:VCALENDAR
