BEGIN:VCALENDAR
PRODID:-//WikiCFP//elhassouni 1.0//EN
VERSION:2.0
CALSCALE:GREGORIAN
BEGIN:VEVENT
DTSTAMP:20260421T055804Z
DTSTART;VALUE=DATE:20141123
DTEND;VALUE=DATE:20141128
SUMMARY:QUAMUS 2014
DESCRIPTION:First Workshop on Quality of Multimedia Services
URL:http://www.wikicfp.com/cfp/servlet/event.showcfp?eventid=38819&copyow
 nerid=66626
UID:cfp455310-E@wikicfp.com
END:VEVENT
BEGIN:VEVENT
DTSTAMP:20260421T055804Z
DTSTART;VALUE=DATE:20140922
SUMMARY:QUAMUS 2014 Deadline
DESCRIPTION:First Workshop on Quality of Multimedia Services
URL:http://www.wikicfp.com/cfp/servlet/event.showcfp?eventid=38819&copyow
 nerid=66626
UID:cfp455310-D@wikicfp.com
END:VEVENT
BEGIN:VEVENT
DTSTAMP:20260421T055804Z
DTSTART;VALUE=DATE:20141010
SUMMARY:QUAMUS 2014 Notification Due
DESCRIPTION:First Workshop on Quality of Multimedia Services
URL:http://www.wikicfp.com/cfp/servlet/event.showcfp?eventid=38819&copyow
 nerid=66626
UID:cfp455310-N@wikicfp.com
END:VEVENT
BEGIN:VEVENT
DTSTAMP:20260421T055804Z
DTSTART;VALUE=DATE:20141015
SUMMARY:QUAMUS 2014 Final Version Due
DESCRIPTION:First Workshop on Quality of Multimedia Services
URL:http://www.wikicfp.com/cfp/servlet/event.showcfp?eventid=38819&copyow
 nerid=66626
UID:cfp455310-N@wikicfp.com
END:VEVENT
BEGIN:VEVENT
DTSTAMP:20260421T055804Z
DTSTART;VALUE=DATE:20151110
DTEND;VALUE=DATE:20151114
SUMMARY:IPTA - Special Session 2015
DESCRIPTION:Perceptually Driven Visual Information Analysis
URL:http://www.wikicfp.com/cfp/servlet/event.showcfp?eventid=45618&copyow
 nerid=66626
UID:cfp524108-E@wikicfp.com
END:VEVENT
BEGIN:VEVENT
DTSTAMP:20260421T055804Z
DTSTART;VALUE=DATE:20150529
SUMMARY:IPTA - Special Session 2015 Deadline
DESCRIPTION:Perceptually Driven Visual Information Analysis
URL:http://www.wikicfp.com/cfp/servlet/event.showcfp?eventid=45618&copyow
 nerid=66626
UID:cfp524108-D@wikicfp.com
END:VEVENT
BEGIN:VEVENT
DTSTAMP:20260421T055804Z
DTSTART;VALUE=DATE:20150626
SUMMARY:IPTA - Special Session 2015 Notification Due
DESCRIPTION:Perceptually Driven Visual Information Analysis
URL:http://www.wikicfp.com/cfp/servlet/event.showcfp?eventid=45618&copyow
 nerid=66626
UID:cfp524108-N@wikicfp.com
END:VEVENT
BEGIN:VEVENT
DTSTAMP:20260421T055804Z
DTSTART;VALUE=DATE:20150703
SUMMARY:IPTA - Special Session 2015 Final Version Due
DESCRIPTION:Perceptually Driven Visual Information Analysis
URL:http://www.wikicfp.com/cfp/servlet/event.showcfp?eventid=45618&copyow
 nerid=66626
UID:cfp524108-N@wikicfp.com
END:VEVENT
BEGIN:VEVENT
DTSTAMP:20260421T055804Z
DTSTART;VALUE=DATE:20151117
DTEND;VALUE=DATE:20151121
SUMMARY:12th ACS/IEEE AICCSA  2015
DESCRIPTION:Multimedia\, Computer Vision and Image Processing Track 
URL:http://www.wikicfp.com/cfp/servlet/event.showcfp?eventid=47355&copyow
 nerid=66626
UID:cfp539390-E@wikicfp.com
END:VEVENT
BEGIN:VEVENT
DTSTAMP:20260421T055804Z
DTSTART;VALUE=DATE:20150721
SUMMARY:12th ACS/IEEE AICCSA  2015 Deadline
DESCRIPTION:Multimedia\, Computer Vision and Image Processing Track 
URL:http://www.wikicfp.com/cfp/servlet/event.showcfp?eventid=47355&copyow
 nerid=66626
UID:cfp539390-D@wikicfp.com
END:VEVENT
BEGIN:VEVENT
DTSTAMP:20260421T055804Z
DTSTART;VALUE=DATE:20150908
SUMMARY:12th ACS/IEEE AICCSA  2015 Notification Due
DESCRIPTION:Multimedia\, Computer Vision and Image Processing Track 
URL:http://www.wikicfp.com/cfp/servlet/event.showcfp?eventid=47355&copyow
 nerid=66626
UID:cfp539390-N@wikicfp.com
END:VEVENT
BEGIN:VEVENT
DTSTAMP:20260421T055804Z
DTSTART;VALUE=DATE:20150918
SUMMARY:12th ACS/IEEE AICCSA  2015 Final Version Due
DESCRIPTION:Multimedia\, Computer Vision and Image Processing Track 
URL:http://www.wikicfp.com/cfp/servlet/event.showcfp?eventid=47355&copyow
 nerid=66626
UID:cfp539390-N@wikicfp.com
END:VEVENT
BEGIN:VEVENT
DTSTAMP:20260421T055804Z
DTSTART;VALUE=DATE:20151123
DTEND;VALUE=DATE:20151128
SUMMARY:QUAMUS 2015
DESCRIPTION:Second Workshop on Quality of Multimedia Services
URL:http://www.wikicfp.com/cfp/servlet/event.showcfp?eventid=45952&copyow
 nerid=66626
UID:cfp526628-E@wikicfp.com
END:VEVENT
BEGIN:VEVENT
DTSTAMP:20260421T055804Z
DTSTART;VALUE=DATE:20150921
SUMMARY:QUAMUS 2015 Deadline
DESCRIPTION:Second Workshop on Quality of Multimedia Services
URL:http://www.wikicfp.com/cfp/servlet/event.showcfp?eventid=45952&copyow
 nerid=66626
UID:cfp526628-D@wikicfp.com
END:VEVENT
BEGIN:VEVENT
DTSTAMP:20260421T055804Z
DTSTART;VALUE=DATE:20151015
SUMMARY:QUAMUS 2015 Notification Due
DESCRIPTION:Second Workshop on Quality of Multimedia Services
URL:http://www.wikicfp.com/cfp/servlet/event.showcfp?eventid=45952&copyow
 nerid=66626
UID:cfp526628-N@wikicfp.com
END:VEVENT
BEGIN:VEVENT
DTSTAMP:20260421T055804Z
DTSTART;VALUE=DATE:20151022
SUMMARY:QUAMUS 2015 Final Version Due
DESCRIPTION:Second Workshop on Quality of Multimedia Services
URL:http://www.wikicfp.com/cfp/servlet/event.showcfp?eventid=45952&copyow
 nerid=66626
UID:cfp526628-N@wikicfp.com
END:VEVENT
BEGIN:VEVENT
DTSTAMP:20260421T055804Z
DTSTART;VALUE=DATE:20161129
DTEND;VALUE=DATE:20161203
SUMMARY:MCVIP-AICCSA  2016
DESCRIPTION:Multimedia\, Computer Vision and Image Processing Track of th
 e 13th ACS/IEEE AICCSA 2016
URL:http://www.wikicfp.com/cfp/servlet/event.showcfp?eventid=54544&copyow
 nerid=66626
UID:cfp599185-E@wikicfp.com
END:VEVENT
BEGIN:VEVENT
DTSTAMP:20260421T055804Z
DTSTART;VALUE=DATE:20160615
SUMMARY:MCVIP-AICCSA  2016 Deadline
DESCRIPTION:Multimedia\, Computer Vision and Image Processing Track of th
 e 13th ACS/IEEE AICCSA 2016
URL:http://www.wikicfp.com/cfp/servlet/event.showcfp?eventid=54544&copyow
 nerid=66626
UID:cfp599185-D@wikicfp.com
END:VEVENT
BEGIN:VEVENT
DTSTAMP:20260421T055804Z
DTSTART;VALUE=DATE:20160722
SUMMARY:MCVIP-AICCSA  2016 Notification Due
DESCRIPTION:Multimedia\, Computer Vision and Image Processing Track of th
 e 13th ACS/IEEE AICCSA 2016
URL:http://www.wikicfp.com/cfp/servlet/event.showcfp?eventid=54544&copyow
 nerid=66626
UID:cfp599185-N@wikicfp.com
END:VEVENT
BEGIN:VEVENT
DTSTAMP:20260421T055804Z
DTSTART;VALUE=DATE:20160815
SUMMARY:MCVIP-AICCSA  2016 Final Version Due
DESCRIPTION:Multimedia\, Computer Vision and Image Processing Track of th
 e 13th ACS/IEEE AICCSA 2016
URL:http://www.wikicfp.com/cfp/servlet/event.showcfp?eventid=54544&copyow
 nerid=66626
UID:cfp599185-N@wikicfp.com
END:VEVENT
BEGIN:VEVENT
DTSTAMP:20260421T055804Z
DTSTART;VALUE=DATE:20161127
DTEND;VALUE=DATE:20161202
SUMMARY:QUAMUS 2016
DESCRIPTION:Workshop on Quality of Multimedia Services
URL:http://www.wikicfp.com/cfp/servlet/event.showcfp?eventid=55562&copyow
 nerid=66626
UID:cfp606514-E@wikicfp.com
END:VEVENT
BEGIN:VEVENT
DTSTAMP:20260421T055804Z
DTSTART;VALUE=DATE:20160924
SUMMARY:QUAMUS 2016 Deadline
DESCRIPTION:Workshop on Quality of Multimedia Services
URL:http://www.wikicfp.com/cfp/servlet/event.showcfp?eventid=55562&copyow
 nerid=66626
UID:cfp606514-D@wikicfp.com
END:VEVENT
BEGIN:VEVENT
DTSTAMP:20260421T055804Z
DTSTART;VALUE=DATE:20161017
SUMMARY:QUAMUS 2016 Notification Due
DESCRIPTION:Workshop on Quality of Multimedia Services
URL:http://www.wikicfp.com/cfp/servlet/event.showcfp?eventid=55562&copyow
 nerid=66626
UID:cfp606514-N@wikicfp.com
END:VEVENT
BEGIN:VEVENT
DTSTAMP:20260421T055804Z
DTSTART;VALUE=DATE:20161024
SUMMARY:QUAMUS 2016 Final Version Due
DESCRIPTION:Workshop on Quality of Multimedia Services
URL:http://www.wikicfp.com/cfp/servlet/event.showcfp?eventid=55562&copyow
 nerid=66626
UID:cfp606514-N@wikicfp.com
END:VEVENT
BEGIN:VEVENT
DTSTAMP:20260421T055804Z
DTSTART;VALUE=DATE:20170403
DTEND;VALUE=DATE:20170408
SUMMARY:ACM SAC- COMBI  2017
DESCRIPTION:The First ACM/SAC-COMBI 2017 Technical Track on Advances in C
 OMputational Biomedical Imaging
URL:http://www.wikicfp.com/cfp/servlet/event.showcfp?eventid=57373&copyow
 nerid=66626
UID:cfp619554-E@wikicfp.com
END:VEVENT
BEGIN:VEVENT
DTSTAMP:20260421T055804Z
DTSTART;VALUE=DATE:20160929
SUMMARY:ACM SAC- COMBI  2017 Deadline
DESCRIPTION:The First ACM/SAC-COMBI 2017 Technical Track on Advances in C
 OMputational Biomedical Imaging
URL:http://www.wikicfp.com/cfp/servlet/event.showcfp?eventid=57373&copyow
 nerid=66626
UID:cfp619554-D@wikicfp.com
END:VEVENT
BEGIN:VEVENT
DTSTAMP:20260421T055804Z
DTSTART;VALUE=DATE:20161115
SUMMARY:ACM SAC- COMBI  2017 Notification Due
DESCRIPTION:The First ACM/SAC-COMBI 2017 Technical Track on Advances in C
 OMputational Biomedical Imaging
URL:http://www.wikicfp.com/cfp/servlet/event.showcfp?eventid=57373&copyow
 nerid=66626
UID:cfp619554-N@wikicfp.com
END:VEVENT
BEGIN:VEVENT
DTSTAMP:20260421T055804Z
DTSTART;VALUE=DATE:20161125
SUMMARY:ACM SAC- COMBI  2017 Final Version Due
DESCRIPTION:The First ACM/SAC-COMBI 2017 Technical Track on Advances in C
 OMputational Biomedical Imaging
URL:http://www.wikicfp.com/cfp/servlet/event.showcfp?eventid=57373&copyow
 nerid=66626
UID:cfp619554-N@wikicfp.com
END:VEVENT
BEGIN:VEVENT
DTSTAMP:20260421T055804Z
DTSTART;VALUE=DATE:20170522
DTEND;VALUE=DATE:20170525
SUMMARY:ATSIP 2017
DESCRIPTION:The Third INTERNATIONAL CONFERENCE on ADVANCED TECHNOLOGIES F
 OR SIGNAL& IMAGE PROCESSING
URL:http://www.wikicfp.com/cfp/servlet/event.showcfp?eventid=58906&copyow
 nerid=66626
UID:cfp631275-E@wikicfp.com
END:VEVENT
BEGIN:VEVENT
DTSTAMP:20260421T055804Z
DTSTART;VALUE=DATE:20170228
SUMMARY:ATSIP 2017 Deadline
DESCRIPTION:The Third INTERNATIONAL CONFERENCE on ADVANCED TECHNOLOGIES F
 OR SIGNAL& IMAGE PROCESSING
URL:http://www.wikicfp.com/cfp/servlet/event.showcfp?eventid=58906&copyow
 nerid=66626
UID:cfp631275-D@wikicfp.com
END:VEVENT
BEGIN:VEVENT
DTSTAMP:20260421T055804Z
DTSTART;VALUE=DATE:20170401
SUMMARY:ATSIP 2017 Notification Due
DESCRIPTION:The Third INTERNATIONAL CONFERENCE on ADVANCED TECHNOLOGIES F
 OR SIGNAL& IMAGE PROCESSING
URL:http://www.wikicfp.com/cfp/servlet/event.showcfp?eventid=58906&copyow
 nerid=66626
UID:cfp631275-N@wikicfp.com
END:VEVENT
BEGIN:VEVENT
DTSTAMP:20260421T055804Z
DTSTART;VALUE=DATE:20170415
SUMMARY:ATSIP 2017 Final Version Due
DESCRIPTION:The Third INTERNATIONAL CONFERENCE on ADVANCED TECHNOLOGIES F
 OR SIGNAL& IMAGE PROCESSING
URL:http://www.wikicfp.com/cfp/servlet/event.showcfp?eventid=58906&copyow
 nerid=66626
UID:cfp631275-N@wikicfp.com
END:VEVENT
BEGIN:VEVENT
DTSTAMP:20260421T055804Z
DTSTART;VALUE=DATE:20171204
DTEND;VALUE=DATE:20171208
SUMMARY:QUAMUS 2017
DESCRIPTION:The fourth Workshop on Quality of Multimedia Services
URL:http://www.wikicfp.com/cfp/servlet/event.showcfp?eventid=66463&copyow
 nerid=66626
UID:cfp677801-E@wikicfp.com
END:VEVENT
BEGIN:VEVENT
DTSTAMP:20260421T055804Z
DTSTART;VALUE=DATE:20170827
SUMMARY:QUAMUS 2017 Deadline
DESCRIPTION:The fourth Workshop on Quality of Multimedia Services
URL:http://www.wikicfp.com/cfp/servlet/event.showcfp?eventid=66463&copyow
 nerid=66626
UID:cfp677801-D@wikicfp.com
END:VEVENT
BEGIN:VEVENT
DTSTAMP:20260421T055804Z
DTSTART;VALUE=DATE:20171003
SUMMARY:QUAMUS 2017 Notification Due
DESCRIPTION:The fourth Workshop on Quality of Multimedia Services
URL:http://www.wikicfp.com/cfp/servlet/event.showcfp?eventid=66463&copyow
 nerid=66626
UID:cfp677801-N@wikicfp.com
END:VEVENT
BEGIN:VEVENT
DTSTAMP:20260421T055804Z
DTSTART;VALUE=DATE:20171017
SUMMARY:QUAMUS 2017 Final Version Due
DESCRIPTION:The fourth Workshop on Quality of Multimedia Services
URL:http://www.wikicfp.com/cfp/servlet/event.showcfp?eventid=66463&copyow
 nerid=66626
UID:cfp677801-N@wikicfp.com
END:VEVENT
BEGIN:VEVENT
DTSTAMP:20260421T055804Z
DTSTART;VALUE=DATE:20180409
DTEND;VALUE=DATE:20180414
SUMMARY:ACM/SAC-COMBI 2018
DESCRIPTION:The Second Technical Track on Advances in COMputational Biome
 dical Imaging
URL:http://www.wikicfp.com/cfp/servlet/event.showcfp?eventid=66464&copyow
 nerid=66626
UID:cfp677803-E@wikicfp.com
END:VEVENT
BEGIN:VEVENT
DTSTAMP:20260421T055804Z
DTSTART;VALUE=DATE:20170915
SUMMARY:ACM/SAC-COMBI 2018 Deadline
DESCRIPTION:The Second Technical Track on Advances in COMputational Biome
 dical Imaging
URL:http://www.wikicfp.com/cfp/servlet/event.showcfp?eventid=66464&copyow
 nerid=66626
UID:cfp677803-D@wikicfp.com
END:VEVENT
BEGIN:VEVENT
DTSTAMP:20260421T055804Z
DTSTART;VALUE=DATE:20171110
SUMMARY:ACM/SAC-COMBI 2018 Notification Due
DESCRIPTION:The Second Technical Track on Advances in COMputational Biome
 dical Imaging
URL:http://www.wikicfp.com/cfp/servlet/event.showcfp?eventid=66464&copyow
 nerid=66626
UID:cfp677803-N@wikicfp.com
END:VEVENT
BEGIN:VEVENT
DTSTAMP:20260421T055804Z
DTSTART;VALUE=DATE:20171210
SUMMARY:ACM/SAC-COMBI 2018 Final Version Due
DESCRIPTION:The Second Technical Track on Advances in COMputational Biome
 dical Imaging
URL:http://www.wikicfp.com/cfp/servlet/event.showcfp?eventid=66464&copyow
 nerid=66626
UID:cfp677803-N@wikicfp.com
END:VEVENT
BEGIN:VEVENT
DTSTAMP:20260421T055804Z
DTSTART;VALUE=DATE:20181127
DTEND;VALUE=DATE:20181201
SUMMARY:ISIVC 2018
DESCRIPTION:The 9th International Symposium on Signal\, Image\, Video and
  Communications 
URL:http://www.wikicfp.com/cfp/servlet/event.showcfp?eventid=75905&copyow
 nerid=66626
UID:cfp723912-E@wikicfp.com
END:VEVENT
BEGIN:VEVENT
DTSTAMP:20260421T055804Z
DTSTART;VALUE=DATE:20180722
SUMMARY:ISIVC 2018 Deadline
DESCRIPTION:The 9th International Symposium on Signal\, Image\, Video and
  Communications 
URL:http://www.wikicfp.com/cfp/servlet/event.showcfp?eventid=75905&copyow
 nerid=66626
UID:cfp723912-D@wikicfp.com
END:VEVENT
BEGIN:VEVENT
DTSTAMP:20260421T055804Z
DTSTART;VALUE=DATE:20180910
SUMMARY:ISIVC 2018 Notification Due
DESCRIPTION:The 9th International Symposium on Signal\, Image\, Video and
  Communications 
URL:http://www.wikicfp.com/cfp/servlet/event.showcfp?eventid=75905&copyow
 nerid=66626
UID:cfp723912-N@wikicfp.com
END:VEVENT
BEGIN:VEVENT
DTSTAMP:20260421T055804Z
DTSTART;VALUE=DATE:20181008
SUMMARY:ISIVC 2018 Final Version Due
DESCRIPTION:The 9th International Symposium on Signal\, Image\, Video and
  Communications 
URL:http://www.wikicfp.com/cfp/servlet/event.showcfp?eventid=75905&copyow
 nerid=66626
UID:cfp723912-N@wikicfp.com
END:VEVENT
BEGIN:VEVENT
DTSTAMP:20260421T055804Z
DTSTART;VALUE=DATE:20181126
DTEND;VALUE=DATE:20181130
SUMMARY:SITIS-QUAMUS 2018
DESCRIPTION:The fifth Workshop on Quality of Multimedia Services
URL:http://www.wikicfp.com/cfp/servlet/event.showcfp?eventid=77788&copyow
 nerid=66626
UID:cfp730972-E@wikicfp.com
END:VEVENT
BEGIN:VEVENT
DTSTAMP:20260421T055804Z
DTSTART;VALUE=DATE:20180922
SUMMARY:SITIS-QUAMUS 2018 Deadline
DESCRIPTION:The fifth Workshop on Quality of Multimedia Services
URL:http://www.wikicfp.com/cfp/servlet/event.showcfp?eventid=77788&copyow
 nerid=66626
UID:cfp730972-D@wikicfp.com
END:VEVENT
BEGIN:VEVENT
DTSTAMP:20260421T055804Z
DTSTART;VALUE=DATE:20181021
SUMMARY:SITIS-QUAMUS 2018 Notification Due
DESCRIPTION:The fifth Workshop on Quality of Multimedia Services
URL:http://www.wikicfp.com/cfp/servlet/event.showcfp?eventid=77788&copyow
 nerid=66626
UID:cfp730972-N@wikicfp.com
END:VEVENT
BEGIN:VEVENT
DTSTAMP:20260421T055804Z
DTSTART;VALUE=DATE:20181028
SUMMARY:SITIS-QUAMUS 2018 Final Version Due
DESCRIPTION:The fifth Workshop on Quality of Multimedia Services
URL:http://www.wikicfp.com/cfp/servlet/event.showcfp?eventid=77788&copyow
 nerid=66626
UID:cfp730972-N@wikicfp.com
END:VEVENT
BEGIN:VEVENT
DTSTAMP:20260421T055804Z
DTSTART;VALUE=DATE:20210131
SUMMARY:DELVIC 2020 Deadline
DESCRIPTION: [J. Imaging] Special Issue Deep Learning for Visual Contents
  Processing and Analysis
URL:http://www.wikicfp.com/cfp/servlet/event.showcfp?eventid=107254&copyo
 wnerid=66626
UID:cfp841953-D@wikicfp.com
END:VEVENT
END:VCALENDAR
