BEGIN:VCALENDAR
PRODID:-//WikiCFP//peterleong 1.0//EN
VERSION:2.0
CALSCALE:GREGORIAN
BEGIN:VEVENT
DTSTAMP:20260422T110658Z
DTSTART;VALUE=DATE:20140627
DTEND;VALUE=DATE:20140703
SUMMARY:BigData 2014
DESCRIPTION:The IEEE 2014 3rd International Congress on Big Data
URL:http://www.wikicfp.com/cfp/servlet/event.showcfp?eventid=33003&copyow
 nerid=66547
UID:cfp480049-E@wikicfp.com
END:VEVENT
BEGIN:VEVENT
DTSTAMP:20260422T110658Z
DTSTART;VALUE=DATE:20140131
SUMMARY:BigData 2014 Abstract Due
DESCRIPTION:The IEEE 2014 3rd International Congress on Big Data
URL:http://www.wikicfp.com/cfp/servlet/event.showcfp?eventid=33003&copyow
 nerid=66547
UID:cfp480049-A@wikicfp.com
END:VEVENT
BEGIN:VEVENT
DTSTAMP:20260422T110658Z
DTSTART;VALUE=DATE:20140210
SUMMARY:BigData 2014 Deadline
DESCRIPTION:The IEEE 2014 3rd International Congress on Big Data
URL:http://www.wikicfp.com/cfp/servlet/event.showcfp?eventid=33003&copyow
 nerid=66547
UID:cfp480049-D@wikicfp.com
END:VEVENT
BEGIN:VEVENT
DTSTAMP:20260422T110658Z
DTSTART;VALUE=DATE:20140315
SUMMARY:BigData 2014 Notification Due
DESCRIPTION:The IEEE 2014 3rd International Congress on Big Data
URL:http://www.wikicfp.com/cfp/servlet/event.showcfp?eventid=33003&copyow
 nerid=66547
UID:cfp480049-N@wikicfp.com
END:VEVENT
BEGIN:VEVENT
DTSTAMP:20260422T110658Z
DTSTART;VALUE=DATE:20140331
SUMMARY:BigData 2014 Final Version Due
DESCRIPTION:The IEEE 2014 3rd International Congress on Big Data
URL:http://www.wikicfp.com/cfp/servlet/event.showcfp?eventid=33003&copyow
 nerid=66547
UID:cfp480049-N@wikicfp.com
END:VEVENT
BEGIN:VEVENT
DTSTAMP:20260422T110658Z
DTSTART;VALUE=DATE:20140909
DTEND;VALUE=DATE:20140913
SUMMARY:BigDataComputing 2014
DESCRIPTION:EuroMPI Workshop: BigDataComputing'2014
URL:http://www.wikicfp.com/cfp/servlet/event.showcfp?eventid=37992&copyow
 nerid=66547
UID:cfp480048-E@wikicfp.com
END:VEVENT
BEGIN:VEVENT
DTSTAMP:20260422T110658Z
DTSTART;VALUE=DATE:20140601
SUMMARY:BigDataComputing 2014 Deadline
DESCRIPTION:EuroMPI Workshop: BigDataComputing'2014
URL:http://www.wikicfp.com/cfp/servlet/event.showcfp?eventid=37992&copyow
 nerid=66547
UID:cfp480048-D@wikicfp.com
END:VEVENT
BEGIN:VEVENT
DTSTAMP:20260422T110658Z
DTSTART;VALUE=DATE:20140615
SUMMARY:BigDataComputing 2014 Notification Due
DESCRIPTION:EuroMPI Workshop: BigDataComputing'2014
URL:http://www.wikicfp.com/cfp/servlet/event.showcfp?eventid=37992&copyow
 nerid=66547
UID:cfp480048-N@wikicfp.com
END:VEVENT
BEGIN:VEVENT
DTSTAMP:20260422T110658Z
DTSTART;VALUE=DATE:20140630
SUMMARY:BigDataComputing 2014 Final Version Due
DESCRIPTION:EuroMPI Workshop: BigDataComputing'2014
URL:http://www.wikicfp.com/cfp/servlet/event.showcfp?eventid=37992&copyow
 nerid=66547
UID:cfp480048-N@wikicfp.com
END:VEVENT
BEGIN:VEVENT
DTSTAMP:20260422T110658Z
DTSTART;VALUE=DATE:20141029
DTEND;VALUE=DATE:20141031
SUMMARY:CEWIT 2014
DESCRIPTION:The 11th International Conference & Expo on Emerging Technolo
 gies for a Smarter World
URL:http://www.wikicfp.com/cfp/servlet/event.showcfp?eventid=37928&copyow
 nerid=66547
UID:cfp454980-E@wikicfp.com
END:VEVENT
BEGIN:VEVENT
DTSTAMP:20260422T110658Z
DTSTART;VALUE=DATE:20140701
SUMMARY:CEWIT 2014 Deadline
DESCRIPTION:The 11th International Conference & Expo on Emerging Technolo
 gies for a Smarter World
URL:http://www.wikicfp.com/cfp/servlet/event.showcfp?eventid=37928&copyow
 nerid=66547
UID:cfp454980-D@wikicfp.com
END:VEVENT
BEGIN:VEVENT
DTSTAMP:20260422T110658Z
DTSTART;VALUE=DATE:20140801
SUMMARY:CEWIT 2014 Notification Due
DESCRIPTION:The 11th International Conference & Expo on Emerging Technolo
 gies for a Smarter World
URL:http://www.wikicfp.com/cfp/servlet/event.showcfp?eventid=37928&copyow
 nerid=66547
UID:cfp454980-N@wikicfp.com
END:VEVENT
BEGIN:VEVENT
DTSTAMP:20260422T110658Z
DTSTART;VALUE=DATE:20140901
SUMMARY:CEWIT 2014 Final Version Due
DESCRIPTION:The 11th International Conference & Expo on Emerging Technolo
 gies for a Smarter World
URL:http://www.wikicfp.com/cfp/servlet/event.showcfp?eventid=37928&copyow
 nerid=66547
UID:cfp454980-N@wikicfp.com
END:VEVENT
BEGIN:VEVENT
DTSTAMP:20260422T110658Z
DTSTART;VALUE=DATE:20141204
DTEND;VALUE=DATE:20141207
SUMMARY:SIT 2014
DESCRIPTION:International Conference on Software Intelligence Technologie
 s and Applications
URL:http://www.wikicfp.com/cfp/servlet/event.showcfp?eventid=38447&copyow
 nerid=66547
UID:cfp454982-E@wikicfp.com
END:VEVENT
BEGIN:VEVENT
DTSTAMP:20260422T110658Z
DTSTART;VALUE=DATE:20140703
SUMMARY:SIT 2014 Deadline
DESCRIPTION:International Conference on Software Intelligence Technologie
 s and Applications
URL:http://www.wikicfp.com/cfp/servlet/event.showcfp?eventid=38447&copyow
 nerid=66547
UID:cfp454982-D@wikicfp.com
END:VEVENT
BEGIN:VEVENT
DTSTAMP:20260422T110658Z
DTSTART;VALUE=DATE:20140915
SUMMARY:SIT 2014 Notification Due
DESCRIPTION:International Conference on Software Intelligence Technologie
 s and Applications
URL:http://www.wikicfp.com/cfp/servlet/event.showcfp?eventid=38447&copyow
 nerid=66547
UID:cfp454982-N@wikicfp.com
END:VEVENT
BEGIN:VEVENT
DTSTAMP:20260422T110658Z
DTSTART;VALUE=DATE:20140715
SUMMARY:IJSSC 2014 Deadline
DESCRIPTION:Special Issue on: Future Internet: Services and Data Manageme
 nt. International Journal of Space-Based and Situated Computing\,  Inder
 science Publishers.
URL:http://www.wikicfp.com/cfp/servlet/event.showcfp?eventid=37820&copyow
 nerid=66547
UID:cfp454979-D@wikicfp.com
END:VEVENT
BEGIN:VEVENT
DTSTAMP:20260422T110658Z
DTSTART;VALUE=DATE:20141115
SUMMARY:IJSSC 2014 Notification Due
DESCRIPTION:Special Issue on: Future Internet: Services and Data Manageme
 nt. International Journal of Space-Based and Situated Computing\,  Inder
 science Publishers.
URL:http://www.wikicfp.com/cfp/servlet/event.showcfp?eventid=37820&copyow
 nerid=66547
UID:cfp454979-N@wikicfp.com
END:VEVENT
BEGIN:VEVENT
DTSTAMP:20260422T110658Z
DTSTART;VALUE=DATE:20141215
SUMMARY:IJSSC 2014 Final Version Due
DESCRIPTION:Special Issue on: Future Internet: Services and Data Manageme
 nt. International Journal of Space-Based and Situated Computing\,  Inder
 science Publishers.
URL:http://www.wikicfp.com/cfp/servlet/event.showcfp?eventid=37820&copyow
 nerid=66547
UID:cfp454979-N@wikicfp.com
END:VEVENT
BEGIN:VEVENT
DTSTAMP:20260422T110658Z
DTSTART;VALUE=DATE:20141208
DTEND;VALUE=DATE:20141212
SUMMARY:BigData Workshop / UCC 2014
DESCRIPTION:Big Data\, Intelligence Management and Analytics Workshop (Pa
 rt of the 7th IEEE/ACM International Conference on Utility and Cloud Com
 puting (UCC 2014))
URL:http://www.wikicfp.com/cfp/servlet/event.showcfp?eventid=38950&copyow
 nerid=66547
UID:cfp480051-E@wikicfp.com
END:VEVENT
BEGIN:VEVENT
DTSTAMP:20260422T110658Z
DTSTART;VALUE=DATE:20140718
SUMMARY:BigData Workshop / UCC 2014 Deadline
DESCRIPTION:Big Data\, Intelligence Management and Analytics Workshop (Pa
 rt of the 7th IEEE/ACM International Conference on Utility and Cloud Com
 puting (UCC 2014))
URL:http://www.wikicfp.com/cfp/servlet/event.showcfp?eventid=38950&copyow
 nerid=66547
UID:cfp480051-D@wikicfp.com
END:VEVENT
BEGIN:VEVENT
DTSTAMP:20260422T110658Z
DTSTART;VALUE=DATE:20140930
SUMMARY:Springer/Annals of Telecommunications 2014 Deadline
DESCRIPTION:Special Issue on Middleware for Internet distribution in the 
 context of cloud computing and the Internet of Things
URL:http://www.wikicfp.com/cfp/servlet/event.showcfp?eventid=38110&copyow
 nerid=66547
UID:cfp454981-D@wikicfp.com
END:VEVENT
BEGIN:VEVENT
DTSTAMP:20260422T110658Z
DTSTART;VALUE=DATE:20141117
DTEND;VALUE=DATE:20141120
SUMMARY:BigData 2014
DESCRIPTION:The International Conference on Data Mining\, Internet Comput
 ing\, and Big Data (BigData2014)
URL:http://www.wikicfp.com/cfp/servlet/event.showcfp?eventid=34367&copyow
 nerid=66547
UID:cfp480047-E@wikicfp.com
END:VEVENT
BEGIN:VEVENT
DTSTAMP:20260422T110658Z
DTSTART;VALUE=DATE:20141017
SUMMARY:BigData 2014 Deadline
DESCRIPTION:The International Conference on Data Mining\, Internet Comput
 ing\, and Big Data (BigData2014)
URL:http://www.wikicfp.com/cfp/servlet/event.showcfp?eventid=34367&copyow
 nerid=66547
UID:cfp480047-D@wikicfp.com
END:VEVENT
BEGIN:VEVENT
DTSTAMP:20260422T110658Z
DTSTART;VALUE=DATE:20141027
SUMMARY:BigData 2014 Notification Due
DESCRIPTION:The International Conference on Data Mining\, Internet Comput
 ing\, and Big Data (BigData2014)
URL:http://www.wikicfp.com/cfp/servlet/event.showcfp?eventid=34367&copyow
 nerid=66547
UID:cfp480047-N@wikicfp.com
END:VEVENT
BEGIN:VEVENT
DTSTAMP:20260422T110658Z
DTSTART;VALUE=DATE:20141107
SUMMARY:BigData 2014 Final Version Due
DESCRIPTION:The International Conference on Data Mining\, Internet Comput
 ing\, and Big Data (BigData2014)
URL:http://www.wikicfp.com/cfp/servlet/event.showcfp?eventid=34367&copyow
 nerid=66547
UID:cfp480047-N@wikicfp.com
END:VEVENT
BEGIN:VEVENT
DTSTAMP:20260422T110658Z
DTSTART;VALUE=DATE:20160419
DTEND;VALUE=DATE:20160423
SUMMARY:PAKDD 2016
DESCRIPTION:The 20th Pacific-Asia Conference on Knowledge Discovery and D
 ata Mining
URL:http://www.wikicfp.com/cfp/servlet/event.showcfp?eventid=47481&copyow
 nerid=66547
UID:cfp548932-E@wikicfp.com
END:VEVENT
BEGIN:VEVENT
DTSTAMP:20260422T110658Z
DTSTART;VALUE=DATE:20151002
SUMMARY:PAKDD 2016 Deadline
DESCRIPTION:The 20th Pacific-Asia Conference on Knowledge Discovery and D
 ata Mining
URL:http://www.wikicfp.com/cfp/servlet/event.showcfp?eventid=47481&copyow
 nerid=66547
UID:cfp548932-D@wikicfp.com
END:VEVENT
BEGIN:VEVENT
DTSTAMP:20260422T110658Z
DTSTART;VALUE=DATE:20151211
SUMMARY:PAKDD 2016 Notification Due
DESCRIPTION:The 20th Pacific-Asia Conference on Knowledge Discovery and D
 ata Mining
URL:http://www.wikicfp.com/cfp/servlet/event.showcfp?eventid=47481&copyow
 nerid=66547
UID:cfp548932-N@wikicfp.com
END:VEVENT
BEGIN:VEVENT
DTSTAMP:20260422T110658Z
DTSTART;VALUE=DATE:20160115
SUMMARY:PAKDD 2016 Final Version Due
DESCRIPTION:The 20th Pacific-Asia Conference on Knowledge Discovery and D
 ata Mining
URL:http://www.wikicfp.com/cfp/servlet/event.showcfp?eventid=47481&copyow
 nerid=66547
UID:cfp548932-N@wikicfp.com
END:VEVENT
BEGIN:VEVENT
DTSTAMP:20260422T110658Z
DTSTART;VALUE=DATE:20160516
DTEND;VALUE=DATE:20160521
SUMMARY:ICDE 2016
DESCRIPTION:International Conference on Data Engineering
URL:http://www.wikicfp.com/cfp/servlet/event.showcfp?eventid=46232&copyow
 nerid=66547
UID:cfp548933-E@wikicfp.com
END:VEVENT
BEGIN:VEVENT
DTSTAMP:20260422T110658Z
DTSTART;VALUE=DATE:20151012
SUMMARY:ICDE 2016 Deadline
DESCRIPTION:International Conference on Data Engineering
URL:http://www.wikicfp.com/cfp/servlet/event.showcfp?eventid=46232&copyow
 nerid=66547
UID:cfp548933-D@wikicfp.com
END:VEVENT
BEGIN:VEVENT
DTSTAMP:20260422T110658Z
DTSTART;VALUE=DATE:20151220
SUMMARY:ICDE 2016 Notification Due
DESCRIPTION:International Conference on Data Engineering
URL:http://www.wikicfp.com/cfp/servlet/event.showcfp?eventid=46232&copyow
 nerid=66547
UID:cfp548933-N@wikicfp.com
END:VEVENT
BEGIN:VEVENT
DTSTAMP:20260422T110658Z
DTSTART;VALUE=DATE:20160125
SUMMARY:ICDE 2016 Final Version Due
DESCRIPTION:International Conference on Data Engineering
URL:http://www.wikicfp.com/cfp/servlet/event.showcfp?eventid=46232&copyow
 nerid=66547
UID:cfp548933-N@wikicfp.com
END:VEVENT
BEGIN:VEVENT
DTSTAMP:20260422T110658Z
DTSTART;VALUE=DATE:20160423
DTEND;VALUE=DATE:20160426
SUMMARY:IoTBD  2016
DESCRIPTION:The International Conference on Internet of Things and Big Da
 ta â IoTBD 2016
URL:http://www.wikicfp.com/cfp/servlet/event.showcfp?eventid=47644&copyow
 nerid=66547
UID:cfp548937-E@wikicfp.com
END:VEVENT
BEGIN:VEVENT
DTSTAMP:20260422T110658Z
DTSTART;VALUE=DATE:20151028
SUMMARY:IoTBD  2016 Deadline
DESCRIPTION:The International Conference on Internet of Things and Big Da
 ta â IoTBD 2016
URL:http://www.wikicfp.com/cfp/servlet/event.showcfp?eventid=47644&copyow
 nerid=66547
UID:cfp548937-D@wikicfp.com
END:VEVENT
BEGIN:VEVENT
DTSTAMP:20260422T110658Z
DTSTART;VALUE=DATE:20151028
SUMMARY:IoTBD  2016 Notification Due
DESCRIPTION:The International Conference on Internet of Things and Big Da
 ta â IoTBD 2016
URL:http://www.wikicfp.com/cfp/servlet/event.showcfp?eventid=47644&copyow
 nerid=66547
UID:cfp548937-N@wikicfp.com
END:VEVENT
BEGIN:VEVENT
DTSTAMP:20260422T110658Z
DTSTART;VALUE=DATE:20151028
SUMMARY:IoTBD  2016 Final Version Due
DESCRIPTION:The International Conference on Internet of Things and Big Da
 ta â IoTBD 2016
URL:http://www.wikicfp.com/cfp/servlet/event.showcfp?eventid=47644&copyow
 nerid=66547
UID:cfp548937-N@wikicfp.com
END:VEVENT
BEGIN:VEVENT
DTSTAMP:20260422T110658Z
DTSTART;VALUE=DATE:20160709
DTEND;VALUE=DATE:20160722
SUMMARY:MLDM 2016
DESCRIPTION:Machine Learning and Data Mining in Pattern Recognition
URL:http://www.wikicfp.com/cfp/servlet/event.showcfp?eventid=46140&copyow
 nerid=66547
UID:cfp548934-E@wikicfp.com
END:VEVENT
BEGIN:VEVENT
DTSTAMP:20260422T110658Z
DTSTART;VALUE=DATE:20160116
SUMMARY:MLDM 2016 Deadline
DESCRIPTION:Machine Learning and Data Mining in Pattern Recognition
URL:http://www.wikicfp.com/cfp/servlet/event.showcfp?eventid=46140&copyow
 nerid=66547
UID:cfp548934-D@wikicfp.com
END:VEVENT
BEGIN:VEVENT
DTSTAMP:20260422T110658Z
DTSTART;VALUE=DATE:20160318
SUMMARY:MLDM 2016 Notification Due
DESCRIPTION:Machine Learning and Data Mining in Pattern Recognition
URL:http://www.wikicfp.com/cfp/servlet/event.showcfp?eventid=46140&copyow
 nerid=66547
UID:cfp548934-N@wikicfp.com
END:VEVENT
BEGIN:VEVENT
DTSTAMP:20260422T110658Z
DTSTART;VALUE=DATE:20160505
SUMMARY:MLDM 2016 Final Version Due
DESCRIPTION:Machine Learning and Data Mining in Pattern Recognition
URL:http://www.wikicfp.com/cfp/servlet/event.showcfp?eventid=46140&copyow
 nerid=66547
UID:cfp548934-N@wikicfp.com
END:VEVENT
BEGIN:VEVENT
DTSTAMP:20260422T110658Z
DTSTART;VALUE=DATE:20160531
DTEND;VALUE=DATE:20160604
SUMMARY:AI 2016
DESCRIPTION:29th Canadian Conference on Artificial Intelligence
URL:http://www.wikicfp.com/cfp/servlet/event.showcfp?eventid=47931&copyow
 nerid=66547
UID:cfp548936-E@wikicfp.com
END:VEVENT
BEGIN:VEVENT
DTSTAMP:20260422T110658Z
DTSTART;VALUE=DATE:20160122
SUMMARY:AI 2016 Deadline
DESCRIPTION:29th Canadian Conference on Artificial Intelligence
URL:http://www.wikicfp.com/cfp/servlet/event.showcfp?eventid=47931&copyow
 nerid=66547
UID:cfp548936-D@wikicfp.com
END:VEVENT
BEGIN:VEVENT
DTSTAMP:20260422T110658Z
DTSTART;VALUE=DATE:20160222
SUMMARY:AI 2016 Notification Due
DESCRIPTION:29th Canadian Conference on Artificial Intelligence
URL:http://www.wikicfp.com/cfp/servlet/event.showcfp?eventid=47931&copyow
 nerid=66547
UID:cfp548936-N@wikicfp.com
END:VEVENT
BEGIN:VEVENT
DTSTAMP:20260422T110658Z
DTSTART;VALUE=DATE:20160301
SUMMARY:AI 2016 Final Version Due
DESCRIPTION:29th Canadian Conference on Artificial Intelligence
URL:http://www.wikicfp.com/cfp/servlet/event.showcfp?eventid=47931&copyow
 nerid=66547
UID:cfp548936-N@wikicfp.com
END:VEVENT
BEGIN:VEVENT
DTSTAMP:20260422T110658Z
DTSTART;VALUE=DATE:20160503
DTEND;VALUE=DATE:20160506
SUMMARY:Big Data  2016
DESCRIPTION:International Conference on Big Data
URL:http://www.wikicfp.com/cfp/servlet/event.showcfp?eventid=45715&copyow
 nerid=66547
UID:cfp548935-E@wikicfp.com
END:VEVENT
BEGIN:VEVENT
DTSTAMP:20260422T110658Z
DTSTART;VALUE=DATE:20160403
SUMMARY:Big Data  2016 Deadline
DESCRIPTION:International Conference on Big Data
URL:http://www.wikicfp.com/cfp/servlet/event.showcfp?eventid=45715&copyow
 nerid=66547
UID:cfp548935-D@wikicfp.com
END:VEVENT
END:VCALENDAR
