BEGIN:VCALENDAR
PRODID:-//WikiCFP//chi_nitk 1.0//EN
VERSION:2.0
CALSCALE:GREGORIAN
BEGIN:VEVENT
DTSTAMP:20260425T013541Z
DTSTART;VALUE=DATE:20141101
DTEND;VALUE=DATE:20141106
SUMMARY:ACCV 2014
DESCRIPTION:Asian Conference on Computer Vision
URL:http://www.wikicfp.com/cfp/servlet/event.showcfp?eventid=31664&copyow
 nerid=66271
UID:cfp453330-E@wikicfp.com
END:VEVENT
BEGIN:VEVENT
DTSTAMP:20260425T013541Z
DTSTART;VALUE=DATE:20140620
SUMMARY:ACCV 2014 Deadline
DESCRIPTION:Asian Conference on Computer Vision
URL:http://www.wikicfp.com/cfp/servlet/event.showcfp?eventid=31664&copyow
 nerid=66271
UID:cfp453330-D@wikicfp.com
END:VEVENT
BEGIN:VEVENT
DTSTAMP:20260425T013541Z
DTSTART;VALUE=DATE:20140905
SUMMARY:ACCV 2014 Notification Due
DESCRIPTION:Asian Conference on Computer Vision
URL:http://www.wikicfp.com/cfp/servlet/event.showcfp?eventid=31664&copyow
 nerid=66271
UID:cfp453330-N@wikicfp.com
END:VEVENT
BEGIN:VEVENT
DTSTAMP:20260425T013541Z
DTSTART;VALUE=DATE:20141005
SUMMARY:ACCV 2014 Final Version Due
DESCRIPTION:Asian Conference on Computer Vision
URL:http://www.wikicfp.com/cfp/servlet/event.showcfp?eventid=31664&copyow
 nerid=66271
UID:cfp453330-N@wikicfp.com
END:VEVENT
BEGIN:VEVENT
DTSTAMP:20260425T013541Z
DTSTART;VALUE=DATE:20141119
DTEND;VALUE=DATE:20141122
SUMMARY:ICMV 2014
DESCRIPTION:2014 The 7th International Conference on Machine Vision
URL:http://www.wikicfp.com/cfp/servlet/event.showcfp?eventid=38365&copyow
 nerid=66271
UID:cfp453331-E@wikicfp.com
END:VEVENT
BEGIN:VEVENT
DTSTAMP:20260425T013541Z
DTSTART;VALUE=DATE:20140910
SUMMARY:ICMV 2014 Deadline
DESCRIPTION:2014 The 7th International Conference on Machine Vision
URL:http://www.wikicfp.com/cfp/servlet/event.showcfp?eventid=38365&copyow
 nerid=66271
UID:cfp453331-D@wikicfp.com
END:VEVENT
BEGIN:VEVENT
DTSTAMP:20260425T013541Z
DTSTART;VALUE=DATE:20140930
SUMMARY:ICMV 2014 Notification Due
DESCRIPTION:2014 The 7th International Conference on Machine Vision
URL:http://www.wikicfp.com/cfp/servlet/event.showcfp?eventid=38365&copyow
 nerid=66271
UID:cfp453331-N@wikicfp.com
END:VEVENT
BEGIN:VEVENT
DTSTAMP:20260425T013541Z
DTSTART;VALUE=DATE:20141015
SUMMARY:ICMV 2014 Final Version Due
DESCRIPTION:2014 The 7th International Conference on Machine Vision
URL:http://www.wikicfp.com/cfp/servlet/event.showcfp?eventid=38365&copyow
 nerid=66271
UID:cfp453331-N@wikicfp.com
END:VEVENT
END:VCALENDAR
