BEGIN:VCALENDAR
PRODID:-//WikiCFP//Prajamol 1.0//EN
VERSION:2.0
CALSCALE:GREGORIAN
BEGIN:VEVENT
DTSTAMP:20260419T231424Z
DTSTART;VALUE=DATE:20140913
DTEND;VALUE=DATE:20140915
SUMMARY:CoSIT 2014
DESCRIPTION:First International Conference on Computer Science and Inform
 ation Technology
URL:http://www.wikicfp.com/cfp/servlet/event.showcfp?eventid=38677&copyow
 nerid=65264
UID:cfp465236-E@wikicfp.com
END:VEVENT
BEGIN:VEVENT
DTSTAMP:20260419T231424Z
DTSTART;VALUE=DATE:20140805
SUMMARY:CoSIT 2014 Deadline
DESCRIPTION:First International Conference on Computer Science and Inform
 ation Technology
URL:http://www.wikicfp.com/cfp/servlet/event.showcfp?eventid=38677&copyow
 nerid=65264
UID:cfp465236-D@wikicfp.com
END:VEVENT
BEGIN:VEVENT
DTSTAMP:20260419T231424Z
DTSTART;VALUE=DATE:20140905
SUMMARY:CoSIT 2014 Notification Due
DESCRIPTION:First International Conference on Computer Science and Inform
 ation Technology
URL:http://www.wikicfp.com/cfp/servlet/event.showcfp?eventid=38677&copyow
 nerid=65264
UID:cfp465236-N@wikicfp.com
END:VEVENT
BEGIN:VEVENT
DTSTAMP:20260419T231424Z
DTSTART;VALUE=DATE:20140908
SUMMARY:CoSIT 2014 Final Version Due
DESCRIPTION:First International Conference on Computer Science and Inform
 ation Technology
URL:http://www.wikicfp.com/cfp/servlet/event.showcfp?eventid=38677&copyow
 nerid=65264
UID:cfp465236-N@wikicfp.com
END:VEVENT
BEGIN:VEVENT
DTSTAMP:20260419T231424Z
DTSTART;VALUE=DATE:20141202
DTEND;VALUE=DATE:20141205
SUMMARY:DATICS-ICCNT 2014
DESCRIPTION:DATICS workshop in the 2nd International Conference on Comput
 ational and Network Technologies 2014 (ICCNT 2014)
URL:http://www.wikicfp.com/cfp/servlet/event.showcfp?eventid=38119&copyow
 nerid=65264
UID:cfp465240-E@wikicfp.com
END:VEVENT
BEGIN:VEVENT
DTSTAMP:20260419T231424Z
DTSTART;VALUE=DATE:20140815
SUMMARY:DATICS-ICCNT 2014 Deadline
DESCRIPTION:DATICS workshop in the 2nd International Conference on Comput
 ational and Network Technologies 2014 (ICCNT 2014)
URL:http://www.wikicfp.com/cfp/servlet/event.showcfp?eventid=38119&copyow
 nerid=65264
UID:cfp465240-D@wikicfp.com
END:VEVENT
BEGIN:VEVENT
DTSTAMP:20260419T231424Z
DTSTART;VALUE=DATE:20140904
SUMMARY:DATICS-ICCNT 2014 Notification Due
DESCRIPTION:DATICS workshop in the 2nd International Conference on Comput
 ational and Network Technologies 2014 (ICCNT 2014)
URL:http://www.wikicfp.com/cfp/servlet/event.showcfp?eventid=38119&copyow
 nerid=65264
UID:cfp465240-N@wikicfp.com
END:VEVENT
BEGIN:VEVENT
DTSTAMP:20260419T231424Z
DTSTART;VALUE=DATE:20141110
SUMMARY:DATICS-ICCNT 2014 Final Version Due
DESCRIPTION:DATICS workshop in the 2nd International Conference on Comput
 ational and Network Technologies 2014 (ICCNT 2014)
URL:http://www.wikicfp.com/cfp/servlet/event.showcfp?eventid=38119&copyow
 nerid=65264
UID:cfp465240-N@wikicfp.com
END:VEVENT
BEGIN:VEVENT
DTSTAMP:20260419T231424Z
DTSTART;VALUE=DATE:20141206
DTEND;VALUE=DATE:20141208
SUMMARY:ICCCI 2014
DESCRIPTION:2014 5th International Conference on Computer and Computation
 al Intelligence
URL:http://www.wikicfp.com/cfp/servlet/event.showcfp?eventid=37291&copyow
 nerid=65264
UID:cfp465242-E@wikicfp.com
END:VEVENT
BEGIN:VEVENT
DTSTAMP:20260419T231424Z
DTSTART;VALUE=DATE:20140920
SUMMARY:ICCCI 2014 Deadline
DESCRIPTION:2014 5th International Conference on Computer and Computation
 al Intelligence
URL:http://www.wikicfp.com/cfp/servlet/event.showcfp?eventid=37291&copyow
 nerid=65264
UID:cfp465242-D@wikicfp.com
END:VEVENT
BEGIN:VEVENT
DTSTAMP:20260419T231424Z
DTSTART;VALUE=DATE:20141010
SUMMARY:ICCCI 2014 Notification Due
DESCRIPTION:2014 5th International Conference on Computer and Computation
 al Intelligence
URL:http://www.wikicfp.com/cfp/servlet/event.showcfp?eventid=37291&copyow
 nerid=65264
UID:cfp465242-N@wikicfp.com
END:VEVENT
BEGIN:VEVENT
DTSTAMP:20260419T231424Z
DTSTART;VALUE=DATE:20141025
SUMMARY:ICCCI 2014 Final Version Due
DESCRIPTION:2014 5th International Conference on Computer and Computation
 al Intelligence
URL:http://www.wikicfp.com/cfp/servlet/event.showcfp?eventid=37291&copyow
 nerid=65264
UID:cfp465242-N@wikicfp.com
END:VEVENT
BEGIN:VEVENT
DTSTAMP:20260419T231424Z
DTSTART;VALUE=DATE:20141226
DTEND;VALUE=DATE:20141229
SUMMARY:WCSE -Winter 2014
DESCRIPTION:2014 The 4th International Workshop on Computer Science and E
 ngineering-Winter
URL:http://www.wikicfp.com/cfp/servlet/event.showcfp?eventid=39784&copyow
 nerid=65264
UID:cfp465241-E@wikicfp.com
END:VEVENT
BEGIN:VEVENT
DTSTAMP:20260419T231424Z
DTSTART;VALUE=DATE:20141020
SUMMARY:WCSE -Winter 2014 Deadline
DESCRIPTION:2014 The 4th International Workshop on Computer Science and E
 ngineering-Winter
URL:http://www.wikicfp.com/cfp/servlet/event.showcfp?eventid=39784&copyow
 nerid=65264
UID:cfp465241-D@wikicfp.com
END:VEVENT
BEGIN:VEVENT
DTSTAMP:20260419T231424Z
DTSTART;VALUE=DATE:20141110
SUMMARY:WCSE -Winter 2014 Notification Due
DESCRIPTION:2014 The 4th International Workshop on Computer Science and E
 ngineering-Winter
URL:http://www.wikicfp.com/cfp/servlet/event.showcfp?eventid=39784&copyow
 nerid=65264
UID:cfp465241-N@wikicfp.com
END:VEVENT
BEGIN:VEVENT
DTSTAMP:20260419T231424Z
DTSTART;VALUE=DATE:20141125
SUMMARY:WCSE -Winter 2014 Final Version Due
DESCRIPTION:2014 The 4th International Workshop on Computer Science and E
 ngineering-Winter
URL:http://www.wikicfp.com/cfp/servlet/event.showcfp?eventid=39784&copyow
 nerid=65264
UID:cfp465241-N@wikicfp.com
END:VEVENT
BEGIN:VEVENT
DTSTAMP:20260419T231424Z
DTSTART;VALUE=DATE:20150608
DTEND;VALUE=DATE:20150613
SUMMARY:IEEE ICC Wokshop on CPS/IoT-Security 2015
DESCRIPTION:The First IEEE International Workshop on Security and Privacy
  for Internet of Things and Cyber-Physical Systems in conjunction with I
 EEE ICC 2015
URL:http://www.wikicfp.com/cfp/servlet/event.showcfp?eventid=40712&copyow
 nerid=65264
UID:cfp528131-E@wikicfp.com
END:VEVENT
BEGIN:VEVENT
DTSTAMP:20260419T231424Z
DTSTART;VALUE=DATE:20150131
SUMMARY:IEEE ICC Wokshop on CPS/IoT-Security 2015 Deadline
DESCRIPTION:The First IEEE International Workshop on Security and Privacy
  for Internet of Things and Cyber-Physical Systems in conjunction with I
 EEE ICC 2015
URL:http://www.wikicfp.com/cfp/servlet/event.showcfp?eventid=40712&copyow
 nerid=65264
UID:cfp528131-D@wikicfp.com
END:VEVENT
BEGIN:VEVENT
DTSTAMP:20260419T231424Z
DTSTART;VALUE=DATE:20150215
SUMMARY:IEEE ICC Wokshop on CPS/IoT-Security 2015 Notification Due
DESCRIPTION:The First IEEE International Workshop on Security and Privacy
  for Internet of Things and Cyber-Physical Systems in conjunction with I
 EEE ICC 2015
URL:http://www.wikicfp.com/cfp/servlet/event.showcfp?eventid=40712&copyow
 nerid=65264
UID:cfp528131-N@wikicfp.com
END:VEVENT
BEGIN:VEVENT
DTSTAMP:20260419T231424Z
DTSTART;VALUE=DATE:20150228
SUMMARY:IEEE ICC Wokshop on CPS/IoT-Security 2015 Final Version Due
DESCRIPTION:The First IEEE International Workshop on Security and Privacy
  for Internet of Things and Cyber-Physical Systems in conjunction with I
 EEE ICC 2015
URL:http://www.wikicfp.com/cfp/servlet/event.showcfp?eventid=40712&copyow
 nerid=65264
UID:cfp528131-N@wikicfp.com
END:VEVENT
BEGIN:VEVENT
DTSTAMP:20260419T231424Z
DTSTART;VALUE=DATE:20150907
DTEND;VALUE=DATE:20150908
SUMMARY:SANCS 2015
DESCRIPTION:1st International Workshop on Software Architectures for Next
 -generation Cyber-physical Systems
URL:http://www.wikicfp.com/cfp/servlet/event.showcfp?eventid=44872&copyow
 nerid=65264
UID:cfp528132-E@wikicfp.com
END:VEVENT
BEGIN:VEVENT
DTSTAMP:20260419T231424Z
DTSTART;VALUE=DATE:20150608
SUMMARY:SANCS 2015 Deadline
DESCRIPTION:1st International Workshop on Software Architectures for Next
 -generation Cyber-physical Systems
URL:http://www.wikicfp.com/cfp/servlet/event.showcfp?eventid=44872&copyow
 nerid=65264
UID:cfp528132-D@wikicfp.com
END:VEVENT
BEGIN:VEVENT
DTSTAMP:20260419T231424Z
DTSTART;VALUE=DATE:20150619
SUMMARY:SANCS 2015 Notification Due
DESCRIPTION:1st International Workshop on Software Architectures for Next
 -generation Cyber-physical Systems
URL:http://www.wikicfp.com/cfp/servlet/event.showcfp?eventid=44872&copyow
 nerid=65264
UID:cfp528132-N@wikicfp.com
END:VEVENT
BEGIN:VEVENT
DTSTAMP:20260419T231424Z
DTSTART;VALUE=DATE:20150629
SUMMARY:SANCS 2015 Final Version Due
DESCRIPTION:1st International Workshop on Software Architectures for Next
 -generation Cyber-physical Systems
URL:http://www.wikicfp.com/cfp/servlet/event.showcfp?eventid=44872&copyow
 nerid=65264
UID:cfp528132-N@wikicfp.com
END:VEVENT
BEGIN:VEVENT
DTSTAMP:20260419T231424Z
DTSTART;VALUE=DATE:20151008
DTEND;VALUE=DATE:20151009
SUMMARY:CyPhy 2015
DESCRIPTION:5th International Workshop on Cyber Physical Systems
URL:http://www.wikicfp.com/cfp/servlet/event.showcfp?eventid=45356&copyow
 nerid=65264
UID:cfp528134-E@wikicfp.com
END:VEVENT
BEGIN:VEVENT
DTSTAMP:20260419T231424Z
DTSTART;VALUE=DATE:20150610
SUMMARY:CyPhy 2015 Deadline
DESCRIPTION:5th International Workshop on Cyber Physical Systems
URL:http://www.wikicfp.com/cfp/servlet/event.showcfp?eventid=45356&copyow
 nerid=65264
UID:cfp528134-D@wikicfp.com
END:VEVENT
BEGIN:VEVENT
DTSTAMP:20260419T231424Z
DTSTART;VALUE=DATE:20150710
SUMMARY:CyPhy 2015 Notification Due
DESCRIPTION:5th International Workshop on Cyber Physical Systems
URL:http://www.wikicfp.com/cfp/servlet/event.showcfp?eventid=45356&copyow
 nerid=65264
UID:cfp528134-N@wikicfp.com
END:VEVENT
BEGIN:VEVENT
DTSTAMP:20260419T231424Z
DTSTART;VALUE=DATE:20150803
SUMMARY:CyPhy 2015 Final Version Due
DESCRIPTION:5th International Workshop on Cyber Physical Systems
URL:http://www.wikicfp.com/cfp/servlet/event.showcfp?eventid=45356&copyow
 nerid=65264
UID:cfp528134-N@wikicfp.com
END:VEVENT
BEGIN:VEVENT
DTSTAMP:20260419T231424Z
DTSTART;VALUE=DATE:20150731
SUMMARY:TII-SACPS 2015 Deadline
DESCRIPTION:Special Section on Smart Agents and Cyber-Physical Systems fo
 r Future Industrial Systems to be published in the IEEE Transactions on 
 Industrial Informatics
URL:http://www.wikicfp.com/cfp/servlet/event.showcfp?eventid=43289&copyow
 nerid=65264
UID:cfp528133-D@wikicfp.com
END:VEVENT
BEGIN:VEVENT
DTSTAMP:20260419T231424Z
DTSTART;VALUE=DATE:20150807
SUMMARY:IJFCST 2015 Deadline
DESCRIPTION:International Journal in Foundations of Computer Science & Te
 chnology
URL:http://www.wikicfp.com/cfp/servlet/event.showcfp?eventid=39795&copyow
 nerid=65264
UID:cfp465238-D@wikicfp.com
END:VEVENT
BEGIN:VEVENT
DTSTAMP:20260419T231424Z
DTSTART;VALUE=DATE:20150907
SUMMARY:IJFCST 2015 Notification Due
DESCRIPTION:International Journal in Foundations of Computer Science & Te
 chnology
URL:http://www.wikicfp.com/cfp/servlet/event.showcfp?eventid=39795&copyow
 nerid=65264
UID:cfp465238-N@wikicfp.com
END:VEVENT
BEGIN:VEVENT
DTSTAMP:20260419T231424Z
DTSTART;VALUE=DATE:20150915
SUMMARY:IJFCST 2015 Final Version Due
DESCRIPTION:International Journal in Foundations of Computer Science & Te
 chnology
URL:http://www.wikicfp.com/cfp/servlet/event.showcfp?eventid=39795&copyow
 nerid=65264
UID:cfp465238-N@wikicfp.com
END:VEVENT
END:VCALENDAR
