BEGIN:VCALENDAR
PRODID:-//WikiCFP//kamruddinnur 1.0//EN
VERSION:2.0
CALSCALE:GREGORIAN
BEGIN:VEVENT
DTSTAMP:20260423T193051Z
DTSTART;VALUE=DATE:20141109
DTEND;VALUE=DATE:20141112
SUMMARY:Innovations 2014
DESCRIPTION:10th International Conference on Innovations in Information T
 echnology
URL:http://www.wikicfp.com/cfp/servlet/event.showcfp?eventid=37287&copyow
 nerid=65002
UID:cfp448156-E@wikicfp.com
END:VEVENT
BEGIN:VEVENT
DTSTAMP:20260423T193051Z
DTSTART;VALUE=DATE:20140730
SUMMARY:Innovations 2014 Deadline
DESCRIPTION:10th International Conference on Innovations in Information T
 echnology
URL:http://www.wikicfp.com/cfp/servlet/event.showcfp?eventid=37287&copyow
 nerid=65002
UID:cfp448156-D@wikicfp.com
END:VEVENT
BEGIN:VEVENT
DTSTAMP:20260423T193051Z
DTSTART;VALUE=DATE:20140901
SUMMARY:Innovations 2014 Notification Due
DESCRIPTION:10th International Conference on Innovations in Information T
 echnology
URL:http://www.wikicfp.com/cfp/servlet/event.showcfp?eventid=37287&copyow
 nerid=65002
UID:cfp448156-N@wikicfp.com
END:VEVENT
BEGIN:VEVENT
DTSTAMP:20260423T193051Z
DTSTART;VALUE=DATE:20141001
SUMMARY:Innovations 2014 Final Version Due
DESCRIPTION:10th International Conference on Innovations in Information T
 echnology
URL:http://www.wikicfp.com/cfp/servlet/event.showcfp?eventid=37287&copyow
 nerid=65002
UID:cfp448156-N@wikicfp.com
END:VEVENT
BEGIN:VEVENT
DTSTAMP:20260423T193051Z
DTSTART;VALUE=DATE:20141209
DTEND;VALUE=DATE:20141213
SUMMARY:UIC 2014
DESCRIPTION:The 11th IEEE International Conference on Ubiquitous Intellig
 ence and Computing
URL:http://www.wikicfp.com/cfp/servlet/event.showcfp?eventid=37980&copyow
 nerid=65002
UID:cfp448150-E@wikicfp.com
END:VEVENT
BEGIN:VEVENT
DTSTAMP:20260423T193051Z
DTSTART;VALUE=DATE:20140731
SUMMARY:UIC 2014 Deadline
DESCRIPTION:The 11th IEEE International Conference on Ubiquitous Intellig
 ence and Computing
URL:http://www.wikicfp.com/cfp/servlet/event.showcfp?eventid=37980&copyow
 nerid=65002
UID:cfp448150-D@wikicfp.com
END:VEVENT
BEGIN:VEVENT
DTSTAMP:20260423T193051Z
DTSTART;VALUE=DATE:20140930
SUMMARY:UIC 2014 Notification Due
DESCRIPTION:The 11th IEEE International Conference on Ubiquitous Intellig
 ence and Computing
URL:http://www.wikicfp.com/cfp/servlet/event.showcfp?eventid=37980&copyow
 nerid=65002
UID:cfp448150-N@wikicfp.com
END:VEVENT
BEGIN:VEVENT
DTSTAMP:20260423T193051Z
DTSTART;VALUE=DATE:20141020
SUMMARY:UIC 2014 Final Version Due
DESCRIPTION:The 11th IEEE International Conference on Ubiquitous Intellig
 ence and Computing
URL:http://www.wikicfp.com/cfp/servlet/event.showcfp?eventid=37980&copyow
 nerid=65002
UID:cfp448150-N@wikicfp.com
END:VEVENT
BEGIN:VEVENT
DTSTAMP:20260423T193051Z
DTSTART;VALUE=DATE:20141202
DTEND;VALUE=DATE:20141206
SUMMARY:MOBIQUITOUS 2014
DESCRIPTION:11th International Conference on Mobile and Ubiquitous System
 s
URL:http://www.wikicfp.com/cfp/servlet/event.showcfp?eventid=35978&copyow
 nerid=65002
UID:cfp448151-E@wikicfp.com
END:VEVENT
BEGIN:VEVENT
DTSTAMP:20260423T193051Z
DTSTART;VALUE=DATE:20140801
SUMMARY:MOBIQUITOUS 2014 Abstract Due
DESCRIPTION:11th International Conference on Mobile and Ubiquitous System
 s
URL:http://www.wikicfp.com/cfp/servlet/event.showcfp?eventid=35978&copyow
 nerid=65002
UID:cfp448151-A@wikicfp.com
END:VEVENT
BEGIN:VEVENT
DTSTAMP:20260423T193051Z
DTSTART;VALUE=DATE:20140808
SUMMARY:MOBIQUITOUS 2014 Deadline
DESCRIPTION:11th International Conference on Mobile and Ubiquitous System
 s
URL:http://www.wikicfp.com/cfp/servlet/event.showcfp?eventid=35978&copyow
 nerid=65002
UID:cfp448151-D@wikicfp.com
END:VEVENT
BEGIN:VEVENT
DTSTAMP:20260423T193051Z
DTSTART;VALUE=DATE:20140926
SUMMARY:MOBIQUITOUS 2014 Notification Due
DESCRIPTION:11th International Conference on Mobile and Ubiquitous System
 s
URL:http://www.wikicfp.com/cfp/servlet/event.showcfp?eventid=35978&copyow
 nerid=65002
UID:cfp448151-N@wikicfp.com
END:VEVENT
BEGIN:VEVENT
DTSTAMP:20260423T193051Z
DTSTART;VALUE=DATE:20141024
SUMMARY:MOBIQUITOUS 2014 Final Version Due
DESCRIPTION:11th International Conference on Mobile and Ubiquitous System
 s
URL:http://www.wikicfp.com/cfp/servlet/event.showcfp?eventid=35978&copyow
 nerid=65002
UID:cfp448151-N@wikicfp.com
END:VEVENT
BEGIN:VEVENT
DTSTAMP:20260423T193051Z
DTSTART;VALUE=DATE:20200110
DTEND;VALUE=DATE:20200113
SUMMARY:ICCA 2020
DESCRIPTION:International Conference on Computing Advancements
URL:http://www.wikicfp.com/cfp/servlet/event.showcfp?eventid=88858&copyow
 nerid=65002
UID:cfp782241-E@wikicfp.com
END:VEVENT
BEGIN:VEVENT
DTSTAMP:20260423T193051Z
DTSTART;VALUE=DATE:20190731
SUMMARY:ICCA 2020 Deadline
DESCRIPTION:International Conference on Computing Advancements
URL:http://www.wikicfp.com/cfp/servlet/event.showcfp?eventid=88858&copyow
 nerid=65002
UID:cfp782241-D@wikicfp.com
END:VEVENT
BEGIN:VEVENT
DTSTAMP:20260423T193051Z
DTSTART;VALUE=DATE:20190915
SUMMARY:ICCA 2020 Notification Due
DESCRIPTION:International Conference on Computing Advancements
URL:http://www.wikicfp.com/cfp/servlet/event.showcfp?eventid=88858&copyow
 nerid=65002
UID:cfp782241-N@wikicfp.com
END:VEVENT
BEGIN:VEVENT
DTSTAMP:20260423T193051Z
DTSTART;VALUE=DATE:20191009
SUMMARY:ICCA 2020 Final Version Due
DESCRIPTION:International Conference on Computing Advancements
URL:http://www.wikicfp.com/cfp/servlet/event.showcfp?eventid=88858&copyow
 nerid=65002
UID:cfp782241-N@wikicfp.com
END:VEVENT
END:VCALENDAR
