BEGIN:VCALENDAR
PRODID:-//WikiCFP//chronophil 1.0//EN
VERSION:2.0
CALSCALE:GREGORIAN
BEGIN:VEVENT
DTSTAMP:20260422T144706Z
DTSTART;VALUE=DATE:20140908
DTEND;VALUE=DATE:20140911
SUMMARY:SOCIO-INT 2014
DESCRIPTION:INTERNATIONAL CONFERENCE ON SOCIAL SCIENCES AND HUMANITIES
URL:http://www.wikicfp.com/cfp/servlet/event.showcfp?eventid=37027&copyow
 nerid=64826
UID:cfp448228-E@wikicfp.com
END:VEVENT
BEGIN:VEVENT
DTSTAMP:20260422T144706Z
DTSTART;VALUE=DATE:20140613
SUMMARY:SOCIO-INT 2014 Deadline
DESCRIPTION:INTERNATIONAL CONFERENCE ON SOCIAL SCIENCES AND HUMANITIES
URL:http://www.wikicfp.com/cfp/servlet/event.showcfp?eventid=37027&copyow
 nerid=64826
UID:cfp448228-D@wikicfp.com
END:VEVENT
BEGIN:VEVENT
DTSTAMP:20260422T144706Z
DTSTART;VALUE=DATE:20140616
SUMMARY:SOCIO-INT 2014 Notification Due
DESCRIPTION:INTERNATIONAL CONFERENCE ON SOCIAL SCIENCES AND HUMANITIES
URL:http://www.wikicfp.com/cfp/servlet/event.showcfp?eventid=37027&copyow
 nerid=64826
UID:cfp448228-N@wikicfp.com
END:VEVENT
BEGIN:VEVENT
DTSTAMP:20260422T144706Z
DTSTART;VALUE=DATE:20140712
SUMMARY:SOCIO-INT 2014 Final Version Due
DESCRIPTION:INTERNATIONAL CONFERENCE ON SOCIAL SCIENCES AND HUMANITIES
URL:http://www.wikicfp.com/cfp/servlet/event.showcfp?eventid=37027&copyow
 nerid=64826
UID:cfp448228-N@wikicfp.com
END:VEVENT
BEGIN:VEVENT
DTSTAMP:20260422T144706Z
DTSTART;VALUE=DATE:20150222
DTEND;VALUE=DATE:20150224
SUMMARY:LLC 2015
DESCRIPTION:Second International Conference on Language\, Literature and 
 Community   2015 
URL:http://www.wikicfp.com/cfp/servlet/event.showcfp?eventid=37800&copyow
 nerid=64826
UID:cfp447257-E@wikicfp.com
END:VEVENT
BEGIN:VEVENT
DTSTAMP:20260422T144706Z
DTSTART;VALUE=DATE:20141115
SUMMARY:LLC 2015 Abstract Due
DESCRIPTION:Second International Conference on Language\, Literature and 
 Community   2015 
URL:http://www.wikicfp.com/cfp/servlet/event.showcfp?eventid=37800&copyow
 nerid=64826
UID:cfp447257-A@wikicfp.com
END:VEVENT
BEGIN:VEVENT
DTSTAMP:20260422T144706Z
DTSTART;VALUE=DATE:20140915
SUMMARY:LLC 2015 Deadline
DESCRIPTION:Second International Conference on Language\, Literature and 
 Community   2015 
URL:http://www.wikicfp.com/cfp/servlet/event.showcfp?eventid=37800&copyow
 nerid=64826
UID:cfp447257-D@wikicfp.com
END:VEVENT
BEGIN:VEVENT
DTSTAMP:20260422T144706Z
DTSTART;VALUE=DATE:20141215
SUMMARY:LLC 2015 Final Version Due
DESCRIPTION:Second International Conference on Language\, Literature and 
 Community   2015 
URL:http://www.wikicfp.com/cfp/servlet/event.showcfp?eventid=37800&copyow
 nerid=64826
UID:cfp447257-N@wikicfp.com
END:VEVENT
END:VCALENDAR
