BEGIN:VCALENDAR
PRODID:-//WikiCFP//tas008 1.0//EN
VERSION:2.0
CALSCALE:GREGORIAN
BEGIN:VEVENT
DTSTAMP:20260425T135740Z
DTSTART;VALUE=DATE:20110516
DTEND;VALUE=DATE:20110521
SUMMARY:ACM Mobihoc  2011
DESCRIPTION:The 12th ACM International Symposium on Mobile Ad Hoc Network
 ing and Computing
URL:http://www.wikicfp.com/cfp/servlet/event.showcfp?eventid=11592&copyow
 nerid=6475
UID:cfp115979-E@wikicfp.com
END:VEVENT
BEGIN:VEVENT
DTSTAMP:20260425T135740Z
DTSTART;VALUE=DATE:20101112
SUMMARY:ACM Mobihoc  2011 Abstract Due
DESCRIPTION:The 12th ACM International Symposium on Mobile Ad Hoc Network
 ing and Computing
URL:http://www.wikicfp.com/cfp/servlet/event.showcfp?eventid=11592&copyow
 nerid=6475
UID:cfp115979-A@wikicfp.com
END:VEVENT
BEGIN:VEVENT
DTSTAMP:20260425T135740Z
DTSTART;VALUE=DATE:20101119
SUMMARY:ACM Mobihoc  2011 Deadline
DESCRIPTION:The 12th ACM International Symposium on Mobile Ad Hoc Network
 ing and Computing
URL:http://www.wikicfp.com/cfp/servlet/event.showcfp?eventid=11592&copyow
 nerid=6475
UID:cfp115979-D@wikicfp.com
END:VEVENT
BEGIN:VEVENT
DTSTAMP:20260425T135740Z
DTSTART;VALUE=DATE:20110703
DTEND;VALUE=DATE:20110709
SUMMARY:APSURSI 2011
DESCRIPTION:2011 IEEE International Symposium on Antennas and Propagation
  and USNC/URSI National Radio Science Meeting
URL:http://www.wikicfp.com/cfp/servlet/event.showcfp?eventid=13477&copyow
 nerid=6475
UID:cfp168979-E@wikicfp.com
END:VEVENT
BEGIN:VEVENT
DTSTAMP:20260425T135740Z
DTSTART;VALUE=DATE:20110114
SUMMARY:APSURSI 2011 Deadline
DESCRIPTION:2011 IEEE International Symposium on Antennas and Propagation
  and USNC/URSI National Radio Science Meeting
URL:http://www.wikicfp.com/cfp/servlet/event.showcfp?eventid=13477&copyow
 nerid=6475
UID:cfp168979-D@wikicfp.com
END:VEVENT
BEGIN:VEVENT
DTSTAMP:20260425T135740Z
DTSTART;VALUE=DATE:20110301
SUMMARY:EURASIP RPCM 2011 Deadline
DESCRIPTION:EURASIP JWCN\, Special issue on Radio Propagation\, Channel M
 odeling\, and Wireless Channel Simulation Tools for Heterogeneous Networ
 king Evaluation
URL:http://www.wikicfp.com/cfp/servlet/event.showcfp?eventid=13400&copyow
 nerid=6475
UID:cfp168975-D@wikicfp.com
END:VEVENT
BEGIN:VEVENT
DTSTAMP:20260425T135740Z
DTSTART;VALUE=DATE:20110601
SUMMARY:EURASIP RPCM 2011 Notification Due
DESCRIPTION:EURASIP JWCN\, Special issue on Radio Propagation\, Channel M
 odeling\, and Wireless Channel Simulation Tools for Heterogeneous Networ
 king Evaluation
URL:http://www.wikicfp.com/cfp/servlet/event.showcfp?eventid=13400&copyow
 nerid=6475
UID:cfp168975-N@wikicfp.com
END:VEVENT
BEGIN:VEVENT
DTSTAMP:20260425T135740Z
DTSTART;VALUE=DATE:20110715
SUMMARY:EURASIP RPCM 2011 Final Version Due
DESCRIPTION:EURASIP JWCN\, Special issue on Radio Propagation\, Channel M
 odeling\, and Wireless Channel Simulation Tools for Heterogeneous Networ
 king Evaluation
URL:http://www.wikicfp.com/cfp/servlet/event.showcfp?eventid=13400&copyow
 nerid=6475
UID:cfp168975-N@wikicfp.com
END:VEVENT
BEGIN:VEVENT
DTSTAMP:20260425T135740Z
DTSTART;VALUE=DATE:20110911
DTEND;VALUE=DATE:20110915
SUMMARY:PIMRC 2011
DESCRIPTION:The 22nd IEEE Symposium on Personal\, Indoor\, Mobile and Rad
 io Communications (PIMRC 2011)
URL:http://www.wikicfp.com/cfp/servlet/event.showcfp?eventid=12048&copyow
 nerid=6475
UID:cfp168981-E@wikicfp.com
END:VEVENT
BEGIN:VEVENT
DTSTAMP:20260425T135740Z
DTSTART;VALUE=DATE:20110410
SUMMARY:PIMRC 2011 Deadline
DESCRIPTION:The 22nd IEEE Symposium on Personal\, Indoor\, Mobile and Rad
 io Communications (PIMRC 2011)
URL:http://www.wikicfp.com/cfp/servlet/event.showcfp?eventid=12048&copyow
 nerid=6475
UID:cfp168981-D@wikicfp.com
END:VEVENT
BEGIN:VEVENT
DTSTAMP:20260425T135740Z
DTSTART;VALUE=DATE:20110603
SUMMARY:PIMRC 2011 Notification Due
DESCRIPTION:The 22nd IEEE Symposium on Personal\, Indoor\, Mobile and Rad
 io Communications (PIMRC 2011)
URL:http://www.wikicfp.com/cfp/servlet/event.showcfp?eventid=12048&copyow
 nerid=6475
UID:cfp168981-N@wikicfp.com
END:VEVENT
BEGIN:VEVENT
DTSTAMP:20260425T135740Z
DTSTART;VALUE=DATE:20110630
SUMMARY:PIMRC 2011 Final Version Due
DESCRIPTION:The 22nd IEEE Symposium on Personal\, Indoor\, Mobile and Rad
 io Communications (PIMRC 2011)
URL:http://www.wikicfp.com/cfp/servlet/event.showcfp?eventid=12048&copyow
 nerid=6475
UID:cfp168981-N@wikicfp.com
END:VEVENT
BEGIN:VEVENT
DTSTAMP:20260425T135740Z
DTSTART;VALUE=DATE:20110814
DTEND;VALUE=DATE:20110816
SUMMARY:3CA 2011
DESCRIPTION:3rd International Symposium on Computer\, Communication\, Con
 trol and Automation
URL:http://www.wikicfp.com/cfp/servlet/event.showcfp?eventid=12646&copyow
 nerid=6475
UID:cfp168972-E@wikicfp.com
END:VEVENT
BEGIN:VEVENT
DTSTAMP:20260425T135740Z
DTSTART;VALUE=DATE:20110415
SUMMARY:3CA 2011 Deadline
DESCRIPTION:3rd International Symposium on Computer\, Communication\, Con
 trol and Automation
URL:http://www.wikicfp.com/cfp/servlet/event.showcfp?eventid=12646&copyow
 nerid=6475
UID:cfp168972-D@wikicfp.com
END:VEVENT
BEGIN:VEVENT
DTSTAMP:20260425T135740Z
DTSTART;VALUE=DATE:20110515
SUMMARY:3CA 2011 Notification Due
DESCRIPTION:3rd International Symposium on Computer\, Communication\, Con
 trol and Automation
URL:http://www.wikicfp.com/cfp/servlet/event.showcfp?eventid=12646&copyow
 nerid=6475
UID:cfp168972-N@wikicfp.com
END:VEVENT
BEGIN:VEVENT
DTSTAMP:20260425T135740Z
DTSTART;VALUE=DATE:20110615
SUMMARY:3CA 2011 Final Version Due
DESCRIPTION:3rd International Symposium on Computer\, Communication\, Con
 trol and Automation
URL:http://www.wikicfp.com/cfp/servlet/event.showcfp?eventid=12646&copyow
 nerid=6475
UID:cfp168972-N@wikicfp.com
END:VEVENT
BEGIN:VEVENT
DTSTAMP:20260425T135740Z
DTSTART;VALUE=DATE:20111129
DTEND;VALUE=DATE:20111203
SUMMARY:SDR11-WInnComm 2011
DESCRIPTION:SDR11-WInnComm
URL:http://www.wikicfp.com/cfp/servlet/event.showcfp?eventid=15918&copyow
 nerid=6475
UID:cfp168980-E@wikicfp.com
END:VEVENT
BEGIN:VEVENT
DTSTAMP:20260425T135740Z
DTSTART;VALUE=DATE:20110419
SUMMARY:SDR11-WInnComm 2011 Deadline
DESCRIPTION:SDR11-WInnComm
URL:http://www.wikicfp.com/cfp/servlet/event.showcfp?eventid=15918&copyow
 nerid=6475
UID:cfp168980-D@wikicfp.com
END:VEVENT
BEGIN:VEVENT
DTSTAMP:20260425T135740Z
DTSTART;VALUE=DATE:20110430
SUMMARY:SDR11-WInnComm 2011 Notification Due
DESCRIPTION:SDR11-WInnComm
URL:http://www.wikicfp.com/cfp/servlet/event.showcfp?eventid=15918&copyow
 nerid=6475
UID:cfp168980-N@wikicfp.com
END:VEVENT
BEGIN:VEVENT
DTSTAMP:20260425T135740Z
DTSTART;VALUE=DATE:20110614
SUMMARY:SDR11-WInnComm 2011 Final Version Due
DESCRIPTION:SDR11-WInnComm
URL:http://www.wikicfp.com/cfp/servlet/event.showcfp?eventid=15918&copyow
 nerid=6475
UID:cfp168980-N@wikicfp.com
END:VEVENT
BEGIN:VEVENT
DTSTAMP:20260425T135740Z
DTSTART;VALUE=DATE:20111017
DTEND;VALUE=DATE:20111022
SUMMARY:IFIP Performance 2011
DESCRIPTION:29th International Symposium on Computer Performance\, Modeli
 ng\, Measurements and Evaluation 2011
URL:http://www.wikicfp.com/cfp/servlet/event.showcfp?eventid=14728&copyow
 nerid=6475
UID:cfp168977-E@wikicfp.com
END:VEVENT
BEGIN:VEVENT
DTSTAMP:20260425T135740Z
DTSTART;VALUE=DATE:20110422
SUMMARY:IFIP Performance 2011 Deadline
DESCRIPTION:29th International Symposium on Computer Performance\, Modeli
 ng\, Measurements and Evaluation 2011
URL:http://www.wikicfp.com/cfp/servlet/event.showcfp?eventid=14728&copyow
 nerid=6475
UID:cfp168977-D@wikicfp.com
END:VEVENT
BEGIN:VEVENT
DTSTAMP:20260425T135740Z
DTSTART;VALUE=DATE:20110630
SUMMARY:IFIP Performance 2011 Notification Due
DESCRIPTION:29th International Symposium on Computer Performance\, Modeli
 ng\, Measurements and Evaluation 2011
URL:http://www.wikicfp.com/cfp/servlet/event.showcfp?eventid=14728&copyow
 nerid=6475
UID:cfp168977-N@wikicfp.com
END:VEVENT
BEGIN:VEVENT
DTSTAMP:20260425T135740Z
DTSTART;VALUE=DATE:20111004
DTEND;VALUE=DATE:20111008
SUMMARY:SiPS 2011
DESCRIPTION:IEEE Workshop on Signal Processing Systems
URL:http://www.wikicfp.com/cfp/servlet/event.showcfp?eventid=10827&copyow
 nerid=6475
UID:cfp115982-E@wikicfp.com
END:VEVENT
BEGIN:VEVENT
DTSTAMP:20260425T135740Z
DTSTART;VALUE=DATE:20110424
SUMMARY:SiPS 2011 Deadline
DESCRIPTION:IEEE Workshop on Signal Processing Systems
URL:http://www.wikicfp.com/cfp/servlet/event.showcfp?eventid=10827&copyow
 nerid=6475
UID:cfp115982-D@wikicfp.com
END:VEVENT
BEGIN:VEVENT
DTSTAMP:20260425T135740Z
DTSTART;VALUE=DATE:20110615
SUMMARY:SiPS 2011 Notification Due
DESCRIPTION:IEEE Workshop on Signal Processing Systems
URL:http://www.wikicfp.com/cfp/servlet/event.showcfp?eventid=10827&copyow
 nerid=6475
UID:cfp115982-N@wikicfp.com
END:VEVENT
BEGIN:VEVENT
DTSTAMP:20260425T135740Z
DTSTART;VALUE=DATE:20110725
SUMMARY:SiPS 2011 Final Version Due
DESCRIPTION:IEEE Workshop on Signal Processing Systems
URL:http://www.wikicfp.com/cfp/servlet/event.showcfp?eventid=10827&copyow
 nerid=6475
UID:cfp115982-N@wikicfp.com
END:VEVENT
BEGIN:VEVENT
DTSTAMP:20260425T135740Z
DTSTART;VALUE=DATE:20111024
DTEND;VALUE=DATE:20111028
SUMMARY:RADAR 2011
DESCRIPTION:CIE International Conference on Radar
URL:http://www.wikicfp.com/cfp/servlet/event.showcfp?eventid=11402&copyow
 nerid=6475
UID:cfp115981-E@wikicfp.com
END:VEVENT
BEGIN:VEVENT
DTSTAMP:20260425T135740Z
DTSTART;VALUE=DATE:20110501
SUMMARY:RADAR 2011 Deadline
DESCRIPTION:CIE International Conference on Radar
URL:http://www.wikicfp.com/cfp/servlet/event.showcfp?eventid=11402&copyow
 nerid=6475
UID:cfp115981-D@wikicfp.com
END:VEVENT
BEGIN:VEVENT
DTSTAMP:20260425T135740Z
DTSTART;VALUE=DATE:20110615
SUMMARY:RADAR 2011 Notification Due
DESCRIPTION:CIE International Conference on Radar
URL:http://www.wikicfp.com/cfp/servlet/event.showcfp?eventid=11402&copyow
 nerid=6475
UID:cfp115981-N@wikicfp.com
END:VEVENT
BEGIN:VEVENT
DTSTAMP:20260425T135740Z
DTSTART;VALUE=DATE:20110801
SUMMARY:RADAR 2011 Final Version Due
DESCRIPTION:CIE International Conference on Radar
URL:http://www.wikicfp.com/cfp/servlet/event.showcfp?eventid=11402&copyow
 nerid=6475
UID:cfp115981-N@wikicfp.com
END:VEVENT
BEGIN:VEVENT
DTSTAMP:20260425T135740Z
DTSTART;VALUE=DATE:20111010
DTEND;VALUE=DATE:20111013
SUMMARY:IEEE WiMob 2011
DESCRIPTION:IEEE WiMob 2011 The 7th IEEE International Conference on Wire
 less and Mobile Computing\, Networking and Communications
URL:http://www.wikicfp.com/cfp/servlet/event.showcfp?eventid=15013&copyow
 nerid=6475
UID:cfp168973-E@wikicfp.com
END:VEVENT
BEGIN:VEVENT
DTSTAMP:20260425T135740Z
DTSTART;VALUE=DATE:20110513
SUMMARY:IEEE WiMob 2011 Deadline
DESCRIPTION:IEEE WiMob 2011 The 7th IEEE International Conference on Wire
 less and Mobile Computing\, Networking and Communications
URL:http://www.wikicfp.com/cfp/servlet/event.showcfp?eventid=15013&copyow
 nerid=6475
UID:cfp168973-D@wikicfp.com
END:VEVENT
BEGIN:VEVENT
DTSTAMP:20260425T135740Z
DTSTART;VALUE=DATE:20110711
SUMMARY:IEEE WiMob 2011 Notification Due
DESCRIPTION:IEEE WiMob 2011 The 7th IEEE International Conference on Wire
 less and Mobile Computing\, Networking and Communications
URL:http://www.wikicfp.com/cfp/servlet/event.showcfp?eventid=15013&copyow
 nerid=6475
UID:cfp168973-N@wikicfp.com
END:VEVENT
BEGIN:VEVENT
DTSTAMP:20260425T135740Z
DTSTART;VALUE=DATE:20110730
SUMMARY:IEEE WiMob 2011 Final Version Due
DESCRIPTION:IEEE WiMob 2011 The 7th IEEE International Conference on Wire
 less and Mobile Computing\, Networking and Communications
URL:http://www.wikicfp.com/cfp/servlet/event.showcfp?eventid=15013&copyow
 nerid=6475
UID:cfp168973-N@wikicfp.com
END:VEVENT
BEGIN:VEVENT
DTSTAMP:20260425T135740Z
DTSTART;VALUE=DATE:20111031
DTEND;VALUE=DATE:20111105
SUMMARY:MSWiM 2011
DESCRIPTION:the 14th ACM* International Conference on Modeling\, Analysis
   and Simulation of Wireless and Mobile Systems
URL:http://www.wikicfp.com/cfp/servlet/event.showcfp?eventid=15395&copyow
 nerid=6475
UID:cfp168969-E@wikicfp.com
END:VEVENT
BEGIN:VEVENT
DTSTAMP:20260425T135740Z
DTSTART;VALUE=DATE:20110515
SUMMARY:MSWiM 2011 Deadline
DESCRIPTION:the 14th ACM* International Conference on Modeling\, Analysis
   and Simulation of Wireless and Mobile Systems
URL:http://www.wikicfp.com/cfp/servlet/event.showcfp?eventid=15395&copyow
 nerid=6475
UID:cfp168969-D@wikicfp.com
END:VEVENT
BEGIN:VEVENT
DTSTAMP:20260425T135740Z
DTSTART;VALUE=DATE:20110912
DTEND;VALUE=DATE:20110915
SUMMARY:EMSS 2011
DESCRIPTION:The 23rd European Modeling & Simulation Symposium
URL:http://www.wikicfp.com/cfp/servlet/event.showcfp?eventid=11001&copyow
 nerid=6475
UID:cfp168978-E@wikicfp.com
END:VEVENT
BEGIN:VEVENT
DTSTAMP:20260425T135740Z
DTSTART;VALUE=DATE:20110520
SUMMARY:EMSS 2011 Deadline
DESCRIPTION:The 23rd European Modeling & Simulation Symposium
URL:http://www.wikicfp.com/cfp/servlet/event.showcfp?eventid=11001&copyow
 nerid=6475
UID:cfp168978-D@wikicfp.com
END:VEVENT
BEGIN:VEVENT
DTSTAMP:20260425T135740Z
DTSTART;VALUE=DATE:20110610
SUMMARY:EMSS 2011 Notification Due
DESCRIPTION:The 23rd European Modeling & Simulation Symposium
URL:http://www.wikicfp.com/cfp/servlet/event.showcfp?eventid=11001&copyow
 nerid=6475
UID:cfp168978-N@wikicfp.com
END:VEVENT
BEGIN:VEVENT
DTSTAMP:20260425T135740Z
DTSTART;VALUE=DATE:20110720
SUMMARY:EMSS 2011 Final Version Due
DESCRIPTION:The 23rd European Modeling & Simulation Symposium
URL:http://www.wikicfp.com/cfp/servlet/event.showcfp?eventid=11001&copyow
 nerid=6475
UID:cfp168978-N@wikicfp.com
END:VEVENT
BEGIN:VEVENT
DTSTAMP:20260425T135740Z
DTSTART;VALUE=DATE:20110912
DTEND;VALUE=DATE:20110915
SUMMARY:MAS 2011
DESCRIPTION:International Conference on Modeling and Applied Simulation
URL:http://www.wikicfp.com/cfp/servlet/event.showcfp?eventid=12124&copyow
 nerid=6475
UID:cfp168976-E@wikicfp.com
END:VEVENT
BEGIN:VEVENT
DTSTAMP:20260425T135740Z
DTSTART;VALUE=DATE:20110520
SUMMARY:MAS 2011 Deadline
DESCRIPTION:International Conference on Modeling and Applied Simulation
URL:http://www.wikicfp.com/cfp/servlet/event.showcfp?eventid=12124&copyow
 nerid=6475
UID:cfp168976-D@wikicfp.com
END:VEVENT
BEGIN:VEVENT
DTSTAMP:20260425T135740Z
DTSTART;VALUE=DATE:20110620
SUMMARY:MAS 2011 Notification Due
DESCRIPTION:International Conference on Modeling and Applied Simulation
URL:http://www.wikicfp.com/cfp/servlet/event.showcfp?eventid=12124&copyow
 nerid=6475
UID:cfp168976-N@wikicfp.com
END:VEVENT
BEGIN:VEVENT
DTSTAMP:20260425T135740Z
DTSTART;VALUE=DATE:20110720
SUMMARY:MAS 2011 Final Version Due
DESCRIPTION:International Conference on Modeling and Applied Simulation
URL:http://www.wikicfp.com/cfp/servlet/event.showcfp?eventid=12124&copyow
 nerid=6475
UID:cfp168976-N@wikicfp.com
END:VEVENT
BEGIN:VEVENT
DTSTAMP:20260425T135740Z
DTSTART;VALUE=DATE:20110910
DTEND;VALUE=DATE:20110911
SUMMARY:ICAC 2011
DESCRIPTION:17th International Conference on Automation and Computing
URL:http://www.wikicfp.com/cfp/servlet/event.showcfp?eventid=14139&copyow
 nerid=6475
UID:cfp168971-E@wikicfp.com
END:VEVENT
BEGIN:VEVENT
DTSTAMP:20260425T135740Z
DTSTART;VALUE=DATE:20110603
SUMMARY:ICAC 2011 Deadline
DESCRIPTION:17th International Conference on Automation and Computing
URL:http://www.wikicfp.com/cfp/servlet/event.showcfp?eventid=14139&copyow
 nerid=6475
UID:cfp168971-D@wikicfp.com
END:VEVENT
BEGIN:VEVENT
DTSTAMP:20260425T135740Z
DTSTART;VALUE=DATE:20110716
SUMMARY:ICAC 2011 Notification Due
DESCRIPTION:17th International Conference on Automation and Computing
URL:http://www.wikicfp.com/cfp/servlet/event.showcfp?eventid=14139&copyow
 nerid=6475
UID:cfp168971-N@wikicfp.com
END:VEVENT
BEGIN:VEVENT
DTSTAMP:20260425T135740Z
DTSTART;VALUE=DATE:20110805
SUMMARY:ICAC 2011 Final Version Due
DESCRIPTION:17th International Conference on Automation and Computing
URL:http://www.wikicfp.com/cfp/servlet/event.showcfp?eventid=14139&copyow
 nerid=6475
UID:cfp168971-N@wikicfp.com
END:VEVENT
BEGIN:VEVENT
DTSTAMP:20260425T135740Z
DTSTART;VALUE=DATE:20111005
DTEND;VALUE=DATE:20111008
SUMMARY:MobiHealth 2011
DESCRIPTION:2nd International ICST Conference on Wireless Mobile Communic
 ation and Healthcare (Mobihealth 2011)
URL:http://www.wikicfp.com/cfp/servlet/event.showcfp?eventid=15687&copyow
 nerid=6475
UID:cfp168970-E@wikicfp.com
END:VEVENT
BEGIN:VEVENT
DTSTAMP:20260425T135740Z
DTSTART;VALUE=DATE:20110605
SUMMARY:MobiHealth 2011 Deadline
DESCRIPTION:2nd International ICST Conference on Wireless Mobile Communic
 ation and Healthcare (Mobihealth 2011)
URL:http://www.wikicfp.com/cfp/servlet/event.showcfp?eventid=15687&copyow
 nerid=6475
UID:cfp168970-D@wikicfp.com
END:VEVENT
BEGIN:VEVENT
DTSTAMP:20260425T135740Z
DTSTART;VALUE=DATE:20110715
SUMMARY:MobiHealth 2011 Notification Due
DESCRIPTION:2nd International ICST Conference on Wireless Mobile Communic
 ation and Healthcare (Mobihealth 2011)
URL:http://www.wikicfp.com/cfp/servlet/event.showcfp?eventid=15687&copyow
 nerid=6475
UID:cfp168970-N@wikicfp.com
END:VEVENT
BEGIN:VEVENT
DTSTAMP:20260425T135740Z
DTSTART;VALUE=DATE:20111106
DTEND;VALUE=DATE:20111110
SUMMARY:ISWCS 2011
DESCRIPTION:8th International Symposium on Wireless Communication Systems
 
URL:http://www.wikicfp.com/cfp/servlet/event.showcfp?eventid=11779&copyow
 nerid=6475
UID:cfp168974-E@wikicfp.com
END:VEVENT
BEGIN:VEVENT
DTSTAMP:20260425T135740Z
DTSTART;VALUE=DATE:20110613
SUMMARY:ISWCS 2011 Deadline
DESCRIPTION:8th International Symposium on Wireless Communication Systems
 
URL:http://www.wikicfp.com/cfp/servlet/event.showcfp?eventid=11779&copyow
 nerid=6475
UID:cfp168974-D@wikicfp.com
END:VEVENT
BEGIN:VEVENT
DTSTAMP:20260425T135740Z
DTSTART;VALUE=DATE:20110801
SUMMARY:ISWCS 2011 Notification Due
DESCRIPTION:8th International Symposium on Wireless Communication Systems
 
URL:http://www.wikicfp.com/cfp/servlet/event.showcfp?eventid=11779&copyow
 nerid=6475
UID:cfp168974-N@wikicfp.com
END:VEVENT
BEGIN:VEVENT
DTSTAMP:20260425T135740Z
DTSTART;VALUE=DATE:20110912
SUMMARY:ISWCS 2011 Final Version Due
DESCRIPTION:8th International Symposium on Wireless Communication Systems
 
URL:http://www.wikicfp.com/cfp/servlet/event.showcfp?eventid=11779&copyow
 nerid=6475
UID:cfp168974-N@wikicfp.com
END:VEVENT
BEGIN:VEVENT
DTSTAMP:20260425T135740Z
DTSTART;VALUE=DATE:20140131
SUMMARY:IJERTCS 2014 Deadline
DESCRIPTION:Int. J. Embedded and Real-Time Communication Systems
URL:http://www.wikicfp.com/cfp/servlet/event.showcfp?eventid=4905&copyown
 erid=6475
UID:cfp49262-D@wikicfp.com
END:VEVENT
BEGIN:VEVENT
DTSTAMP:20260425T135740Z
DTSTART;VALUE=DATE:20140220
SUMMARY:IJERTCS 2014 Notification Due
DESCRIPTION:Int. J. Embedded and Real-Time Communication Systems
URL:http://www.wikicfp.com/cfp/servlet/event.showcfp?eventid=4905&copyown
 erid=6475
UID:cfp49262-N@wikicfp.com
END:VEVENT
BEGIN:VEVENT
DTSTAMP:20260425T135740Z
DTSTART;VALUE=DATE:20140315
SUMMARY:IJERTCS 2014 Final Version Due
DESCRIPTION:Int. J. Embedded and Real-Time Communication Systems
URL:http://www.wikicfp.com/cfp/servlet/event.showcfp?eventid=4905&copyown
 erid=6475
UID:cfp49262-N@wikicfp.com
END:VEVENT
END:VCALENDAR
